{"text_format":"1","workbook":"xlsx","n_sheets":8,"sheets":["INGRESO DE DATOS","Global Ultimate Health  Plan","Global Elite Health  Plan","Global Premier Health  Plan","Global Select Health  Plan","Global Major Medical Health  Pl","Resumen tarifas","Tablas"],"not_rendered":{"charts":0,"images":8,"macros":1,"external_links":0,"defined_names":6,"comments":1,"pivot_tables":0},"unopened":[],"bounds":{"document_bytes":16777216,"sheet_cells":100000,"rows_first":2000,"rows_last":500,"rows_between":2000,"halvings":0,"cell_chars":16384,"cell_head_chars":4096},"cells_cut":0,"cells_raw":0,"read":"whole","date_system":"1900"}

{"sheet":"INGRESO DE DATOS","index":0,"n_rows":30,"n_cols":8,"rows_kept":30,"cut":false,"hidden":false,"merged":[[20,3,20,7],[26,1,28,1],[26,3,28,3],[9,0,9,12],[18,5,18,6],[14,1,14,2],[16,1,16,2],[14,3,14,7],[16,5,16,6],[18,1,18,2]]}
[]
[]
[]
[]
[]
[]
[]
[]
[]
[]
[]
[]
["LLENE LA INFORMACIÓN DEL ASEGURADO PROPUESTO:"]
[]
[null,"Nombre del Asegurado Titular",null,"JOHN DOE"]
[]
[null,"Número de adultos en la póliza",null,2,null,"Número de niños en la póliza",null,2]
[]
[null,"Edad del Asegurado Titular",null,32,null,"Edad del/la cónyuge ",null,46]
[]
[null,null,"Cotizador por","NOMBRE DEL AGENTE"]
[]
[]
[]
["SELECCIONE EL PRODUCTO PARA VER LA COTIZACIÓN CORRESPONDIENTE: "]
[]
[null,"Número de niños menores de 16 años: (Incluir en ésta casilla solo la cantidad de niños cuya edad sea menor de 16 años)",null,"Número de niños menores de 10 años: (Incluir en ésta casilla solo la cantidad de niños cuya edad sea menor de 10 años)"]
[]
[]
[null,1,null,1]

{"sheet":"Global Ultimate Health  Plan","index":1,"n_rows":81,"n_cols":10,"rows_kept":81,"cut":false,"hidden":false,"merged":[[53,4,53,5],[60,4,60,5],[54,4,54,5],[104,0,104,1],[72,0,73,1],[90,0,90,1],[77,0,77,1],[80,4,82,7],[79,4,79,7],[36,0,36,1],[26,4,26,7],[35,4,35,5],[76,4,76,5],[37,4,37,7],[49,4,49,7],[64,4,64,7],[41,0,41,1],[57,0,57,1],[61,0,61,1],[68,4,68,5],[69,4,69,5],[75,4,75,5],[42,0,43,0],[42,1,43,1],[47,4,47,5],[14,3,14,4],[14,5,14,8],[21,0,21,1],[20,3,20,4],[12,3,12,4],[12,5,12,8],[16,3,16,4],[18,3,18,4],[12,0,12,1]]}
[]
[null,null,null,null,null,null,null," "," "," "]
[]
[]
[]
[]
[]
[]
[]
[]
[]
[]
["Global Ultimate Health Plan",null,null,"Nombre del Asegurado Titular:",null,{"$f":"+'INGRESO DE DATOS'!$D$15","v":"JOHN DOE"}]
[]
[null,null,null,"Cotizado por:",null,{"$f":"+'INGRESO DE DATOS'!$D$21","v":"NOMBRE DEL AGENTE"}]
[]
[null,null,null,"Número de adultos en la póliza:",null,{"$f":"+'INGRESO DE DATOS'!$D$17","v":2},null,"Edad del Asegurado Titular:",{"$f":"+'INGRESO DE DATOS'!$D$19","v":32}]
[]
[null,null,null,"Número de niños en la póliza:",null,{"$f":"+'INGRESO DE DATOS'!$H$17","v":2},null,"Edad del/la conyuge:",{"$f":"+'INGRESO DE DATOS'!$H$19","v":46}]
[null,null,null,null,null,null,null," "," "]
[null,null,null,"Número de niños menores de 16 años:",null,{"$f":"+'INGRESO DE DATOS'!$B$30","v":1},null,"Fecha de la cotización:",{"$f":"NOW()","v":"2022-12-06T15:06:59.900"}]
[null,null,null,null,null,null," ",false,null," "]
[null,null,null,null,"Deducibles",null,"PLAN 1","PLAN 2"]
[null,null,null,null,"En el país de residencia",null,0,1000]
[null,null,null,null,"Fuera del país de residencia",null,0,1000]
[]
[null,null,null,null,"Tarifas Anuales"]
[null,null,null,null,"Prima para Asegurado Titular",null,{"$f":"(VLOOKUP($I$17,Tablas!$A$905:$G$971,3,TRUE))*1.1494","v":31737.232799999998},{"$f":"(VLOOKUP($I$17,Tablas!$A$905:$G$971,4,TRUE))*1.1494","v":20480.0092}]
[null,null,null,null,"Prima para conyuge",null,{"$f":"(IF($F$17=1,0,(VLOOKUP($I$19,Tablas!$A$905:$G$971,3,TRUE))))*1.1494","v":46019.677199999998},{"$f":"(IF($F$17=1,0,(VLOOKUP($I$19,Tablas!$A$905:$G$971,4,TRUE))))*1.1494","v":29692.450199999999}]
[null,null,null,null,"Prima para hijo (s)",null,{"$f":"((IF(('INGRESO DE DATOS'!H17-'INGRESO DE DATOS'!B30)<=0,0,IF(('INGRESO DE DATOS'!H17-'INGRESO DE DATOS'!B30)=Tablas!A972,Tablas!C972,IF(('INGRESO DE DATOS'!H17-'INGRESO DE DATOS'!B30)=Tablas!A973,Tablas!C973,Tablas!C974))))*1.1494)","v":11158.3752},{"$f":"((IF(('INGRESO DE DATOS'!H17 - 'INGRESO DE DATOS'!B30)<=0,0,IF(('INGRESO DE DATOS'!H17 - 'INGRESO DE DATOS'!B30)=Tablas!A972,Tablas!D972,IF(('INGRESO DE DATOS'!H17 - 'INGRESO DE DATOS'!B30)=Tablas!A973,Tablas!D973,Tablas!D974))))*1.1494)","v":7202.1404000000002}]
[null,null,null,null,"Total de Prima neta",null,{"$f":"(SUM(G28:G30))","v":88915.285199999998},{"$f":"(SUM(H28:H30))","v":57374.599799999996}]
[null,null,null,null,"Costo administrativo anual",null,86,86]
[null,null,null,null,"Impuesto (14.49%)",null,{"$f":"(G32)*0%","v":0},{"$f":"(H32)*0%","v":0}]
[]
[null,null,null,null,"TOTAL ANUAL",null,{"$f":"SUM(G31:G33)","v":89001.285199999998},{"$f":"SUM(H31:H33)","v":57460.599799999996}]
[null,null,null,null,"Ahorros en tarifas de prima para niños",null,{"$f":"(IF(('INGRESO DE DATOS'!H17 - 'INGRESO DE DATOS'!B30) < 0, NA(), (IF('INGRESO DE DATOS'!H17<=0,0,IF('INGRESO DE DATOS'!H17=Tablas!A972,Tablas!C972,IF('INGRESO DE DATOS'!H17=Tablas!A973,Tablas!C973,Tablas!C974))) - IF(('INGRESO DE DATOS'!H17 - 'INGRESO DE DATOS'!B30)<=0,0,IF(('INGRESO DE DATOS'!H17 - 'INGRESO DE DATOS'!B30)=Tablas!A972,Tablas!C972,IF(('INGRESO DE DATOS'!H17 - 'INGRESO DE DATOS'!B30)=Tablas!A973,Tablas!C973,Tablas!C974))))))*1.1494","v":7810.1729999999998},{"$f":"(IF(('INGRESO DE DATOS'!H17 - 'INGRESO DE DATOS'!B30) < 0, NA(), (IF('INGRESO DE DATOS'!H17<=0,0,IF('INGRESO DE DATOS'!H17=Tablas!A972,Tablas!D972,IF('INGRESO DE DATOS'!H17=Tablas!A973,Tablas!D973,Tablas!D974))) - IF(('INGRESO DE DATOS'!H17 - 'INGRESO DE DATOS'!B30)<=0,0,IF(('INGRESO DE DATOS'!H17 - 'INGRESO DE DATOS'!B30)=Tablas!A972,Tablas!D972,IF(('INGRESO DE DATOS'!H17 - 'INGRESO DE DATOS'!B30)=Tablas!A973,Tablas!D973,Tablas!D974))))))*1.1494","v":5037.8202000000001}]
[]
[null,null,null,null,"Tarifas Semianuales"]
[null,null,null,null,"Prima para Asegurado Titular",null,{"$f":"(VLOOKUP($I$17,Tablas!$A$1428:$G$1494,3,TRUE))*1.1494","v":16820.733383999999},{"$f":"(VLOOKUP($I$17,Tablas!$A$1428:$G$1494,4,TRUE))*1.1494","v":10854.404876000001}]
[null,null,null,null,"Prima para conyuge",null,{"$f":"(IF($F$17=1,0,(VLOOKUP($I$19,Tablas!$A$1428:$G$1494,3,TRUE))))*1.1494","v":24390.428915999997},{"$f":"(IF($F$17=1,0,(VLOOKUP($I$19,Tablas!$A$1428:$G$1494,4,TRUE))))*1.1494","v":15736.998605999999}]
[null,null,null,null,"Prima para hijo (s)",null,{"$f":"G30*Tablas!K4","v":5913.9388560000007},{"$f":"H30*Tablas!K4","v":3817.1344120000003}]
[null,null,null,null,"Total de Prima neta",null,{"$f":"(SUM(G39:G41))","v":47125.101155999997},{"$f":"(SUM(H39:H41))","v":30408.537894000001}]
[null,null,null,null,"Costo administrativo annual",null,86,86]
[null,null,null,null,"Impuesto (14.49%)",null,{"$f":"(G43)*0%","v":0},{"$f":"(H43)*0%","v":0}]
[null,null,null,null,"TOTAL de primera cuota",null,{"$f":"SUM(G42:G44)","v":47211.101155999997},{"$f":"SUM(H42:H44)","v":30494.537894000001}]
[null,null,null,null,"Costo de segunda cuota",null,{"$f":"G42+G44","v":47125.101155999997},{"$f":"H42+H44","v":30408.537894000001}]
[null,null,null,null,"TOTAL ANUAL",null,{"$f":"G45+G46","v":94336.202311999994},{"$f":"H45+H46","v":60903.075788000002}]
[null,null,null,null,"Ahorros en tarifas de prima para niños",null,{"$f":"G36*Tablas!K4*2","v":8278.7833800000008},{"$f":"H36*Tablas!K4*2","v":5340.0894120000003}]
[]
[null,null,null,null,"Tarifas Trimestrales"]
[null,null,null,null,"Prima para Asegurado Titular",null,{"$f":"(VLOOKUP($I$17,Tablas!$A$1054:$G$1120,3,TRUE))*1.1494","v":8727.7390200000009},{"$f":"(VLOOKUP($I$17,Tablas!$A$1054:$G$1120,4,TRUE))*1.1494","v":5632.0025300000007}]
[null,null,null,null,"Prima para conyuge",null,{"$f":"(IF($F$17=1,0,(VLOOKUP($I$19,Tablas!$A$1054:$G$1120,3,TRUE))))*1.1494","v":12655.41123},{"$f":"(IF($F$17=1,0,(VLOOKUP($I$19,Tablas!$A$1054:$G$1120,4,TRUE))))*1.1494","v":8165.4238050000004}]
[null,null,null,null,"Prima para hijo (s)",null,{"$f":"G30*Tablas!K3","v":3068.5531800000003},{"$f":"H30*Tablas!K3","v":1980.5886100000002}]
[null,null,null,null,"Total de Prima neta",null,{"$f":"(SUM(G51:G53))","v":24451.703429999998},{"$f":"(SUM(H51:H53))","v":15778.014945000001}]
[null,null,null,null,"Costo administrativo annual",null,86,86]
[null,null,null,null,"Impuesto (14.49%)",null,{"$f":"(G55)*0%","v":0},{"$f":"(H55)*0%","v":0}]
[]
[null,null,null,null,"TOTAL de primera cuota",null,{"$f":"SUM(G54:G56)","v":24537.703429999998},{"$f":"SUM(H54:H56)","v":15864.014945000001}]
[null,null,null,null,"Tres (3) cuotas adicionales, cada una de:",null,{"$f":"G54+G56","v":24451.703429999998},{"$f":"H54+H56","v":15778.014945000001}]
[null,null,null,null,"TOTAL ANUAL",null,{"$f":"G58+(G59*3)","v":97892.813719999991},{"$f":"H58+(H59*3)","v":63198.059780000003}]
[null,null,null,null,"Ahorros en tarifas de prima para niños",null,{"$f":"G36*Tablas!K3*4","v":8591.1903000000002},{"$f":"H36*Tablas!K3*4","v":5541.6022200000007}]
[]
[]
[]
[null,null,null,null,"Tarifas Mensuales"]
[null,null,null,null,"Prima para Asegurado Titular",null,{"$f":"(VLOOKUP($I$17,Tablas!$A$979:$G$1045,3,TRUE))*1.1494","v":2962.1417279999996},{"$f":"(VLOOKUP($I$17,Tablas!$A$979:$G$1045,4,TRUE))*1.1494","v":1911.4675253333332}]
[null,null,null,null,"Prima para conyuge",null,{"$f":"(IF($F$17=1,0,(VLOOKUP($I$19,Tablas!$A$979:$G$1045,3,TRUE))))*1.1494","v":4295.1698720000004},{"$f":"(IF($F$17=1,0,(VLOOKUP($I$19,Tablas!$A$979:$G$1045,4,TRUE))))*1.1494","v":2771.2953519999996}]
[null,null,null,null,"Prima para hijo (s)",null,{"$f":"G30*Tablas!K2","v":1041.4483520000001},{"$f":"H30*Tablas!K2","v":672.19977066666672}]
[null,null,null,null,"Total de Prima neta",null,{"$f":"(SUM(G66:G68))","v":8298.7599520000003},{"$f":"(SUM(H66:H68))","v":5354.9626479999997}]
[null,null,null,null,"Costo administrativo anual",null,86,86]
[null,null,null,null,"Impuesto (14.49%)",null,{"$f":"(G70)*0%","v":0},{"$f":"(H70)*0%","v":0}]
[]
[null,null,null,null,"TOTAL de primera cuota",null,{"$f":"SUM(G69:G71)","v":8384.7599520000003},{"$f":"SUM(H69:H71)","v":5440.9626479999997}]
[null,null,null,null,"Once (11) cuotas mensuales cada una de:",null,{"$f":"G69+G71","v":8298.7599520000003},{"$f":"H69+H71","v":5354.9626479999997}]
[null,null,null,null,"TOTAL ANUAL",null,{"$f":"G73+(G74*11)","v":99671.119424000004},{"$f":"H73+(H74*11)","v":64345.551776}]
[null,null,null,null,"Ahorros en tarifas de prima para niños",null,{"$f":"(IF($F$17=1,IF($F$19=0,0,IF($F$21=0,0,IF($F$21=1,(VLOOKUP(1,Tablas!$A$1046:$G$1048,3,TRUE)),(VLOOKUP(2,Tablas!$A$1046:$G$1048,3,TRUE))))),\nIF($F$19=0,0,IF($F$21=0,0,IF($F$21=1,(VLOOKUP(1,Tablas!$A$1046:$G$1048,4,TRUE)),IF($F$21=2,(VLOOKUP(2,Tablas!$A$1046:$G$1048,4,TRUE)), (VLOOKUP(3,Tablas!$A$1046:$G$1048,4,TRUE))))))))*1.1494","v":672.19977066666672},{"$f":"(IF($F$17=1,IF($F$19=0,0,IF($F$21=0,0,IF($F$21=1,(VLOOKUP(1,Tablas!$A$1046:$G$1048,4,TRUE)),(VLOOKUP(2,Tablas!$A$1046:$G$1048,4,TRUE))))),\nIF($F$19=0,0,IF($F$21=0,0,IF($F$21=1,(VLOOKUP(1,Tablas!$A$1046:$G$1048,4,TRUE)),IF($F$21=2,(VLOOKUP(2,Tablas!$A$1046:$G$1048,4,TRUE)), (VLOOKUP(3,Tablas!$A$1046:$G$1048,4,TRUE))))))))*1.1494","v":672.19977066666672}]
[null,null,null,null,"Ahorros en tarifas de prima para niños",null,{"$f":"G36*Tablas!K2*12","v":8747.393759999999},{"$f":"H36*Tablas!K2*12","v":5642.3586240000004}]
[]
[]
[null,null,null,null,"Tarifas en US$ -  Efectivas a partir del 1ro. de Enero de 2023"]
[null,null,null,null,"Este presupuesto solamente tiene carácter informativo y en ningún momento expresa compromiso legal para suministrarle cobertura de seguro. La emisión de una póliza de seguro Bupa está sujeta a todas las evaluaciones de riesgo por parte de Bupa y a la recepción de todos los pagos de prima requeridos."]

{"sheet":"Global Elite Health  Plan","index":2,"n_rows":79,"n_cols":11,"rows_kept":79,"cut":false,"hidden":false,"merged":[[12,0,12,1],[13,0,13,1],[14,0,14,1],[78,0,78,1],[88,0,88,1],[41,0,41,1],[58,0,58,1],[21,0,21,1],[36,0,36,1],[62,0,62,1],[74,0,74,1],[78,4,79,10],[77,4,77,10],[37,4,37,10],[49,4,49,10],[20,3,20,4],[68,4,68,5],[67,4,67,5],[74,4,74,5],[63,4,63,10],[26,4,26,10],[35,4,35,5],[47,4,47,5],[60,4,60,5],[53,4,53,5],[54,4,54,5],[18,3,18,4],[12,5,12,8],[12,3,12,4],[16,3,16,4],[14,5,14,8]]}
[]
[null,null,null,null,null,null,null," "," "," "]
[]
[]
[]
[]
[]
[]
[]
[]
[]
[]
["Bupa Global Elite Health Plan",null,null,"Nombre del Asegurado Titular:",null,{"$f":"+'INGRESO DE DATOS'!$D$15","v":"JOHN DOE"}]
[]
[null,null,null,null,"Cotizado por:",{"$f":"+'INGRESO DE DATOS'!$D$21","v":"NOMBRE DEL AGENTE"}]
[]
[null,null,null,"Número de adultos en la póliza:",null,{"$f":"+'INGRESO DE DATOS'!$D$17","v":2},null,"Edad del Asegurado Titular:",{"$f":"+'INGRESO DE DATOS'!$D$19","v":32}]
[]
[null,null,null,"Número de niños en la póliza:",null,{"$f":"+'INGRESO DE DATOS'!$H$17","v":2},null,"Edad del/la conyuge:",{"$f":"+'INGRESO DE DATOS'!$H$19","v":46}]
[null,null,null,null,null,null,null," "," "]
[null,null,null,"Número de niños menores de 10 años:",null,{"$f":"+'INGRESO DE DATOS'!$D$30","v":1},null,"Fecha de la cotización :",{"$f":"NOW()","v":"2022-12-06T15:06:59.900"}]
[null,null,null,null,null,null," ",false,null," "]
[null,null,null,null,"Deducibles",null,"PLAN 1","PLAN 2","PLAN 3","PLAN 4","PLAN 5"]
[null,null,null,null,"En el país de residencia",null,250,2000,3500,5000,10000]
[null,null,null,null,"Fuera del país de residencia",null,5000,2000,3500,5000,10000]
[]
[null,null,null,null,"Tarifas Anuales"]
[null,null,null,null,"Prima para Asegurado Titular",null,{"$f":"(VLOOKUP($I$17,Tablas!$A$6:$G$72,3,TRUE))*1.1494","v":11552.90675},{"$f":"(VLOOKUP($I$17,Tablas!$A$6:$G$72,4,TRUE))*1.1494","v":10126.50135},{"$f":"(VLOOKUP($I$17,Tablas!$A$6:$G$72,5,TRUE))*1.1494","v":8298.5530600000002},{"$f":"(VLOOKUP($I$17,Tablas!$A$6:$G$72,6,TRUE))*1.1494","v":7194.5543599999992},{"$f":"(VLOOKUP($I$17,Tablas!$A$6:$G$72,7,TRUE))*1.1494","v":5479.9369099999994}]
[null,null,null,null,"Prima para conyuge",null,{"$f":"(IF($F$17=1,0,(VLOOKUP($I$19,Tablas!$A$6:$G$72,3,TRUE))))*1.1494","v":16704.57502},{"$f":"(IF($F$17=1,0,(VLOOKUP($I$19,Tablas!$A$6:$G$72,4,TRUE))))*1.1494","v":14640.19515},{"$f":"(IF($F$17=1,0,(VLOOKUP($I$19,Tablas!$A$6:$G$72,5,TRUE))))*1.1494","v":11838.187829999999},{"$f":"(IF($F$17=1,0,(VLOOKUP($I$19,Tablas!$A$6:$G$72,6,TRUE))))*1.1494","v":10264.256940000001},{"$f":"(IF($F$17=1,0,(VLOOKUP($I$19,Tablas!$A$6:$G$72,7,TRUE))))*1.1494","v":7817.8739799999994}]
[null,null,null,null,"Prima para hijo (s)",null,{"$f":"((IF(('INGRESO DE DATOS'!$H$17 - 'INGRESO DE DATOS'!$D$30)<=0,0,IF(('INGRESO DE DATOS'!$H$17 - 'INGRESO DE DATOS'!$D$30)=Tablas!$A$73,Tablas!C73,IF(('INGRESO DE DATOS'!$H$17 - 'INGRESO DE DATOS'!$D$30)=Tablas!$A$74,Tablas!C74,Tablas!C75))))*1.1494)","v":4111.1739199999993},{"$f":"((IF(('INGRESO DE DATOS'!$H$17 - 'INGRESO DE DATOS'!$D$30)<=0,0,IF(('INGRESO DE DATOS'!$H$17 - 'INGRESO DE DATOS'!$D$30)=Tablas!$A$73,Tablas!D73,IF(('INGRESO DE DATOS'!$H$17 - 'INGRESO DE DATOS'!$D$30)=Tablas!$A$74,Tablas!D74,Tablas!D75))))*1.1494)","v":3603.1391199999998},{"$f":"((IF(('INGRESO DE DATOS'!$H$17 - 'INGRESO DE DATOS'!$D$30)<=0,0,IF(('INGRESO DE DATOS'!$H$17 - 'INGRESO DE DATOS'!$D$30)=Tablas!$A$73,Tablas!E73,IF(('INGRESO DE DATOS'!$H$17 - 'INGRESO DE DATOS'!$D$30)=Tablas!$A$74,Tablas!E74,Tablas!E75))))*1.1494)","v":3013.0371599999999},{"$f":"((IF(('INGRESO DE DATOS'!$H$17 - 'INGRESO DE DATOS'!$D$30)<=0,0,IF(('INGRESO DE DATOS'!$H$17 - 'INGRESO DE DATOS'!$D$30)=Tablas!$A$73,Tablas!F73,IF(('INGRESO DE DATOS'!$H$17 - 'INGRESO DE DATOS'!$D$30)=Tablas!$A$74,Tablas!F74,Tablas!F75))))*1.1494)","v":2613.4482499999999},{"$f":"((IF(('INGRESO DE DATOS'!$H$17 - 'INGRESO DE DATOS'!$D$30)<=0,0,IF(('INGRESO DE DATOS'!$H$17 - 'INGRESO DE DATOS'!$D$30)=Tablas!$A$73,Tablas!G73,IF(('INGRESO DE DATOS'!$H$17 - 'INGRESO DE DATOS'!$D$30)=Tablas!$A$74,Tablas!G74,Tablas!G75))))*1.1494)","v":1991.1056199999998}]
[null,null,null,null,"Total de Prima neta",null,{"$f":"(SUM(G28:G30))","v":32368.65569},{"$f":"(SUM(H28:H30))","v":28369.835619999998},{"$f":"(SUM(I28:I30))","v":23149.778050000001},{"$f":"(SUM(J28:J30))","v":20072.259550000002},{"$f":"(SUM(K28:K30))","v":15288.916509999999}]
[null,null,null,null,"Costo Administrativo Anual",null,86,86,86,86,86]
[null,null,null,null,"IVA (14.49%)",null,{"$f":"(G32)*0%","v":0},{"$f":"(H32)*0%","v":0},{"$f":"(I32)*0%","v":0},{"$f":"(J32)*0%","v":0},{"$f":"(K32)*0%","v":0}]
[]
[null,null,null,null,"TOTAL ANUAL",null,{"$f":"SUM(G31:G33)","v":32454.65569},{"$f":"SUM(H31:H33)","v":28455.835619999998},{"$f":"SUM(I31:I33)","v":23235.778050000001},{"$f":"SUM(J31:J33)","v":20158.259550000002},{"$f":"SUM(K31:K33)","v":15374.916509999999}]
[null,null,null,null,"Ahorros en tarifas de prima para niños",null,{"$f":"(IF(('INGRESO DE DATOS'!$H$17 - 'INGRESO DE DATOS'!$D$30) < 0, NA(), (IF('INGRESO DE DATOS'!$H$17<=0,0,IF('INGRESO DE DATOS'!$H$17=Tablas!$A$73,Tablas!C73,IF('INGRESO DE DATOS'!$H$17=Tablas!$A$74,Tablas!C74,Tablas!C75))) - IF(('INGRESO DE DATOS'!$H$17 - 'INGRESO DE DATOS'!$D$30)<=0,0,IF(('INGRESO DE DATOS'!$H$17 - 'INGRESO DE DATOS'!$D$30)=Tablas!$A$73,Tablas!C73,IF(('INGRESO DE DATOS'!$H$17 - 'INGRESO DE DATOS'!$D$30)=Tablas!$A$74,Tablas!C74,Tablas!C75))))))*1.1494","v":2873.3275899999999},{"$f":"(IF(('INGRESO DE DATOS'!$H$17 - 'INGRESO DE DATOS'!$D$30) < 0, NA(), (IF('INGRESO DE DATOS'!$H$17<=0,0,IF('INGRESO DE DATOS'!$H$17=Tablas!$A$73,Tablas!D73,IF('INGRESO DE DATOS'!$H$17=Tablas!$A$74,Tablas!D74,Tablas!D75))) - IF(('INGRESO DE DATOS'!$H$17 - 'INGRESO DE DATOS'!$D$30)<=0,0,IF(('INGRESO DE DATOS'!$H$17 - 'INGRESO DE DATOS'!$D$30)=Tablas!$A$73,Tablas!D73,IF(('INGRESO DE DATOS'!$H$17 - 'INGRESO DE DATOS'!$D$30)=Tablas!$A$74,Tablas!D74,Tablas!D75))))))*1.1494","v":2520.6342000000004},{"$f":"(IF(('INGRESO DE DATOS'!$H$17 - 'INGRESO DE DATOS'!$D$30) < 0, NA(), (IF('INGRESO DE DATOS'!$H$17<=0,0,IF('INGRESO DE DATOS'!$H$17=Tablas!$A$73,Tablas!E73,IF('INGRESO DE DATOS'!$H$17=Tablas!$A$74,Tablas!E74,Tablas!E75))) - IF(('INGRESO DE DATOS'!$H$17 - 'INGRESO DE DATOS'!$D$30)<=0,0,IF(('INGRESO DE DATOS'!$H$17 - 'INGRESO DE DATOS'!$D$30)=Tablas!$A$73,Tablas!E73,IF(('INGRESO DE DATOS'!$H$17 - 'INGRESO DE DATOS'!$D$30)=Tablas!$A$74,Tablas!E74,Tablas!E75))))))*1.1494","v":2108.3444199999994},{"$f":"(IF(('INGRESO DE DATOS'!$H$17 - 'INGRESO DE DATOS'!$D$30) < 0, NA(), (IF('INGRESO DE DATOS'!$H$17<=0,0,IF('INGRESO DE DATOS'!$H$17=Tablas!$A$73,Tablas!F73,IF('INGRESO DE DATOS'!$H$17=Tablas!$A$74,Tablas!F74,Tablas!F75))) - IF(('INGRESO DE DATOS'!$H$17 - 'INGRESO DE DATOS'!$D$30)<=0,0,IF(('INGRESO DE DATOS'!$H$17 - 'INGRESO DE DATOS'!$D$30)=Tablas!$A$73,Tablas!F73,IF(('INGRESO DE DATOS'!$H$17 - 'INGRESO DE DATOS'!$D$30)=Tablas!$A$74,Tablas!F74,Tablas!F75))))))*1.1494","v":1828.9252799999997},{"$f":"(IF(('INGRESO DE DATOS'!$H$17 - 'INGRESO DE DATOS'!$D$30) < 0, NA(), (IF('INGRESO DE DATOS'!$H$17<=0,0,IF('INGRESO DE DATOS'!$H$17=Tablas!$A$73,Tablas!G73,IF('INGRESO DE DATOS'!$H$17=Tablas!$A$74,Tablas!G74,Tablas!G75))) - IF(('INGRESO DE DATOS'!$H$17 - 'INGRESO DE DATOS'!$D$30)<=0,0,IF(('INGRESO DE DATOS'!$H$17 - 'INGRESO DE DATOS'!$D$30)=Tablas!$A$73,Tablas!G73,IF(('INGRESO DE DATOS'!$H$17 - 'INGRESO DE DATOS'!$D$30)=Tablas!$A$74,Tablas!G74,Tablas!G75))))))*1.1494","v":1393.1877400000001}]
[]
[null,null,null,null,"Tarifas Semianuales"]
[null,null,null,null,"Prima para Asegurado Titular",null,{"$f":"(VLOOKUP($I$17,Tablas!$A$455:$G$521,3,TRUE))*1.1494","v":6123.0405774999999},{"$f":"(VLOOKUP($I$17,Tablas!$A$455:$G$521,4,TRUE))*1.1494","v":5367.0457154999995},{"$f":"(VLOOKUP($I$17,Tablas!$A$455:$G$521,5,TRUE))*1.1494","v":4398.2331217999999},{"$f":"(VLOOKUP($I$17,Tablas!$A$455:$G$521,6,TRUE))*1.1494","v":3813.1138108},{"$f":"(VLOOKUP($I$17,Tablas!$A$455:$G$521,7,TRUE))*1.1494","v":2904.3665622999997}]
[null,null,null,null,"Prima para conyuge",null,{"$f":"(IF($F$17=1,0,(VLOOKUP($I$19,Tablas!$A$455:$G$521,3,TRUE))))*1.1494","v":8853.4247606000008},{"$f":"(IF($F$17=1,0,(VLOOKUP($I$19,Tablas!$A$455:$G$521,4,TRUE))))*1.1494","v":7759.3034294999998},{"$f":"(IF($F$17=1,0,(VLOOKUP($I$19,Tablas!$A$455:$G$521,5,TRUE))))*1.1494","v":6274.2395498999995},{"$f":"(IF($F$17=1,0,(VLOOKUP($I$19,Tablas!$A$455:$G$521,6,TRUE))))*1.1494","v":5440.0561782000004},{"$f":"(IF($F$17=1,0,(VLOOKUP($I$19,Tablas!$A$455:$G$521,7,TRUE))))*1.1494","v":4143.4732094000001}]
[null,null,null,null,"Prima para hijo (s)",null,{"$f":"(G30)*Tablas!$K$4","v":2178.9221775999999},{"$f":"H30*Tablas!$K$4","v":1909.6637336000001},{"$f":"I30*Tablas!$K$4","v":1596.9096947999999},{"$f":"J30*Tablas!$K$4","v":1385.1275725},{"$f":"K30*Tablas!$K$4","v":1055.2859785999999}]
[null,null,null,null,"Total de Prima neta",null,{"$f":"(SUM(G39:G41))","v":17155.3875157},{"$f":"(SUM(H39:H41))","v":15036.0128786},{"$f":"(SUM(I39:I41))","v":12269.3823665},{"$f":"(SUM(J39:J41))","v":10638.2975615},{"$f":"(SUM(K39:K41))","v":8103.1257502999997}]
[null,null,null,null,"Costo Administrativo Anual",null,86,86,86,86,86]
[null,null,null,null,"IVA (14.49%)",null,{"$f":"(G43)*0%","v":0},{"$f":"(H43)*0%","v":0},{"$f":"(I43)*0%","v":0},{"$f":"(J43)*0%","v":0},{"$f":"(K43)*0%","v":0}]
[null,null,null,null,"TOTAL de primera cuota",null,{"$f":"SUM(G42:G44)","v":17241.3875157},{"$f":"SUM(H42:H44)","v":15122.0128786},{"$f":"SUM(I42:I44)","v":12355.3823665},{"$f":"SUM(J42:J44)","v":10724.2975615},{"$f":"SUM(K42:K44)","v":8189.1257502999997}]
[null,null,null,null,"Costo de segunda cuota",null,{"$f":"G42+G44","v":17155.3875157},{"$f":"H42+H44","v":15036.0128786},{"$f":"I42+I44","v":12269.3823665},{"$f":"J42+J44","v":10638.2975615},{"$f":"K42+K44","v":8103.1257502999997}]
[null,null,null,null,"TOTAL ANUAL",null,{"$f":"G45+G46","v":34396.7750314},{"$f":"H45+H46","v":30158.025757200001},24624.764733,{"$f":"J45+J46","v":21362.595122999999},16292.251500599999]
[null,null,null,null,"Ahorros en tarifas de prima para niños",null,{"$f":"G36*Tablas!$K$4*2","v":3045.7272453999999},{"$f":"H36*Tablas!$K$4*2","v":2671.8722520000006},{"$f":"I36*Tablas!$K$4*2","v":2234.8450851999996},{"$f":"J36*Tablas!$K$4*2","v":1938.6607967999998},{"$f":"K36*Tablas!$K$4*2","v":1476.7790044000001}]
[]
[null,null,null,null,"Tarifas Trimestrales"]
[null,null,null,null,"Prima para Asegurado Titular",null,{"$f":"(VLOOKUP($I$17,Tablas!$A$680:$G$746,3,TRUE))*1.1494","v":3177.0493562500001},{"$f":"(VLOOKUP($I$17,Tablas!$A$680:$G$746,4,TRUE))*1.1494","v":2784.7878712500005},{"$f":"(VLOOKUP($I$17,Tablas!$A$680:$G$746,5,TRUE))*1.1494","v":2282.1020914999999},{"$f":"(VLOOKUP($I$17,Tablas!$A$680:$G$746,6,TRUE))*1.1494","v":1978.5024490000001},{"$f":"(VLOOKUP($I$17,Tablas!$A$680:$G$746,7,TRUE))*1.1494","v":1506.98265025}]
[null,null,null,null,"Prima para conyuge",null,{"$f":"(IF($F$17=1,0,(VLOOKUP($I$19,Tablas!$A$680:$G$746,3,TRUE))))*1.1494","v":4593.7581305000003},{"$f":"(IF($F$17=1,0,(VLOOKUP($I$19,Tablas!$A$680:$G$746,4,TRUE))))*1.1494","v":4026.0536662499999},{"$f":"(IF($F$17=1,0,(VLOOKUP($I$19,Tablas!$A$680:$G$746,5,TRUE))))*1.1494","v":3255.5016532499999},{"$f":"(IF($F$17=1,0,(VLOOKUP($I$19,Tablas!$A$680:$G$746,6,TRUE))))*1.1494","v":2822.6706585000002},{"$f":"(IF($F$17=1,0,(VLOOKUP($I$19,Tablas!$A$680:$G$746,7,TRUE))))*1.1494","v":2149.9153445000002}]
[null,null,null,null,"Prima para hijo (s)",null,{"$f":"G30*Tablas!$K$3","v":1130.5728279999998},{"$f":"H30*Tablas!$K$3","v":990.86325800000009},{"$f":"I30*Tablas!$K$3","v":828.58521900000005},{"$f":"J30*Tablas!$K$3","v":718.69826875000001},{"$f":"K30*Tablas!$K$3","v":547.55404550000003}]
[null,null,null,null,"Total de Prima neta",null,{"$f":"(SUM(G51:G53))","v":8901.3803147500003},{"$f":"(SUM(H51:H53))","v":7801.7047955000007},{"$f":"(SUM(I51:I53))","v":6366.1889637500008},{"$f":"(SUM(J51:J53))","v":5519.871376250001},{"$f":"(SUM(K51:K53))","v":4204.4520402500002}]
[null,null,null,null,"Costo Administrativo Anual",null,86,86,86,86,86]
[null,null,null,null,"IVA (14.49%)",null,{"$f":"(G55)*0%","v":0},{"$f":"(H55)*0%","v":0},{"$f":"(I55)*0%","v":0},{"$f":"(J55)*0%","v":0},{"$f":"(K55)*0%","v":0}]
[]
[null,null,null,null,"TOTAL de primera cuota",null,{"$f":"SUM(G54:G56)","v":8987.3803147500003},{"$f":"SUM(H54:H56)","v":7887.7047955000007},{"$f":"SUM(I54:I56)","v":6452.1889637500008},{"$f":"SUM(J54:J56)","v":5605.871376250001},{"$f":"SUM(K54:K56)","v":4290.4520402500002}]
[null,null,null,null,"Tres (3) cuotas adicionales, cada una de:",null,{"$f":"G54+G56","v":8901.3803147500003},{"$f":"H54+H56","v":7801.7047955000007},{"$f":"I54+I56","v":6366.1889637500008},{"$f":"J54+J56","v":5519.871376250001},{"$f":"K54+K56","v":4204.4520402500002}]
[null,null,null,null,"TOTAL ANUAL",null,{"$f":"G58+(G59*3)","v":35691.521259000001},{"$f":"H58+(H59*3)","v":31292.819182000003},25550.755855000003,{"$f":"J58+(J59*3)","v":22165.485505000004},16903.808161000001]
[null,null,null,null,"Ahorros en tarifas de prima para niños",null,{"$f":"G36*Tablas!$K$3*4","v":3160.6603490000002},{"$f":"H36*Tablas!$K$3*4","v":2772.6976200000008},{"$f":"I36*Tablas!$K$3*4","v":2319.1788619999998},{"$f":"J36*Tablas!$K$3*4","v":2011.8178079999998},{"$f":"K36*Tablas!$K$3*4","v":1532.5065140000002}]
[]
[]
[null,null,null,null,"Tarifas Mensuales"]
[null,null,null,null,"Prima para Asegurado Titular",null,{"$f":"(VLOOKUP($I$17,Tablas!$A$80:$G$146,3,TRUE))*1.1494","v":1078.2712966666666},{"$f":"(VLOOKUP($I$17,Tablas!$A$80:$G$146,4,TRUE))*1.1494","v":945.14012600000012},{"$f":"(VLOOKUP($I$17,Tablas!$A$80:$G$146,5,TRUE))*1.1494","v":774.53161893333333},{"$f":"(VLOOKUP($I$17,Tablas!$A$80:$G$146,6,TRUE))*1.1494","v":671.49174026666662},{"$f":"(VLOOKUP($I$17,Tablas!$A$80:$G$146,7,TRUE))*1.1494","v":511.46077826666664}]
[null,null,null,null,"Prima para conyuge",null,{"$f":"(IF($F$17=1,0,(VLOOKUP($I$19,Tablas!$A$80:$G$146,3,TRUE))))*1.1494","v":1559.0936685333334},{"$f":"(IF($F$17=1,0,(VLOOKUP($I$19,Tablas!$A$80:$G$146,4,TRUE))))*1.1494","v":1366.4182139999998},{"$f":"(IF($F$17=1,0,(VLOOKUP($I$19,Tablas!$A$80:$G$146,5,TRUE))))*1.1494","v":1104.8975307999999},{"$f":"(IF($F$17=1,0,(VLOOKUP($I$19,Tablas!$A$80:$G$146,6,TRUE))))*1.1494","v":957.99731440000016},{"$f":"(IF($F$17=1,0,(VLOOKUP($I$19,Tablas!$A$80:$G$146,7,TRUE))))*1.1494","v":729.66823813333338}]
[null,null,null,null,"Prima para hijo (s)",null,{"$f":"G30*Tablas!$K$2","v":383.70956586666659},{"$f":"H30*Tablas!$K$2","v":336.29298453333331},{"$f":"I30*Tablas!$K$2","v":281.2168016},{"$f":"J30*Tablas!$K$2","v":243.92183666666668},{"$f":"K30*Tablas!$K$2","v":185.83652453333332}]
[null,null,null,null,"Total de Prima neta",null,{"$f":"(SUM(G65:G67))","v":3021.0745310666666},{"$f":"(SUM(H65:H67))","v":2647.8513245333334},{"$f":"(SUM(I65:I67))","v":2160.6459513333334},{"$f":"(SUM(J65:J67))","v":1873.4108913333334},{"$f":"(SUM(K65:K67))","v":1426.9655409333332}]
[null,null,null,null,"Costo Administrativo Anual",null,86,86,86,86,86]
[null,null,null,null,"IVA (14.49%)",null,{"$f":"(G69)*0%","v":0},{"$f":"(H69)*0%","v":0},{"$f":"(I69)*0%","v":0},{"$f":"(J69)*0%","v":0},{"$f":"(K69)*0%","v":0}]
[]
[null,null,null,null,"TOTAL de primera cuota",null,{"$f":"SUM(G68:G70)","v":3107.0745310666666},{"$f":"SUM(H68:H70)","v":2733.8513245333334},{"$f":"SUM(I68:I70)","v":2246.6459513333334},{"$f":"SUM(J68:J70)","v":1959.4108913333334},{"$f":"SUM(K68:K70)","v":1512.9655409333332}]
[null,null,null,null,"Once (11) cuotas mensuales cada una de:",null,{"$f":"G68+G70","v":3021.0745310666666},{"$f":"H68+H70","v":2647.8513245333334},{"$f":"I68+I70","v":2160.6459513333334},{"$f":"J68+J70","v":1873.4108913333334},{"$f":"K68+K70","v":1426.9655409333332}]
[null,null,null,null,"TOTAL ANUAL",null,{"$f":"G72+(G73*11)","v":36338.894372800001},{"$f":"H72+(H73*11)","v":31860.2158944},{"$f":"I72+(I73*11)","v":26013.751415999999},{"$f":"J72+(J73*11)","v":22566.930695999999},{"$f":"K72+(K73*11)","v":17209.586491199996}]
[null,null,null,null,"Ahorros en tarifas de prima para niños",null,{"$f":"G36*Tablas!$K$2*12","v":3218.1269007999999},{"$f":"H36*Tablas!$K$2*12","v":2823.1103040000007},{"$f":"I36*Tablas!$K$2*12","v":2361.3457503999994},{"$f":"J36*Tablas!$K$2*12","v":2048.3963135999998},{"$f":"K36*Tablas!$K$2*12","v":1560.3702688000001}]
[]
[]
[null,null,null,null,"Tarifas en US$ -  Efectivas a partir del 1ro. de Enero de 2023"]
[null,null,null,null,"Este presupuesto solamente tiene carácter informativo y en ningún momento expresa compromiso legal para suministrarle cobertura de seguro. La emisión de una póliza de seguro Bupa está sujeta a todas las evaluaciones de riesgo por parte de Bupa y a la recepción de todos los pagos de prima requeridos."]

{"sheet":"Global Premier Health  Plan","index":3,"n_rows":75,"n_cols":10,"rows_kept":75,"cut":false,"hidden":false,"merged":[[12,0,12,1],[13,0,13,1],[14,0,14,1],[73,4,73,9],[74,4,75,9],[62,0,62,1],[73,0,73,1],[12,5,12,8],[14,5,14,8],[41,0,41,1],[42,1,43,1],[42,0,43,0],[77,0,77,1],[87,0,87,1],[12,3,12,4],[16,3,16,4],[18,3,18,4],[51,4,51,5],[52,4,52,5],[64,4,64,5],[65,4,65,5],[26,4,26,9],[36,4,36,9],[47,4,47,9],[60,4,60,9],[58,0,58,1],[21,0,21,1],[36,0,36,1]]}
[null,null,null,null,null,null,null," "," "," "]
[]
[]
[]
[]
[]
[]
[]
[]
[]
[]
[]
["Global Premier Health Plan",null,null,"Nombre del Asegurado Titular:",null,{"$f":"+'INGRESO DE DATOS'!$D$15","v":"JOHN DOE"}]
[]
[null,null,null,null,"Cotizado por:",{"$f":"+'INGRESO DE DATOS'!$D$21","v":"NOMBRE DEL AGENTE"}]
[]
[null,null,null,"Número de adultos en la póliza:",null,{"$f":"+'INGRESO DE DATOS'!$D$17","v":2},null,"Edad del Asegurado Titular:",{"$f":"+'INGRESO DE DATOS'!$D$19","v":32}]
[]
[null,null,null,"Número de niños en la póliza:",null,{"$f":"+'INGRESO DE DATOS'!$H$17","v":2},null,"Edad del/la conyuge:",{"$f":"+'INGRESO DE DATOS'!$H$19","v":46}]
[null,null,null,null,null,null,null," "," "]
[null,null,null,null,"Fecha de la cotización :",{"$f":"NOW()","v":"2022-12-06T15:06:59.900"}]
[null,null,null,null,null,null," ",false,null," "]
[null,null,null,null,"Deducibles",null,"PLAN 1","PLAN 2","PLAN 3","PLAN 4"]
[null,null,null,null,"En el país de residencia",null,250,2000,5000,10000]
[null,null,null,null,"Fuera del país de residencia",null,5000,2000,5000,10000]
[]
[null,null,null,null,"Tarifas Anuales"]
[null,null,null,null,"Prima para Asegurado Titular",null,{"$f":"(VLOOKUP($I$17,Tablas!$A$155:$G$221,3,TRUE))*1.1494","v":7595.1202599999997},{"$f":"(VLOOKUP($I$17,Tablas!$A$155:$G$221,4,TRUE))*1.1494","v":6892.6644500000002},{"$f":"(VLOOKUP($I$17,Tablas!$A$155:$G$221,5,TRUE))*1.1494","v":5062.7621799999997},{"$f":"(VLOOKUP($I$17,Tablas!$A$155:$G$221,6,TRUE))*1.1494","v":3697.90715}]
[null,null,null,null,"Prima para conyuge",null,{"$f":"(IF($F$17=1,0,(VLOOKUP($I$19,Tablas!$A$155:$G$221,3,TRUE))))*1.1494","v":10977.459640000001},{"$f":"(IF($F$17=1,0,(VLOOKUP($I$19,Tablas!$A$155:$G$221,4,TRUE))))*1.1494","v":9963.3440199999986},{"$f":"(IF($F$17=1,0,(VLOOKUP($I$19,Tablas!$A$155:$G$221,5,TRUE))))*1.1494","v":7151.5667999999996},{"$f":"(IF($F$17=1,0,(VLOOKUP($I$19,Tablas!$A$155:$G$221,6,TRUE))))*1.1494","v":5223.9655299999995}]
[null,null,null,null,"Prima para hijo (s)",null,{"$f":"(IF($F$19=0,0,(VLOOKUP($F$19,Tablas!$A$222:$G$224,3,TRUE))))*1.1494","v":4591.8530000000001},{"$f":"(IF($F$19=0,0,(VLOOKUP($F$19,Tablas!$A$222:$G$224,4,TRUE))))*1.1494","v":4167.8393399999995},{"$f":"(IF($F$19=0,0,(VLOOKUP($F$19,Tablas!$A$222:$G$224,5,TRUE))))*1.1494","v":3171.3095399999997},{"$f":"(IF($F$19=0,0,(VLOOKUP($F$19,Tablas!$A$222:$G$224,6,TRUE))))*1.1494","v":2318.3972699999999}]
[null,null,null,null,"Total de Prima neta",null,{"$f":"(SUM(G28:G30))","v":23164.4329},{"$f":"(SUM(H28:H30))","v":21023.847809999999},{"$f":"(SUM(I28:I30))","v":15385.638519999999},{"$f":"(SUM(J28:J30))","v":11240.26995}]
[null,null,null,null,"Costo Administrativo Anual",null,86,86,86,86]
[null,null,null,null," IVA (14.49%) ",null,{"$f":"(G32)*0%","v":0},{"$f":"(H32)*0%","v":0},{"$f":"(I32)*0%","v":0},{"$f":"(J32)*0%","v":0}]
[]
[null,null,null,null,"TOTAL ANUAL",null,{"$f":"SUM(G31:G33)","v":23250.4329},{"$f":"SUM(H31:H33)","v":21109.847809999999},{"$f":"SUM(I31:I33)","v":15471.638519999999},{"$f":"SUM(J31:J33)","v":11326.26995}]
[]
[null,null,null,null,"Tarifas Semianuales"]
[null,null,null,null,"Prima para Asegurado Titular",null,{"$f":"(VLOOKUP($I$17,Tablas!$A$530:$G$596,3,TRUE))*1.1494","v":4025.4137377999996},{"$f":"(VLOOKUP($I$17,Tablas!$A$530:$G$596,4,TRUE))*1.1494","v":3653.1121585000001},{"$f":"(VLOOKUP($I$17,Tablas!$A$530:$G$596,5,TRUE))*1.1494","v":2683.2639553999998},{"$f":"(VLOOKUP($I$17,Tablas!$A$530:$G$596,6,TRUE))*1.1494","v":1959.8907895000002}]
[null,null,null,null,"Prima para conyuge",null,{"$f":"(IF($F$17=1,0,(VLOOKUP($I$19,Tablas!$A$530:$G$596,3,TRUE))))*1.1494","v":5818.0536092000002},{"$f":"(IF($F$17=1,0,(VLOOKUP($I$19,Tablas!$A$530:$G$596,4,TRUE))))*1.1494","v":5280.5723305999991},{"$f":"(IF($F$17=1,0,(VLOOKUP($I$19,Tablas!$A$530:$G$596,5,TRUE))))*1.1494","v":3790.3304040000003},{"$f":"(IF($F$17=1,0,(VLOOKUP($I$19,Tablas!$A$530:$G$596,6,TRUE))))*1.1494","v":2768.7017308999998}]
[null,null,null,null,"Prima para hijo (s)",null,{"$f":"(IF($F$19=0,0,(VLOOKUP($F$19,Tablas!$A$597:$G$599,3,TRUE))))*1.1494","v":2433.6820899999998},{"$f":"(IF($F$19=0,0,(VLOOKUP($F$19,Tablas!$A$597:$G$599,4,TRUE))))*1.1494","v":2208.9548502000002},{"$f":"(IF($F$19=0,0,(VLOOKUP($F$19,Tablas!$A$597:$G$599,5,TRUE))))*1.1494","v":1680.7940562000001},{"$f":"(IF($F$19=0,0,(VLOOKUP($F$19,Tablas!$A$597:$G$599,6,TRUE))))*1.1494","v":1228.7505530999999}]
[null,null,null,null,"Total de Prima neta",null,{"$f":"(SUM(G38:G40))","v":12277.149437},{"$f":"(SUM(H38:H40))","v":11142.6393393},{"$f":"(SUM(I38:I40))","v":8154.3884156000004},{"$f":"(SUM(J38:J40))","v":5957.3430734999993}]
[null,null,null,null,"Costo Administrativo Anual",null,86,86,86,86]
[null,null,null,null," IVA (14.49%) ",null,{"$f":"(G42)*0%","v":0},{"$f":"(H42)*0%","v":0},{"$f":"(I42)*0%","v":0},{"$f":"(J42)*0%","v":0}]
[null,null,null,null,"TOTAL de primera cuota",null,{"$f":"SUM(G41:G43)","v":12363.149437},{"$f":"SUM(H41:H43)","v":11228.6393393},{"$f":"SUM(I41:I43)","v":8240.3884156000004},{"$f":"SUM(J41:J43)","v":6043.3430734999993}]
[null,null,null,null,"Costo de segunda cuota",null,{"$f":"G41+G43","v":12277.149437},{"$f":"H41+H43","v":11142.6393393},{"$f":"I41+I43","v":8154.3884156000004},{"$f":"J41+J43","v":5957.3430734999993}]
[null,null,null,null,"TOTAL ANUAL",null,{"$f":"G44+G45","v":24640.298874},{"$f":"H44+H45","v":22371.2786786},16394.776831200001,{"$f":"J44+J45","v":12000.686146999999}]
[]
[null,null,null,null,"Tarifas Trimestrales"]
[null,null,null,null,"Prima para Asegurado Titular",null,{"$f":"(VLOOKUP($I$17,Tablas!$A$755:$G$821,3,TRUE))*1.1494","v":2088.6580715},{"$f":"(VLOOKUP($I$17,Tablas!$A$755:$G$821,4,TRUE))*1.1494","v":1895.4827237500001},{"$f":"(VLOOKUP($I$17,Tablas!$A$755:$G$821,5,TRUE))*1.1494","v":1392.2595994999999},{"$f":"(VLOOKUP($I$17,Tablas!$A$755:$G$821,6,TRUE))*1.1494","v":1016.9244662500001}]
[null,null,null,null,"Prima para conyuge",null,{"$f":"(IF($F$17=1,0,(VLOOKUP($I$19,Tablas!$A$755:$G$821,3,TRUE))))*1.1494","v":3018.8014010000006},{"$f":"(IF($F$17=1,0,(VLOOKUP($I$19,Tablas!$A$755:$G$821,4,TRUE))))*1.1494","v":2739.9196054999998},{"$f":"(IF($F$17=1,0,(VLOOKUP($I$19,Tablas!$A$755:$G$821,5,TRUE))))*1.1494","v":1966.6808700000001},{"$f":"(IF($F$17=1,0,(VLOOKUP($I$19,Tablas!$A$755:$G$821,6,TRUE))))*1.1494","v":1436.5905207500002}]
[null,null,null,null,"Prima para hijo (s)",null,{"$f":"(IF($F$19=0,0,(VLOOKUP($F$19,Tablas!$A$822:$G$824,3,TRUE))))*1.1494","v":1262.759575},{"$f":"(IF($F$19=0,0,(VLOOKUP($F$19,Tablas!$A$822:$G$824,4,TRUE))))*1.1494","v":1146.1558184999999},{"$f":"(IF($F$19=0,0,(VLOOKUP($F$19,Tablas!$A$822:$G$824,5,TRUE))))*1.1494","v":872.1101235000001},{"$f":"(IF($F$19=0,0,(VLOOKUP($F$19,Tablas!$A$822:$G$824,6,TRUE))))*1.1494","v":637.55924924999999}]
[null,null,null,null,"Total de Prima neta",null,{"$f":"(SUM(G49:G51))","v":6370.2190475000007},{"$f":"(SUM(H49:H51))","v":5781.55814775},{"$f":"(SUM(I49:I51))","v":4231.0505929999999},{"$f":"(SUM(J49:J51))","v":3091.0742362500005}]
[null,null,null,null,"Costo Administrativo Anual",null,86,86,86,86]
[null,null,null,null," IVA (14.49%) ",null,{"$f":"(G53)*0%","v":0},{"$f":"(H53)*0%","v":0},{"$f":"(I53)*0%","v":0},{"$f":"(J53)*0%","v":0}]
[]
[null,null,null,null,"TOTAL de primera cuota",null,{"$f":"SUM(G52:G54)","v":6456.2190475000007},{"$f":"SUM(H52:H54)","v":5867.55814775},{"$f":"SUM(I52:I54)","v":4317.0505929999999},{"$f":"SUM(J52:J54)","v":3177.0742362500005}]
[null,null,null,null,"Tres (3) cuotas adicionales, cada una de:",null,{"$f":"G52+G54","v":6370.2190475000007},{"$f":"H52+H54","v":5781.55814775},{"$f":"I52+I54","v":4231.0505929999999},{"$f":"J52+J54","v":3091.0742362500005}]
[null,null,null,null,"TOTAL ANUAL",null,{"$f":"G56+(G57*3)","v":25566.876190000003},{"$f":"H56+(H57*3)","v":23212.232591},17010.202372,{"$f":"J56+(J57*3)","v":12450.296945000002}]
[]
[]
[null,null,null,null,"Tarifas Mensuales"]
[null,null,null,null,"Prima para Asegurado Titular",null,{"$f":"(VLOOKUP($I$17,Tablas!$A$229:$G$295,3,TRUE))*1.1494","v":708.87789093333333},{"$f":"(VLOOKUP($I$17,Tablas!$A$229:$G$295,4,TRUE))*1.1494","v":643.31534866666675},{"$f":"(VLOOKUP($I$17,Tablas!$A$229:$G$295,5,TRUE))*1.1494","v":472.52447013333335},{"$f":"(VLOOKUP($I$17,Tablas!$A$229:$G$295,6,TRUE))*1.1494","v":345.1380006666667}]
[null,null,null,null,"Prima para conyuge",null,{"$f":"(IF($F$17=1,0,(VLOOKUP($I$19,Tablas!$A$229:$G$295,3,TRUE))))*1.1494","v":1024.5628997333333},{"$f":"(IF($F$17=1,0,(VLOOKUP($I$19,Tablas!$A229:$G$295,4,TRUE))))*1.1494","v":929.91210853333337},{"$f":"(IF($F$17=1,0,(VLOOKUP($I$19,Tablas!$A$229:$G$295,5,TRUE))))*1.1494","v":667.47956799999997},{"$f":"(IF($F$17=1,0,(VLOOKUP($I$19,Tablas!$A$229:$G$295,6,TRUE))))*1.1494","v":487.57011613333333}]
[null,null,null,null,"Prima para hijo (s)",null,{"$f":"(IF($F$19=0,0,(VLOOKUP($F$19,Tablas!$A$296:$G$298,3,TRUE))))*1.1494","v":428.57294666666667},{"$f":"(IF($F$19=0,0,(VLOOKUP($F$19,Tablas!$A$296:$G$298,4,TRUE))))*1.1494","v":388.99833839999997},{"$f":"(IF($F$19=0,0,(VLOOKUP($F$19,Tablas!$A$296:$G$298,5,TRUE))))*1.1494","v":295.9888904},{"$f":"(IF($F$19=0,0,(VLOOKUP($F$19,Tablas!$A$296:$G$298,6,TRUE))))*1.1494","v":216.38374519999999}]
[null,null,null,null,"Total de Prima neta",null,{"$f":"SUM(G62:G64)","v":2162.0137373333332},{"$f":"SUM(H62:H64)","v":1962.2257956000001},{"$f":"SUM(I62:I64)","v":1435.9929285333333},{"$f":"SUM(J62:J64)","v":1049.091862}]
[null,null,null,null,"Costo Administrativo Anual",null,86,86,86,86]
[null,null,null,null," IVA (14.49%) ",null,{"$f":"(G66)*0%","v":0},{"$f":"(H66)*0%","v":0},{"$f":"(I66)*0%","v":0},{"$f":"(J66)*0%","v":0}]
[]
[null,null,null,null,"TOTAL de primera cuota",null,{"$f":"SUM(G65:G67)","v":2248.0137373333332},{"$f":"SUM(H65:H67)","v":2048.2257956000003},{"$f":"SUM(I65:I67)","v":1521.9929285333333},{"$f":"SUM(J65:J67)","v":1135.091862}]
[null,null,null,null,"Once (11) cuotas mensuales cada una de:",null,{"$f":"G65+G67","v":2162.0137373333332},{"$f":"H65+H67","v":1962.2257956000001},{"$f":"I65+I67","v":1435.9929285333333},{"$f":"J65+J67","v":1049.091862}]
[null,null,null,null,"TOTAL ANUAL",null,{"$f":"G69+(G70*11)","v":26030.164848},{"$f":"H69+(H70*11)","v":23632.7095472},{"$f":"I69+(I70*11)","v":17317.915142400001},{"$f":"J69+(J70*11)","v":12675.102343999999}]
[]
[]
[null,null,null,null,"Tarifas en US$ -  Efectivas a partir del 1ro. de Enero de 2023"]
[null,null,null,null,"Este presupuesto solamente tiene carácter informativo y en ningún momento expresa compromiso legal para suministrarle cobertura de seguro. La emisión de una póliza de seguro Bupa está sujeta a todas las evaluaciones de riesgo por parte de Bupa y a la recepción de todos los pagos de prima requeridos."]

{"sheet":"Global Select Health  Plan","index":4,"n_rows":74,"n_cols":10,"rows_kept":74,"cut":false,"hidden":false,"merged":[[73,4,74,9],[26,4,26,9],[36,4,36,9],[47,4,47,9],[60,4,60,9],[72,4,72,9],[64,4,64,5],[65,4,65,5],[57,0,57,1],[61,0,61,1],[72,0,72,1],[76,0,76,1],[86,0,86,1],[41,1,42,1],[41,0,42,0],[51,4,51,5],[52,4,52,5],[21,0,21,1],[35,0,35,1],[40,0,40,1],[12,3,12,4],[16,3,16,4],[12,5,12,8],[14,5,14,8],[12,0,12,1],[13,0,13,1],[14,0,14,1]]}
[null,null,null,null,null,null,null," "," "," "]
[]
[]
[]
[]
[]
[]
[]
[]
[]
[]
[]
["Global Select Health Plan",null,null,"Nombre del Asegurado Titular:",null,{"$f":"+'INGRESO DE DATOS'!$D$15","v":"JOHN DOE"}]
[]
[null,null,null,null,"Cotizado por:",{"$f":"+'INGRESO DE DATOS'!$D$21","v":"NOMBRE DEL AGENTE"}]
[]
[null,null,null,"Número de adultos en la póliza:",null,{"$f":"+'INGRESO DE DATOS'!$D$17","v":2},null,"Edad del Asegurado Titular:",{"$f":"+'INGRESO DE DATOS'!$D$19","v":32}]
[]
[null,null,null,null,"Número de niños en la póliza:",{"$f":"+'INGRESO DE DATOS'!$H$17","v":2},null,"Edad del/la conyuge:",{"$f":"+'INGRESO DE DATOS'!$H$19","v":46}]
[null,null,null,null,null,null,null," "," "]
[null,null,null,null,"Fecha de la cotización:",{"$f":"NOW()","v":"2022-12-06T15:06:59.900"}]
[]
[null,null,null,null,"Deducibles",null,"PLAN 1","PLAN 2","PLAN 3","PLAN 4"]
[null,null,null,null,"En el país de residencia",null,250,2000,5000,10000]
[null,null,null,null,"Fuera del país de residencia",null,5000,2000,5000,10000]
[]
[null,null,null,null,"Tarifas Anuales"]
[null,null,null,null,"Prima para Asegurado Titular",null,{"$f":"(VLOOKUP($I$17,Tablas!$A$305:$G$371,3,TRUE))*1.1494","v":4929.8915399999996},{"$f":"(VLOOKUP($I$17,Tablas!$A$305:$G$371,4,TRUE))*1.1494","v":4728.6315999999997},{"$f":"(VLOOKUP($I$17,Tablas!$A$305:$G$371,5,TRUE))*1.1494","v":3483.94634},{"$f":"(VLOOKUP($I$17,Tablas!$A$305:$G$371,6,TRUE))*1.1494","v":2543.1049699999994}]
[null,null,null,null,"Prima para conyuge",null,{"$f":"(IF($F$17=1,0,(VLOOKUP($I$19,Tablas!$A$305:$G$371,3,TRUE))))*1.1494","v":7399.7222599999996},{"$f":"(IF($F$17=1,0,(VLOOKUP($I$19,Tablas!$A$305:$G$371,4,TRUE))))*1.1494","v":7098.8093399999989},{"$f":"(IF($F$17=1,0,(VLOOKUP($I$19,Tablas!$A$305:$G$371,5,TRUE))))*1.1494","v":5101.8417799999997},{"$f":"(IF($F$17=1,0,(VLOOKUP($I$19,Tablas!$A$305:$G$371,6,TRUE))))*1.1494","v":3727.2168499999998}]
[null,null,null,null,"Prima para hijo (s)",null,{"$f":"(IF($F$19=0,0,(VLOOKUP($F$19,Tablas!$A$372:$G$374,3,TRUE))))*1.1494","v":3210.3891399999998},{"$f":"(IF($F$19=0,0,(VLOOKUP($F$19,Tablas!$A$372:$G$374,4,TRUE))))*1.1494","v":3080.4494699999996},{"$f":"(IF($F$19=0,0,(VLOOKUP($F$19,Tablas!$A$372:$G$374,5,TRUE))))*1.1494","v":2359.4308499999997},{"$f":"(IF($F$19=0,0,(VLOOKUP($F$19,Tablas!$A$372:$G$374,6,TRUE))))*1.1494","v":1723.4103599999999}]
[null,null,null,null,"Total de Prima neta",null,{"$f":"(SUM(G28:G30))","v":15540.002939999998},{"$f":"(SUM(H28:H30))","v":14907.890409999998},{"$f":"(SUM(I28:I30))","v":10945.218969999998},{"$f":"(SUM(J28:J30))","v":7993.7321799999991}]
[null,null,null,null,"Costo Administrativo Anual",null,86,86,86,86]
[null,null,null,null,"  IVA (14.49%)  ",null,{"$f":"(G32)*0%","v":0},{"$f":"(H32)*0%","v":0},{"$f":"(I32)*0%","v":0},{"$f":"(J32)*0%","v":0}]
[]
[null,null,null,null,"TOTAL ANUAL",null,{"$f":"SUM(G31:G33)","v":15626.002939999998},{"$f":"SUM(H31:H33)","v":14993.890409999998},{"$f":"SUM(I31:I33)","v":11031.218969999998},{"$f":"SUM(J31:J33)","v":8079.7321799999991}]
[]
[null,null,null,null,"Tarifas Semianuales"]
[null,null,null,null,"Prima para Asegurado Titular",null,{"$f":"(VLOOKUP($I$17,Tablas!$A$605:$G$671,3,TRUE))*1.1494","v":2612.8425161999999},{"$f":"(VLOOKUP($I$17,Tablas!$A$605:$G$671,4,TRUE))*1.1494","v":2506.1747479999999},{"$f":"(VLOOKUP($I$17,Tablas!$A$605:$G$671,5,TRUE))*1.1494","v":1846.4915601999999},{"$f":"(VLOOKUP($I$17,Tablas!$A$605:$G$671,6,TRUE))*1.1494","v":1347.8456340999999}]
[null,null,null,null,"Prima para conyuge",null,{"$f":"(IF($F$17=1,0,(VLOOKUP($I$19,Tablas!$A$605:$G$671,3,TRUE))))*1.1494","v":3921.8527977999997},{"$f":"(IF($F$17=1,0,(VLOOKUP($I$19,Tablas!$A$605:$G$671,4,TRUE))))*1.1494","v":3762.3689502000002},{"$f":"(IF($F$17=1,0,(VLOOKUP($I$19,Tablas!$A$605:$G$671,5,TRUE))))*1.1494","v":2703.9761433999997},{"$f":"(IF($F$17=1,0,(VLOOKUP($I$19,Tablas!$A$605:$G$671,6,TRUE))))*1.1494","v":1975.4249305000001}]
[null,null,null,null,"Prima para hijo (s)",null,{"$f":"(IF($F$19=0,0,(VLOOKUP($F$19,Tablas!$A$672:$G$674,3,TRUE))))*1.1494","v":1701.5062442000001},{"$f":"(IF($F$19=0,0,(VLOOKUP($F$19,Tablas!$A$672:$G$674,4,TRUE))))*1.1494","v":1632.6382191},{"$f":"(IF($F$19=0,0,(VLOOKUP($F$19,Tablas!$A$672:$G$674,5,TRUE))))*1.1494","v":1250.4983505},{"$f":"(IF($F$19=0,0,(VLOOKUP($F$19,Tablas!$A$672:$G$674,6,TRUE))))*1.1494","v":913.40749080000001}]
[null,null,null,null,"Total de Prima neta",null,{"$f":"(SUM(G38:G40))","v":8236.2015582000004},{"$f":"(SUM(H38:H40))","v":7901.1819173000004},{"$f":"(SUM(I38:I40))","v":5800.9660540999994},{"$f":"(SUM(J38:J40))","v":4236.6780553999997}]
[null,null,null,null,"Costo Administrativo Anual",null,86,86,86,86]
[null,null,null,null,"  IVA (14.49%)  ",null,{"$f":"(G42)*0%","v":0},{"$f":"(H42)*0%","v":0},{"$f":"(I42)*0%","v":0}]
[null,null,null,null,"TOTAL de primera cuota",null,{"$f":"SUM(G41:G43)","v":8322.2015582000004},{"$f":"SUM(H41:H43)","v":7987.1819173000004},{"$f":"SUM(I41:I43)","v":5886.9660540999994},{"$f":"SUM(J41:J43)","v":4322.6780553999997}]
[null,null,null,null,"Costo de segunda cuota",null,{"$f":"G41+G43","v":8236.2015582000004},{"$f":"H41+H43","v":7901.1819173000004},{"$f":"I41+I43","v":5800.9660540999994},{"$f":"J41+J43","v":4236.6780553999997}]
[null,null,null,null,"TOTAL ANUAL",null,{"$f":"G44+G45","v":16558.403116400001},{"$f":"H44+H45","v":15888.363834600001},11687.932108199999,8559.3561107999994]
[]
[null,null,null,null,"Tarifas Trimestrales"]
[null,null,null,null,"Prima para Asegurado Titular",null,{"$f":"(VLOOKUP($I$17,Tablas!$A$830:$G$896,3,TRUE))*1.1494","v":1355.7201735000001},{"$f":"(VLOOKUP($I$17,Tablas!$A$830:$G$896,4,TRUE))*1.1494","v":1300.3736900000001},{"$f":"(VLOOKUP($I$17,Tablas!$A$830:$G$896,5,TRUE))*1.1494","v":958.08524350000005},{"$f":"(VLOOKUP($I$17,Tablas!$A$830:$G$896,6,TRUE))*1.1494","v":699.35386674999995}]
[null,null,null,null,"Prima para conyuge",null,{"$f":"(IF($F$17=1,0,(VLOOKUP($I$19,Tablas!$A$830:$G$896,3,TRUE))))*1.1494","v":2034.9236215000001},{"$f":"(IF($F$17=1,0,(VLOOKUP($I$19,Tablas!$A$830:$G$896,4,TRUE))))*1.1494","v":1952.1725684999999},{"$f":"(IF($F$17=1,0,(VLOOKUP($I$19,Tablas!$A$830:$G$896,5,TRUE))))*1.1494","v":1403.0064895},{"$f":"(IF($F$17=1,0,(VLOOKUP($I$19,Tablas!$A$830:$G$896,6,TRUE))))*1.1494","v":1024.9846337500001}]
[null,null,null,null,"Prima para hijo (s)",null,{"$f":"(IF($F$19=0,0,(VLOOKUP($F$19,Tablas!$A$897:$G$899,3,TRUE))))*1.1494","v":882.85701350000011},{"$f":"(IF($F$19=0,0,(VLOOKUP($F$19,Tablas!$A$897:$G$899,4,TRUE))))*1.1494","v":847.12360424999997},{"$f":"(IF($F$19=0,0,(VLOOKUP($F$19,Tablas!$A$897:$G$899,5,TRUE))))*1.1494","v":648.84348375000002},{"$f":"(IF($F$19=0,0,(VLOOKUP($F$19,Tablas!$A$897:$G$899,6,TRUE))))*1.1494","v":473.93784899999997}]
[null,null,null,null,"Total de Prima neta",null,{"$f":"(SUM(G49:G51))","v":4273.5008084999999},{"$f":"(SUM(H49:H51))","v":4099.66986275},{"$f":"(SUM(I49:I51))","v":3009.9352167500001},{"$f":"(SUM(J49:J51))","v":2198.2763494999999}]
[null,null,null,null,"Costo Administrativo Anual",null,86,86,86,86]
[null,null,null,null,"  IVA (14.49%)  ",null,{"$f":"(G53)*0%","v":0},{"$f":"(H53)*0%","v":0},{"$f":"(I53)*0%","v":0},{"$f":"(J53)*0%","v":0}]
[]
[null,null,null,null,"TOTAL de primera cuota",null,{"$f":"SUM(G52:G54)","v":4359.5008084999999},{"$f":"SUM(H52:H54)","v":4185.66986275},{"$f":"SUM(I52:I54)","v":3095.9352167500001},{"$f":"SUM(J52:J54)","v":2284.2763494999999}]
[null,null,null,null,"Tres (3) cuotas adicionales, cada una de:",null,{"$f":"G52+G54","v":4273.5008084999999},{"$f":"H52+H54","v":4099.66986275},{"$f":"I52+I54","v":3009.9352167500001},{"$f":"J52+J54","v":2198.2763494999999}]
[null,null,null,null,"TOTAL ANUAL",null,{"$f":"G56+(G57*3)","v":17180.003234},{"$f":"H56+(H57*3)","v":16484.679451},12125.740867,{"$f":"J56+(J57*3)","v":8879.1053979999997}]
[]
[]
[null,null,null,null,"Tarifas Mensuales"]
[null,null,null,null,"Prima para Asegurado Titular",null,{"$f":"(VLOOKUP($I$17,Tablas!$A$379:$G$445,3,TRUE))*1.1494","v":460.12321039999995},{"$f":"(VLOOKUP($I$17,Tablas!$A$379:$G$445,4,TRUE))*1.1494","v":441.33894933333335},{"$f":"(VLOOKUP($I$17,Tablas!$A$379:$G$445,5,TRUE))*1.1494","v":325.16832506666668},{"$f":"(VLOOKUP($I$17,Tablas!$A$379:$G$445,6,TRUE))*1.1494","v":237.35646386666664}]
[null,null,null,null,"Prima para conyuge",null,{"$f":"(IF($F$17=1,0,(VLOOKUP($I$19,Tablas!$A$379:$G$445,3,TRUE))))*1.1494","v":690.64074426666673},{"$f":"(IF($F$17=1,0,(VLOOKUP($I$19,Tablas!$A$379:$G$445,4,TRUE))))*1.1494","v":662.55553839999993},{"$f":"(IF($F$17=1,0,(VLOOKUP($I$19,Tablas!$A$379:$G$445,5,TRUE))))*1.1494","v":476.17189946666662},{"$f":"(IF($F$17=1,0,(VLOOKUP($I$19,Tablas!$A$379:$G$445,6,TRUE))))*1.1494","v":347.87357266666669}]
[null,null,null,null,"Prima para hijo (s)",null,{"$f":"(IF($F$19=0,0,(VLOOKUP($F$19,Tablas!$A$446:$G$448,3,TRUE))))*1.1494","v":299.63631973333332},{"$f":"(IF($F$19=0,0,(VLOOKUP($F$19,Tablas!$A$446:$G$448,4,TRUE))))*1.1494","v":287.50861719999995},{"$f":"(IF($F$19=0,0,(VLOOKUP($F$19,Tablas!$A$446:$G$448,5,TRUE))))*1.1494","v":220.21354600000001},{"$f":"(IF($F$19=0,0,(VLOOKUP($F$19,Tablas!$A$446:$G$448,6,TRUE))))*1.1494","v":160.85163359999999}]
[null,null,null,null,"Total de Prima neta",null,{"$f":"(SUM(G62:G64))","v":1450.4002743999999},{"$f":"(SUM(H62:H64))","v":1391.4031049333332},{"$f":"(SUM(I62:I64))","v":1021.5537705333334},{"$f":"(SUM(J62:J64))","v":746.08167013333332}]
[null,null,null,null,"Costo Administrativo Anual",null,86,86,86,86]
[null,null,null,null,"  IVA (14.49%)  ",null,{"$f":"(G66)*0%","v":0},{"$f":"(H66)*0%","v":0},{"$f":"(I66)*0%","v":0},{"$f":"(J66)*0%","v":0}]
[]
[null,null,null,null,"TOTAL de primera cuota",null,{"$f":"SUM(G65:G67)","v":1536.4002743999999},{"$f":"SUM(H65:H67)","v":1477.4031049333332},{"$f":"SUM(I65:I67)","v":1107.5537705333334},{"$f":"SUM(J65:J67)","v":832.08167013333332}]
[null,null,null,null,"Once (11) cuotas mensuales cada una de:",null,{"$f":"G65+G67","v":1450.4002743999999},{"$f":"H65+H67","v":1391.4031049333332},{"$f":"I65+I67","v":1021.5537705333334},{"$f":"J65+J67","v":746.08167013333332}]
[null,null,null,null,"TOTAL ANUAL",null,{"$f":"G69+(G70*11)","v":17490.803292799999},{"$f":"H69+(H70*11)","v":16782.837259199998},{"$f":"I69+(I70*11)","v":12344.645246400001},{"$f":"J69+(J70*11)","v":9038.9800415999998}]
[]
[null,null,null,null,"Tarifas en US$ -  Efectivas a partir del 1ro. de Enero de 2023"]
[null,null,null,null,"Este presupuesto solamente tiene carácter informativo y en ningún momento expresa compromiso legal para suministrarle cobertura de seguro. La emisión de una póliza de seguro Bupa está sujeta a todas las evaluaciones de riesgo por parte de Bupa y a la recepción de todos los pagos de prima requeridos."]

{"sheet":"Global Major Medical Health  Pl","index":5,"n_rows":74,"n_cols":10,"rows_kept":74,"cut":false,"hidden":false,"merged":[[88,0,88,1],[42,0,42,1],[59,0,59,1],[63,0,63,1],[74,0,74,1],[78,0,78,1],[43,0,44,0],[43,1,44,1],[48,4,48,7],[19,3,19,4],[73,4,75,7],[72,4,72,7],[52,4,52,5],[53,4,53,5],[64,4,64,5],[65,4,65,5],[60,4,60,7],[17,3,17,4],[37,4,37,7],[27,4,27,7],[15,5,15,8],[22,0,22,1],[37,0,37,1],[13,0,13,1],[14,0,14,1],[15,0,15,1],[13,3,13,4],[13,5,13,8]]}
[]
[]
[]
[]
[]
[]
[]
[]
[]
[]
[]
[]
[]
["Global Major Medical Health Plan",null,null,"Nombre del Asegurado Titular:",null,{"$f":"+'INGRESO DE DATOS'!$D$15","v":"JOHN DOE"}]
[]
[null,null,null,null,"Cotizado Por:",{"$f":"+'INGRESO DE DATOS'!$D$21","v":"NOMBRE DEL AGENTE"}]
[]
[null,null,null,"Número de adultos en la póliza:",null,{"$f":"+'INGRESO DE DATOS'!$D$17","v":2},null,"Edad del Asegurado Titular:",{"$f":"+'INGRESO DE DATOS'!$D$19","v":32}]
[]
[null,null,null,"Número de niños en la póliza:",null,{"$f":"+'INGRESO DE DATOS'!$H$17","v":2},null,"Edad del/la conyuge:",{"$f":"+'INGRESO DE DATOS'!$H$19","v":46}]
[null,null,null,null,null,null,null," "," "]
[null,null,null,null,"Fecha de la cotización:",{"$f":"NOW()","v":"2022-12-06T15:06:59.900"}]
[null,null,null,null,null,null," ",false,null," "]
[null,null,null,null,"Deducibles",null,"PLAN 1","PLAN 2"]
[null,null,null,null,"En el país de residencia",null,10000,20000]
[null,null,null,null,"Fuera del país de residencia",null,10000,20000]
[]
[null,null,null,null,"Tarifas Anuales"]
[null,null,null,null,"Prima para Asegurado Titular",null,{"$f":"(VLOOKUP($I$18,Tablas!$A$1129:$G$1195,3,TRUE))*1.1494","v":3132.2299399999997},{"$f":"(VLOOKUP($I$18,Tablas!$A$1129:$G$1195,4,TRUE))*1.1494","v":2388.74055}]
[null,null,null,null,"Prima para conyuge",null,{"$f":"(IF($F$18=1,0,(VLOOKUP($I$20,Tablas!$A$1129:$G$1195,3,TRUE))))*1.1494","v":4540.0725299999995},{"$f":"(IF($F$18=1,0,(VLOOKUP($I$20,Tablas!$A$1129:$G$1195,4,TRUE))))*1.1494","v":3450.7286799999997}]
[null,null,null,null,"Prima para hijo (s)",null,{"$f":"(IF($F$20=0,0,(VLOOKUP($F$20,Tablas!$A$1196:$G$1198,3,TRUE))))*1.1494","v":1883.63672},{"$f":"(IF($F$20=0,0,(VLOOKUP($F$20,Tablas!$A$1196:$G$1198,4,TRUE))))*1.1494","v":1480.13985}]
[null,null,null,null,"Total de Prima neta",null,{"$f":"(SUM(G29:G31))","v":9555.9391899999991},{"$f":"(SUM(H29:H31))","v":7319.6090800000002}]
[null,null,null,null,"Costo Administrativo Anual",null,86,86]
[null,null,null,null,"IVA (14.49%)",null,{"$f":"(G33)*0%","v":0},{"$f":"(H33)*0%","v":0}]
[]
[null,null,null,null,"TOTAL ANUAL",null,{"$f":"SUM(G32:G34)","v":9641.9391899999991},{"$f":"SUM(H32:H34)","v":7405.6090800000002}]
[]
[null,null,null,null,"Tarifas Semianuales"]
[null,null,null,null,"Prima para Asegurado Titular",null,{"$f":"(VLOOKUP($I$18,Tablas!$A$1353:$G$1419,3,TRUE))*1.1494","v":1660.0818682000001},{"$f":"(VLOOKUP($I$18,Tablas!$A$1353:$G$1419,4,TRUE))*1.1494","v":1266.0324915000001}]
[null,null,null,null,"Prima para conyuge",null,{"$f":"(IF($F$18=1,0,(VLOOKUP($I$20,Tablas!$A$1353:$G$1419,3,TRUE))))*1.1494","v":2406.2384409000001},{"$f":"(IF($F$18=1,0,(VLOOKUP($I$20,Tablas!$A$1353:$G$1419,4,TRUE))))*1.1494","v":1828.8862004}]
[null,null,null,null,"Prima para hijo (s)",null,{"$f":"(IF($F$20=0,0,(VLOOKUP($F$20,Tablas!$A$1420:$G$1422,3,TRUE))))*1.1494","v":998.32746159999999},{"$f":"(IF($F$20=0,0,(VLOOKUP($F$20,Tablas!$A$1420:$G$1422,4,TRUE))))*1.1494","v":784.47412050000003}]
[null,null,null,null,"Total de Prima neta",null,{"$f":"(SUM(G39:G41))","v":5064.6477707000004},{"$f":"(SUM(H39:H41))","v":3879.3928124000004}]
[null,null,null,null,"Costo Administrativo Anual",null,86,86]
[null,null,null,null,"IVA (14.49%)",null,{"$f":"(G43)*0%","v":0},{"$f":"(H43)*0%","v":0}]
[null,null,null,null,"TOTAL de primera cuota",null,{"$f":"SUM(G42:G44)","v":5150.6477707000004},{"$f":"SUM(H42:H44)","v":3965.3928124000004}]
[null,null,null,null,"Costo de segunda cuota",null,{"$f":"G42+G44","v":5064.6477707000004},{"$f":"H42+H44","v":3879.3928124000004}]
[null,null,null,null,"TOTAL ANUAL",null,{"$f":"G45+G46","v":10215.295541400001},{"$f":"H45+H46","v":7844.7856248000007}]
[]
[null,null,null,null,"Tarifas Trimestrales"]
[null,null,null,null,"Prima para Asegurado Titular",null,{"$f":"(VLOOKUP($I$18,Tablas!$A$1278:$G$1344,3,TRUE))*1.1494","v":861.36323349999998},{"$f":"(VLOOKUP($I$18,Tablas!$A$1278:$G$1344,4,TRUE))*1.1494","v":656.90365125000005}]
[null,null,null,null,"Prima para conyuge",null,{"$f":"(IF($F$18=1,0,(VLOOKUP($I$20,Tablas!$A$1278:$G$1344,3,TRUE))))*1.1494","v":1248.5199457499998},{"$f":"(IF($F$18=1,0,(VLOOKUP($I$20,Tablas!$A$1278:$G$1344,4,TRUE))))*1.1494","v":948.95038699999998}]
[null,null,null,null,"Prima para hijo (s)",null,{"$f":"(IF($F$20=0,0,(VLOOKUP($F$20,Tablas!$A$1345:$G$1347,3,TRUE))))*1.1494","v":518.00009799999998},{"$f":"(IF($F$20=0,0,(VLOOKUP($F$20,Tablas!$A$1345:$G$1347,4,TRUE))))*1.1494","v":407.03845875000002}]
[null,null,null,null,"Total de Prima neta",null,{"$f":"(SUM(G50:G52))","v":2627.8832772499995},{"$f":"(SUM(H50:H52))","v":2012.892497}]
[null,null,null,null,"Costo Administrativo Anual",null,86,86]
[null,null,null,null,"IVA (14.49%)",null,{"$f":"(G54)*0%","v":0},{"$f":"(H54)*0%","v":0}]
[]
[null,null,null,null,"TOTAL de primera cuota",null,{"$f":"SUM(G53:G55)","v":2713.8832772499995},{"$f":"SUM(H53:H55)","v":2098.8924969999998}]
[null,null,null,null,"Tres (3) cuotas adicionales, cada una de:",null,{"$f":"G53+G55","v":2627.8832772499995},{"$f":"H53+H55","v":2012.892497}]
[null,null,null,null,"TOTAL ANUAL",null,{"$f":"G57+(G58*3)","v":10597.533108999998},{"$f":"H57+(H58*3)","v":8137.5699880000002}]
[]
[null,null,null,null,"Tarifas Mensuales"]
[null,null,null,null,"Prima para Asegurado Titular",null,{"$f":"(VLOOKUP($I$18,Tablas!$A$1203:$G$1269,3,TRUE))*1.1494","v":292.34146106666668},{"$f":"(VLOOKUP($I$18,Tablas!$A$1203:$G$1269,4,TRUE))*1.1494","v":222.949118}]
[null,null,null,null,"Prima para conyuge",null,{"$f":"(IF($F$18=1,0,(VLOOKUP($I$20,Tablas!$A$1203:$G$1269,3,TRUE))))*1.1494","v":423.74010279999999},{"$f":"(IF($F$18=1,0,(VLOOKUP($I$20,Tablas!$A$1203:$G$1269,4,TRUE))))*1.1494","v":322.0680101333333}]
[null,null,null,null,"Prima para hijo (s)",null,{"$f":"(IF($F$20=0,0,(VLOOKUP($F$20,Tablas!$A$1270:$G$1272,3,TRUE))))*1.1494","v":175.80609386666666},{"$f":"(IF($F$20=0,0,(VLOOKUP($F$20,Tablas!$A$1270:$G$1272,4,TRUE))))*1.1494","v":138.14638600000001}]
[null,null,null,null,"Total de Prima neta",null,{"$f":"(SUM(G62:G64))","v":891.8876577333333},{"$f":"(SUM(H62:H64))","v":683.16351413333325}]
[null,null,null,null,"Costo Administrativo Anual",null,86,86]
[null,null,null,null,"IVA (14.49%)",null,{"$f":"(G66)*0%","v":0},{"$f":"(H66)*0%","v":0}]
[]
[null,null,null,null,"TOTAL de primera cuota",null,{"$f":"SUM(G65:G67)","v":977.8876577333333},{"$f":"SUM(H65:H67)","v":769.16351413333325}]
[null,null,null,null,"Once (11) cuotas mensuales cada una de:",null,{"$f":"G65+G67","v":891.8876577333333},{"$f":"H65+H67","v":683.16351413333325}]
[null,null,null,null,"TOTAL ANUAL",null,{"$f":"G69+(G70*11)","v":10788.6518928},{"$f":"H69+(H70*11)","v":8283.9621695999995}]
[]
[null,null,null,null,"Tarifas en US$ -  Efectivas a partir del 1ro. de Enero de 2023"]
[null,null,null,null,"Este presupuesto solamente tiene carácter informativo y en ningún momento expresa compromiso legal para suministrarle cobertura de seguro. La emisión de una póliza de seguro Bupa está sujeta a todas las evaluaciones de riesgo por parte de Bupa y a la recepción de todos los pagos de prima requeridos."]

{"sheet":"Resumen tarifas","index":6,"n_rows":106,"n_cols":8,"rows_kept":106,"cut":false,"hidden":false,"merged":[[104,0,104,7],[70,4,70,7],[77,4,77,7],[79,4,79,7],[81,4,81,7],[83,4,83,7],[78,0,78,1],[91,0,91,1],[92,0,92,1],[74,1,74,3],[77,0,77,1],[101,0,101,3],[100,0,100,3],[64,4,64,7],[66,4,66,7],[68,4,68,7],[50,3,50,7],[52,3,52,7],[54,3,54,7],[22,2,22,6],[58,0,58,2],[53,0,53,1],[54,0,54,1],[55,0,55,1],[38,2,38,3],[40,2,40,3],[41,0,41,1],[27,0,27,1],[50,0,50,1],[51,0,51,1],[42,2,42,3],[52,0,52,1],[56,3,56,7],[105,0,107,6],[87,0,87,1],[90,0,90,1],[79,0,79,1],[86,0,86,2],[90,2,90,3],[82,0,82,1],[80,0,80,1],[81,0,81,1],[93,0,93,1],[102,0,102,1],[92,2,92,3],[94,2,94,3],[94,0,94,1],[95,0,95,1],[96,2,96,3],[19,0,19,6],[46,0,46,1],[21,2,21,6],[24,4,24,5],[27,4,27,5],[32,0,32,1],[33,0,33,1],[36,0,36,1],[37,0,37,1],[38,0,38,1],[39,0,39,1],[40,0,40,1],[44,0,44,1],[36,2,36,3],[21,0,21,1],[24,0,24,1],[61,0,61,1],[69,0,69,1],[64,0,64,1],[65,0,65,1],[66,0,66,1],[67,0,67,1],[68,0,68,1]]}
[]
[null,null,null,null," "," "]
[]
[]
[]
[null,null,null,null," "," "," "]
[]
[]
[]
[]
[]
[]
[]
[]
[]
[]
[]
[]
[]
["Cotización de Seguro Médico - Global Health Plans"]
[]
["Nombre del Asegurado Titular",null,{"$f":"+'INGRESO DE DATOS'!$D$15","v":"JOHN DOE"}]
[null,"Cotizado por",{"$f":"+'INGRESO DE DATOS'!$D$21","v":"NOMBRE DEL AGENTE"}]
[]
["Número de adultos en la póliza",null,{"$f":"+'INGRESO DE DATOS'!$D$17","v":2},null,"Edad del Asegurado Titular",null,{"$f":"+'INGRESO DE DATOS'!$D$19","v":32}]
[]
[]
["Número de niños en la póliza",null,{"$f":"+'INGRESO DE DATOS'!$H$17","v":2},null,"Edad del/la cónyuge ",null,{"$f":"+'INGRESO DE DATOS'!$H$19","v":46}]
[]
[]
[null,null,"Fecha de la Cotización:",{"$f":"NOW()","v":"2022-12-06T15:06:59.900"}]
[]
["Bupa Global Ultimtate Health Plan"]
["Deducibles",null,"PLAN 1","PLAN 2"]
["En el país de residencia",null,0,1000]
["Fuera del país de residencia",null,0,1000]
[null,null,"Tarifas Anuales"]
[null,null,{"$f":"'Global Ultimate Health  Plan'!G35","v":89001.285199999998},{"$f":"'Global Ultimate Health  Plan'!H35","v":57460.599799999996}]
[null,null,"Tarifas Semi-anuales"]
[null,null,{"$f":"'Global Ultimate Health  Plan'!G46","v":47125.101155999997},{"$f":"'Global Ultimate Health  Plan'!H46","v":30408.537894000001}]
[null,null,"Tarifas Trimestrales"]
[null,null,{"$f":"'Global Ultimate Health  Plan'!G59","v":24451.703429999998},{"$f":"'Global Ultimate Health  Plan'!H59","v":15778.014945000001}]
[null,null,"Tarifas Mensuales"]
[null,null,{"$f":"'Global Ultimate Health  Plan'!G74","v":8298.7599520000003},{"$f":"'Global Ultimate Health  Plan'!H74","v":5354.9626479999997}]
["Ahorros en tarifas de prima para niños*",null,{"$f":"'Global Ultimate Health  Plan'!G36","v":7810.1729999999998},{"$f":"'Global Ultimate Health  Plan'!H36","v":5037.8202000000001}]
[]
["Bupa Global Elite Health Plan"]
["Deducibles",null,null,"PLAN 1","PLAN 2","PLAN 3","PLAN 4","PLAN 5"]
["En el país de residencia",null,null,250,2000,3500,5000,10000]
["Fuera del país de residencia",null,null,5000,2000,3500,5000,10000]
[null,null,null,"Tarifas Anuales"]
[null,null,null,{"$f":"+'Global Elite Health  Plan'!G35","v":32454.65569},{"$f":"+'Global Elite Health  Plan'!H35","v":28455.835619999998},{"$f":"+'Global Elite Health  Plan'!I35","v":23235.778050000001},{"$f":"+'Global Elite Health  Plan'!J35","v":20158.259550000002},{"$f":"+'Global Elite Health  Plan'!K35","v":15374.916509999999}]
[null,null,null,"Tarifas Semi-anuales"]
[null,null,null,{"$f":"+'Global Elite Health  Plan'!G46","v":17155.3875157},{"$f":"+'Global Elite Health  Plan'!H46","v":15036.0128786},{"$f":"+'Global Elite Health  Plan'!I46","v":12269.3823665},{"$f":"+'Global Elite Health  Plan'!J46","v":10638.2975615},{"$f":"+'Global Elite Health  Plan'!K46","v":8103.1257502999997}]
[null,null,null,"Tarifas Trimestrales"]
[null,null,null,{"$f":"+'Global Elite Health  Plan'!G59","v":8901.3803147500003},{"$f":"+'Global Elite Health  Plan'!H59","v":7801.7047955000007},{"$f":"+'Global Elite Health  Plan'!I59","v":6366.1889637500008},{"$f":"+'Global Elite Health  Plan'!J59","v":5519.871376250001},{"$f":"+'Global Elite Health  Plan'!K59","v":4204.4520402500002}]
[null,null,null,"Tarifas Mensuales"]
[null,null,null,{"$f":"+'Global Elite Health  Plan'!G73","v":3021.0745310666666},{"$f":"+'Global Elite Health  Plan'!H73","v":2647.8513245333334},{"$f":"+'Global Elite Health  Plan'!I73","v":2160.6459513333334},{"$f":"+'Global Elite Health  Plan'!J73","v":1873.4108913333334},{"$f":"+'Global Elite Health  Plan'!K73","v":1426.9655409333332}]
["Ahorros en tarifas de prima para niños*",null,null,{"$f":"+'Global Elite Health  Plan'!G36","v":2873.3275899999999},{"$f":"+'Global Elite Health  Plan'!H36","v":2520.6342000000004},{"$f":"+'Global Elite Health  Plan'!I36","v":2108.3444199999994},{"$f":"+'Global Elite Health  Plan'!J36","v":1828.9252799999997},{"$f":"+'Global Elite Health  Plan'!K36","v":1393.1877400000001}]
[]
["Bupa Global Premier Health Plan"]
["Deducibles",null,null,null,"PLAN 1","PLAN 2","PLAN 3","PLAN 4"]
["En el país de residencia",null,null,null,250,2000,5000,10000]
["Fuera del país de residencia",null,null,null,5000,2000,5000,10000]
[null,null,null,null,"Tarifas Anuales"]
[null,null,null,null,{"$f":"+'Global Premier Health  Plan'!G35","v":23250.4329},{"$f":"+'Global Premier Health  Plan'!H35","v":21109.847809999999},{"$f":"+'Global Premier Health  Plan'!I35","v":15471.638519999999},{"$f":"+'Global Premier Health  Plan'!J35","v":11326.26995}]
[null,null,null,null,"Tarifas Semi-anuales"]
[null,null,null,null,{"$f":"+'Global Premier Health  Plan'!G45","v":12277.149437},{"$f":"+'Global Premier Health  Plan'!H45","v":11142.6393393},{"$f":"+'Global Premier Health  Plan'!I45","v":8154.3884156000004},{"$f":"+'Global Premier Health  Plan'!J45","v":5957.3430734999993}]
[null,null,null,null,"Tarifas Trimestrales"]
[null,null,null,null,{"$f":"+'Global Premier Health  Plan'!G57","v":6370.2190475000007},{"$f":"+'Global Premier Health  Plan'!H57","v":5781.55814775},{"$f":"+'Global Premier Health  Plan'!I57","v":4231.0505929999999},{"$f":"+'Global Premier Health  Plan'!J57","v":3091.0742362500005}]
[null,null,null,null,"Tarifas Mensuales"]
[null,null,null,null,{"$f":"+'Global Premier Health  Plan'!G70","v":2162.0137373333332},{"$f":"+'Global Premier Health  Plan'!H70","v":1962.2257956000001},{"$f":"+'Global Premier Health  Plan'!I70","v":1435.9929285333333},{"$f":"+'Global Premier Health  Plan'!J70","v":1049.091862}]
[]
["Bupa Global Select Health Plan"]
["Deducibles",null,null,null,"PLAN 1","PLAN 2","PLAN 3","PLAN 4"]
[" En el país de residencia ",null,null,null,250,2000,5000,10000]
[" Fuera del país de residencia ",null,null,null,5000,2000,5000,10000]
[null,null,null,null,"Tarifas Anuales"]
[null,null,null,null,{"$f":"+'Global Select Health  Plan'!G35","v":15626.002939999998},{"$f":"+'Global Select Health  Plan'!H35","v":14993.890409999998},{"$f":"+'Global Select Health  Plan'!I35","v":11031.218969999998},{"$f":"+'Global Select Health  Plan'!J35","v":8079.7321799999991}]
[null,null,null,null,"Tarifas Semi-anuales"]
[null,null,null,null,{"$f":"+'Global Select Health  Plan'!G45","v":8236.2015582000004},{"$f":"+'Global Select Health  Plan'!H45","v":7901.1819173000004},{"$f":"+'Global Select Health  Plan'!I45","v":5800.9660540999994},{"$f":"+'Global Select Health  Plan'!J45","v":4236.6780553999997}]
[null,null,null,null,"Tarifas Trimestrales"]
[null,null,null,null,{"$f":"+'Global Select Health  Plan'!G57","v":4273.5008084999999},{"$f":"+'Global Select Health  Plan'!H57","v":4099.66986275},{"$f":"+'Global Select Health  Plan'!I57","v":3009.9352167500001},{"$f":"+'Global Select Health  Plan'!J57","v":2198.2763494999999}]
[null,null,null,null,"Tarifas Mensuales"]
[null,null,null,null,{"$f":"+'Global Select Health  Plan'!G70","v":1450.4002743999999},{"$f":"+'Global Select Health  Plan'!H70","v":1391.4031049333332},{"$f":"+'Global Select Health  Plan'!I70","v":1021.5537705333334},{"$f":"+'Global Select Health  Plan'!J70","v":746.08167013333332}]
[]
["Bupa Global Major Medical Health Plan"]
["Deducibles",null,"PLAN 1","PLAN 2"]
[" En el país de residencia ",null,10000,20000]
[" Fuera del país de residencia ",null,10000,20000]
[null,null,"Tarifas Anuales"]
[null,null,{"$f":"'Global Major Medical Health  Pl'!G36","v":9641.9391899999991},{"$f":"'Global Major Medical Health  Pl'!H36","v":7405.6090800000002}]
[null,null,"Tarifas Semi-anuales"]
[null,null,{"$f":"'Global Major Medical Health  Pl'!G46","v":5064.6477707000004},{"$f":"'Global Major Medical Health  Pl'!H46","v":3879.3928124000004}]
[null,null,"Tarifas Trimestrales"]
[null,null,{"$f":"'Global Major Medical Health  Pl'!G58","v":2627.8832772499995},{"$f":"'Global Major Medical Health  Pl'!H58","v":2012.892497}]
[null,null,"Tarifas Mensuales"]
[null,null,{"$f":"'Global Major Medical Health  Pl'!G70","v":891.8876577333333},{"$f":"'Global Major Medical Health  Pl'!H70","v":683.16351413333325}]
[]
["Notas:"]
["Primas anuales incluyen US$86.00 por Costo Administrativo Anual"]
["Costo administrativo anual incluido en el primer pago de los pagos semestrales, trimestrales y mensuales"]
["*Basado en un modo de pago anual"]
[]
["Tarifas en US$ -  Efectivas a partir del 1ro. de Enero de 2023"]
["Este presupuesto solamente tiene carácter informativo y en ningún momento expresa compromiso legal para suministrarle cobertura de seguro. La emisión de una póliza de seguro Bupa está sujeta a todas las evaluaciones de riesgo por parte de Bupa y a la recepción de todos los pagos de prima requeridos."]

{"sheet":"Tablas","index":7,"n_rows":1497,"n_cols":25,"rows_kept":1497,"cut":false,"hidden":true,"merged":[[1424,0,1424,6],[1425,0,1425,1],[1425,2,1425,6],[1348,0,1348,6],[1349,0,1349,6],[1350,0,1350,1],[1350,2,1350,6],[1423,0,1423,6],[1200,0,1200,1],[1200,2,1200,6],[1273,0,1273,6],[1274,0,1274,6],[1275,0,1275,1],[1275,2,1275,6],[1124,0,1124,6],[1125,0,1125,6],[1126,0,1126,1],[1126,2,1126,6],[1199,0,1199,6],[976,0,976,1],[976,2,976,6],[1049,0,1049,6],[1050,0,1050,6],[1051,0,1051,1],[1051,2,1051,6],[900,0,900,6],[901,0,901,6],[902,0,902,1],[902,2,902,6],[975,0,975,6],[1,0,1,6],[2,0,2,6],[77,0,77,1],[77,2,77,6],[76,0,76,6],[3,0,3,1],[3,2,3,6],[376,0,376,1],[376,2,376,6],[150,0,150,6],[151,0,151,6],[152,0,152,1],[152,2,152,6],[225,0,225,6],[226,0,226,1],[375,0,375,6],[226,2,226,6],[300,0,300,6],[301,0,301,6],[302,0,302,1],[302,2,302,6],[526,0,526,6],[450,0,450,6],[451,0,451,6],[452,0,452,1],[452,2,452,6],[525,0,525,6],[527,0,527,1],[527,2,527,6],[600,0,600,6],[601,0,601,6],[602,0,602,1],[602,2,602,6],[751,0,751,6],[675,0,675,6],[676,0,676,6],[677,0,677,1],[677,2,677,6],[750,0,750,6],[752,0,752,1],[752,2,752,6],[825,0,825,6],[826,0,826,6],[827,0,827,1],[827,2,827,6]]}
[]
["BUPA GLOBAL ELITE",null,null,null,null,null,null,null,"FACTOR MENSUAL:",null,9.3333333333333338E-2,9.3333333333333338E-2,9.3333333333333338E-2,9.3333333333333338E-2,9.3333333333333338E-2,9.3333333333333338E-2]
["TARIFAS ANUALES",null,null,null,null,null,null,null,"FACTOR TRIMESTRAL:",null,0.27500000000000002,0.27500000000000002,0.27500000000000002,0.27500000000000002,0.27500000000000002,0.27500000000000002]
["EDAD",null,null,null,null,null,null,null,"FACTOR SEMIANUAL:",null,0.53,0.53,0.53,0.53,0.53,0.53]
[" "," ",250,2000,3500,5000,10000,null,null,null,null,null,null,null,null,null,null,null,null,null,2,6,10,14,18]
[18,18,{"$f":"O6","v":8460.0499999999993},{"$f":"P6","v":7413.7},{"$f":"Q6","v":6158.25},{"$f":"R6","v":5343.0999999999995},{"$f":"S6","v":4068.95},null,9953,8722,7245,6286,4787,null,{"$f":"(I6)*0.85","v":8460.0499999999993},{"$f":"(J6)*0.85","v":7413.7},6158.25,5343.0999999999995,4068.95,null,0,0,0,0,0]
[19,18,{"$f":"O7","v":8460.0499999999993},{"$f":"P7","v":7413.7},{"$f":"Q7","v":6158.25},{"$f":"R7","v":5343.0999999999995},{"$f":"S7","v":4068.95},null,9953,8722,7245,6286,4787,null,{"$f":"(I7)*0.85","v":8460.0499999999993},{"$f":"(J7)*0.85","v":7413.7},{"$f":"(K7)*0.85","v":6158.25},{"$f":"(L7)*0.85","v":5343.0999999999995},{"$f":"(M7)*0.85","v":4068.95},null,0,0,0,0,0]
[20,18,8460.0499999999993,7413.7,6158.25,5343.0999999999995,4068.95,null,9953,8722,7245,6286,4787,null,8460.0499999999993,7413.7,6158.25,5343.0999999999995,4068.95,null,0,0,0,0,0]
[21,18,8460.0499999999993,7413.7,6158.25,5343.0999999999995,4068.95,null,9953,8722,7245,6286,4787,null,8460.0499999999993,7413.7,6158.25,5343.0999999999995,4068.95,null,0,0,0,0,0]
[22,18,8460.0499999999993,7413.7,6158.25,5343.0999999999995,4068.95,null,9953,8722,7245,6286,4787,null,8460.0499999999993,7413.7,6158.25,5343.0999999999995,4068.95,null,0,0,0,0,0]
[23,18,8460.0499999999993,7413.7,6158.25,5343.0999999999995,4068.95,null,9953,8722,7245,6286,4787,null,8460.0499999999993,7413.7,6158.25,5343.0999999999995,4068.95,null,0,0,0,0,0]
[24,18,8460.0499999999993,7413.7,6158.25,5343.0999999999995,4068.95,null,9953,8722,7245,6286,4787,null,8460.0499999999993,7413.7,6158.25,5343.0999999999995,4068.95,null,0,0,0,0,0]
[25,25,9038.9,7922,6540.75,5671.2,4322.25,null,10634,9320,7695,6672,5085,null,9038.9,7922,6540.75,5671.2,4322.25,null,0,0,0,0,0]
[26,25,9038.9,7922,6540.75,5671.2,4322.25,null,10634,9320,7695,6672,5085,null,9038.9,7922,6540.75,5671.2,4322.25,null,0,0,0,0,0]
[27,25,9038.9,7922,6540.75,5671.2,4322.25,null,10634,9320,7695,6672,5085,null,9038.9,7922,6540.75,5671.2,4322.25,null,0,0,0,0,0]
[28,25,9038.9,7922,6540.75,5671.2,4322.25,null,10634,9320,7695,6672,5085,null,9038.9,7922,6540.75,5671.2,4322.25,null,0,0,0,0,0]
[29,25,9038.9,7922,6540.75,5671.2,4322.25,null,10634,9320,7695,6672,5085,null,9038.9,7922,6540.75,5671.2,4322.25,null,0,0,0,0,0]
[30,30,10051.25,8810.25,7219.9,6259.4,4767.6499999999996,null,11825,10365,8494,7364,5609,null,10051.25,8810.25,7219.9,6259.4,4767.6499999999996,null,0,0,0,0,0]
[31,30,10051.25,8810.25,7219.9,6259.4,4767.6499999999996,null,11825,10365,8494,7364,5609,null,10051.25,8810.25,7219.9,6259.4,4767.6499999999996,null,0,0,0,0,0]
[32,30,10051.25,8810.25,7219.9,6259.4,4767.6499999999996,null,11825,10365,8494,7364,5609,null,10051.25,8810.25,7219.9,6259.4,4767.6499999999996,null,0,0,0,0,0]
[33,30,10051.25,8810.25,7219.9,6259.4,4767.6499999999996,null,11825,10365,8494,7364,5609,null,10051.25,8810.25,7219.9,6259.4,4767.6499999999996,null,0,0,0,0,0]
[34,30,10051.25,8810.25,7219.9,6259.4,4767.6499999999996,null,11825,10365,8494,7364,5609,null,10051.25,8810.25,7219.9,6259.4,4767.6499999999996,null,0,0,0,0,0]
[35,35,11220,9831.9499999999989,8011.25,6947.9,5292.0999999999995,null,13200,11567,9425,8174,6226,null,11220,9831.9499999999989,8011.25,6947.9,5292.0999999999995,null,0,0,0,0,0]
[36,35,11220,9831.9499999999989,8011.25,6947.9,5292.0999999999995,null,13200,11567,9425,8174,6226,null,11220,9831.9499999999989,8011.25,6947.9,5292.0999999999995,null,0,0,0,0,0]
[37,35,11220,9831.9499999999989,8011.25,6947.9,5292.0999999999995,null,13200,11567,9425,8174,6226,null,11220,9831.9499999999989,8011.25,6947.9,5292.0999999999995,null,0,0,0,0,0]
[38,35,11220,9831.9499999999989,8011.25,6947.9,5292.0999999999995,null,13200,11567,9425,8174,6226,null,11220,9831.9499999999989,8011.25,6947.9,5292.0999999999995,null,0,0,0,0,0]
[39,35,11220,9831.9499999999989,8011.25,6947.9,5292.0999999999995,null,13200,11567,9425,8174,6226,null,11220,9831.9499999999989,8011.25,6947.9,5292.0999999999995,null,0,0,0,0,0]
[40,40,12985.449999999999,11380.65,9231,8004.45,6098.75,null,15277,13389,10860,9417,7175,null,12985.449999999999,11380.65,9231,8004.45,6098.75,null,0,0,0,0,0]
[41,40,12985.449999999999,11380.65,9231,8004.45,6098.75,null,15277,13389,10860,9417,7175,null,12985.449999999999,11380.65,9231,8004.45,6098.75,null,0,0,0,0,0]
[42,40,12985.449999999999,11380.65,9231,8004.45,6098.75,null,15277,13389,10860,9417,7175,null,12985.449999999999,11380.65,9231,8004.45,6098.75,null,0,0,0,0,0]
[43,40,12985.449999999999,11380.65,9231,8004.45,6098.75,null,15277,13389,10860,9417,7175,null,12985.449999999999,11380.65,9231,8004.45,6098.75,null,0,0,0,0,0]
[44,40,12985.449999999999,11380.65,9231,8004.45,6098.75,null,15277,13389,10860,9417,7175,null,12985.449999999999,11380.65,9231,8004.45,6098.75,null,0,0,0,0,0]
[45,45,14533.3,12737.25,10299.449999999999,8930.1,6801.7,null,17098,14985,12117,10506,8002,null,14533.3,12737.25,10299.449999999999,8930.1,6801.7,null,0,0,0,0,0]
[46,45,14533.3,12737.25,10299.449999999999,8930.1,6801.7,null,17098,14985,12117,10506,8002,null,14533.3,12737.25,10299.449999999999,8930.1,6801.7,null,0,0,0,0,0]
[47,45,14533.3,12737.25,10299.449999999999,8930.1,6801.7,null,17098,14985,12117,10506,8002,null,14533.3,12737.25,10299.449999999999,8930.1,6801.7,null,0,0,0,0,0]
[48,45,14533.3,12737.25,10299.449999999999,8930.1,6801.7,null,17098,14985,12117,10506,8002,null,14533.3,12737.25,10299.449999999999,8930.1,6801.7,null,0,0,0,0,0]
[49,45,14533.3,12737.25,10299.449999999999,8930.1,6801.7,null,17098,14985,12117,10506,8002,null,14533.3,12737.25,10299.449999999999,8930.1,6801.7,null,0,0,0,0,0]
[50,50,16796,14722.85,11876.199999999999,10299.449999999999,7844.65,null,19760,17321,13972,12117,9229,null,16796,14722.85,11876.199999999999,10299.449999999999,7844.65,null,0,0,0,0,0]
[51,50,16796,14722.85,11876.199999999999,10299.449999999999,7844.65,null,19760,17321,13972,12117,9229,null,16796,14722.85,11876.199999999999,10299.449999999999,7844.65,null,0,0,0,0,0]
[52,50,16796,14722.85,11876.199999999999,10299.449999999999,7844.65,null,19760,17321,13972,12117,9229,null,16796,14722.85,11876.199999999999,10299.449999999999,7844.65,null,0,0,0,0,0]
[53,50,16796,14722.85,11876.199999999999,10299.449999999999,7844.65,null,19760,17321,13972,12117,9229,null,16796,14722.85,11876.199999999999,10299.449999999999,7844.65,null,0,0,0,0,0]
[54,50,16796,14722.85,11876.199999999999,10299.449999999999,7844.65,null,19760,17321,13972,12117,9229,null,16796,14722.85,11876.199999999999,10299.449999999999,7844.65,null,0,0,0,0,0]
[55,55,18777.349999999999,16459.399999999998,13259.15,11498.8,8758.4,null,22091,19364,15599,13528,10304,null,18777.349999999999,16459.399999999998,13259.15,11498.8,8758.4,null,0,0,0,0,0]
[56,55,18777.349999999999,16459.399999999998,13259.15,11498.8,8758.4,null,22091,19364,15599,13528,10304,null,18777.349999999999,16459.399999999998,13259.15,11498.8,8758.4,null,0,0,0,0,0]
[57,55,18777.349999999999,16459.399999999998,13259.15,11498.8,8758.4,null,22091,19364,15599,13528,10304,null,18777.349999999999,16459.399999999998,13259.15,11498.8,8758.4,null,0,0,0,0,0]
[58,55,18777.349999999999,16459.399999999998,13259.15,11498.8,8758.4,null,22091,19364,15599,13528,10304,null,18777.349999999999,16459.399999999998,13259.15,11498.8,8758.4,null,0,0,0,0,0]
[59,55,18777.349999999999,16459.399999999998,13259.15,11498.8,8758.4,null,22091,19364,15599,13528,10304,null,18777.349999999999,16459.399999999998,13259.15,11498.8,8758.4,null,0,0,0,0,0]
[60,60,20096.55,17616.25,14178.85,12294.4,9364.4499999999989,null,23643,20725,16681,14464,11017,null,20096.55,17616.25,14178.85,12294.4,9364.4499999999989,null,0,0,0,0,0]
[61,61,22743.45,19936.75,16039.5,13910.25,10594.4,null,26757,23455,18870,16365,12464,null,22743.45,19936.75,16039.5,13910.25,10594.4,null,0,0,0,0,0]
[62,62,25268.799999999999,22147.599999999999,17815.149999999998,15446.199999999999,11764,null,29728,26056,20959,18172,13840,null,25268.799999999999,22147.599999999999,17815.149999999998,15446.199999999999,11764,null,0,0,0,0,0]
[63,63,27978.6,24526.75,19727.649999999998,17105.399999999998,13029.65,null,32916,28855,23209,20124,15329,null,27978.6,24526.75,19727.649999999998,17105.399999999998,13029.65,null,0,0,0,0,0]
[64,64,30884.75,27069.95,21777.85,18883.599999999999,14382.85,null,36335,31847,25621,22216,16921,null,30884.75,27069.95,21777.85,18883.599999999999,14382.85,null,0,0,0,0,0]
[65,65,33977.9,29784.85,23967.45,20784.2,15832.1,null,39974,35041,28197,24452,18626,null,33977.9,29784.85,23967.45,20784.2,15832.1,null,0,0,0,0,0]
[66,66,37264,32663.8,26296.45,22802.1,17369.75,null,43840,38428,30937,26826,20435,null,37264,32663.8,26296.45,22802.1,17369.75,null,0,0,0,0,0]
[67,67,40739.65,35708.5,28765.7,24942.399999999998,18998.349999999999,null,47929,42010,33842,29344,22351,null,40739.65,35708.5,28765.7,24942.399999999998,18998.349999999999,null,0,0,0,0,0]
[68,68,44404,38921.5,31370.95,27203.399999999998,20721.3,null,52240,45790,36907,32004,24378,null,44404,38921.5,31370.95,27203.399999999998,20721.3,null,0,0,0,0,0]
[69,69,48262.15,42301.95,34118.15,29585.95,22534.35,null,56779,49767,40139,34807,26511,null,48262.15,42301.95,34118.15,29585.95,22534.35,null,0,0,0,0,0]
[70,70,52308.15,45849,37000.5,32084.95,24438.35,null,61539,53940,43530,37747,28751,null,52308.15,45849,37000.5,32084.95,24438.35,null,0,0,0,0,0]
[71,71,56544.549999999996,49562.65,40024.799999999996,34707.199999999997,26435,null,66523,58309,47088,40832,31100,null,56544.549999999996,49562.65,40024.799999999996,34707.199999999997,26435,null,0,0,0,0,0]
[72,72,60972.2,53446.299999999996,43185.95,37445.9,28522.6,null,71732,62878,50807,44054,33556,null,60972.2,53446.299999999996,43185.95,37445.9,28522.6,null,0,0,0,0,0]
[73,73,65591.099999999991,57492.299999999996,46489.049999999996,40309.549999999996,30702.85,null,77166,67638,54693,47423,36121,null,65591.099999999991,57492.299999999996,46489.049999999996,40309.549999999996,30702.85,null,0,0,0,0,0]
[74,74,70401.25,61705.75,49926.45,43292.2,32974.9,null,82825,72595,58737,50932,38794,null,70401.25,61705.75,49926.45,43292.2,32974.9,null,0,0,0,0,0]
[75,75,75399.25,66088.349999999991,53503.25,46393.85,35337.049999999996,null,88705,77751,62945,54581,41573,null,75399.25,66088.349999999991,53503.25,46393.85,35337.049999999996,null,0,0,0,0,0]
[76,75,75399.25,66088.349999999991,53503.25,46393.85,35337.049999999996,null,88705,77751,62945,54581,41573,null,75399.25,66088.349999999991,53503.25,46393.85,35337.049999999996,null,0,0,0,0,0]
[77,75,75399.25,66088.349999999991,53503.25,46393.85,35337.049999999996,null,88705,77751,62945,54581,41573,null,75399.25,66088.349999999991,53503.25,46393.85,35337.049999999996,null,0,0,0,0,0]
[78,75,75399.25,66088.349999999991,53503.25,46393.85,35337.049999999996,null,88705,77751,62945,54581,41573,null,75399.25,66088.349999999991,53503.25,46393.85,35337.049999999996,null,0,0,0,0,0]
[79,75,75399.25,66088.349999999991,53503.25,46393.85,35337.049999999996,null,88705,77751,62945,54581,41573,null,75399.25,66088.349999999991,53503.25,46393.85,35337.049999999996,null,0,0,0,0,0]
[80,75,75399.25,66088.349999999991,53503.25,46393.85,35337.049999999996,null,88705,77751,62945,54581,41573,null,75399.25,66088.349999999991,53503.25,46393.85,35337.049999999996,null,0,0,0,0,0]
[81,75,75399.25,66088.349999999991,53503.25,46393.85,35337.049999999996,null,88705,77751,62945,54581,41573,null,75399.25,66088.349999999991,53503.25,46393.85,35337.049999999996,null,0,0,0,0,0]
[82,75,75399.25,66088.349999999991,53503.25,46393.85,35337.049999999996,null,88705,77751,62945,54581,41573,null,75399.25,66088.349999999991,53503.25,46393.85,35337.049999999996,null,0,0,0,0,0]
[83,75,{"$f":"O71","v":75399.25},{"$f":"P71","v":66088.349999999991},{"$f":"Q71","v":53503.25},{"$f":"R71","v":46393.85},{"$f":"S71","v":35337.049999999996},null,88705,77751,62945,54581,41573,null,{"$f":"(I71)*0.85","v":75399.25},{"$f":"(J71)*0.85","v":66088.349999999991},{"$f":"(K71)*0.85","v":53503.25},{"$f":"(L71)*0.85","v":46393.85},{"$f":"(M71)*0.85","v":35337.049999999996},null,0,0,0,0,0]
[84,75,75399.25,66088.349999999991,53503.25,46393.85,35337.049999999996,null,88705,77751,62945,54581,41573,null,75399.25,66088.349999999991,53503.25,46393.85,35337.049999999996,null,0,0,0,0,0]
[1,"1 Child",3576.7999999999997,3134.7999999999997,2621.4,2273.75,1732.3,null,4208,3688,3084,2675,2038,null,3576.7999999999997,{"$f":"J73*0.85","v":3134.7999999999997},{"$f":"K73*0.85","v":2621.4},{"$f":"L73*0.85","v":2273.75},{"$f":"M73*0.85","v":1732.3},null,0,0,0,0,0]
[2,"2 Children",6076.65,5327.8,4455.7,3864.95,2944.4,null,7149,6268,5242,4547,3464,null,6076.65,{"$f":"J74*0.85","v":5327.8},{"$f":"K74*0.85","v":4455.7},{"$f":"L74*0.85","v":3864.95},{"$f":"M74*0.85","v":2944.4},null,0,0,0,0,0]
[3,"3+ Children",8579.9,7519.95,6290,5454.45,4155.6499999999996,null,10094,8847,7400,6417,4889,null,8579.9,7519.95,6290,5454.45,4155.6499999999996,null,0,0,0,0,0]
[]
["BUPA GLOBAL ELITE - MENSUALES"]
["EDAD"]
[" "," ",1000,2000,3500]
[18,null,{"$f":"C6*$K$2","v":789.60466666666662},{"$f":"D6*$K$2","v":691.94533333333334},574.77,498.68933333333331,379.76866666666666,null,{"$f":"I6*$K$2","v":928.94666666666672},{"$f":"J6*$K$2","v":814.0533333333334},676.2,586.69333333333338,446.78666666666669,null,{"$f":"I80*0.85","v":789.60466666666673},{"$f":"J80*0.85","v":691.94533333333334},574.77,498.68933333333337,379.76866666666666]
[19,null,{"$f":"C7*$K$2","v":789.60466666666662},691.94533333333334,574.77,498.68933333333331,379.76866666666666,null,{"$f":"I7*$K$2","v":928.94666666666672},814.0533333333334,676.2,586.69333333333338,446.78666666666669,null,{"$f":"I81*0.85","v":789.60466666666673},{"$f":"J81*0.85","v":691.94533333333334},{"$f":"K81*0.85","v":574.77},{"$f":"L81*0.85","v":498.68933333333337},{"$f":"M81*0.85","v":379.76866666666666}]
[20,null,{"$f":"C8*$K$2","v":789.60466666666662},691.94533333333334,574.77,498.68933333333331,379.76866666666666,null,928.94666666666672,814.0533333333334,676.2,586.69333333333338,446.78666666666669,null,789.60466666666673,691.94533333333334,574.77,498.68933333333337,379.76866666666666]
[21,null,{"$f":"C9*$K$2","v":789.60466666666662},691.94533333333334,574.77,498.68933333333331,379.76866666666666,null,928.94666666666672,814.0533333333334,676.2,586.69333333333338,446.78666666666669,null,789.60466666666673,691.94533333333334,574.77,498.68933333333337,379.76866666666666]
[22,null,{"$f":"C10*$K$2","v":789.60466666666662},691.94533333333334,574.77,498.68933333333331,379.76866666666666,null,928.94666666666672,814.0533333333334,676.2,586.69333333333338,446.78666666666669,null,789.60466666666673,691.94533333333334,574.77,498.68933333333337,379.76866666666666]
[23,null,{"$f":"C11*$K$2","v":789.60466666666662},691.94533333333334,574.77,498.68933333333331,379.76866666666666,null,928.94666666666672,814.0533333333334,676.2,586.69333333333338,446.78666666666669,null,789.60466666666673,691.94533333333334,574.77,498.68933333333337,379.76866666666666]
[24,null,{"$f":"C12*$K$2","v":789.60466666666662},691.94533333333334,574.77,498.68933333333331,379.76866666666666,null,928.94666666666672,814.0533333333334,676.2,586.69333333333338,446.78666666666669,null,789.60466666666673,691.94533333333334,574.77,498.68933333333337,379.76866666666666]
[25,null,{"$f":"C13*$K$2","v":843.63066666666668},739.38666666666666,610.47,529.31200000000001,403.41,null,992.50666666666666,869.86666666666667,718.2,622.72,474.6,null,843.63066666666668,739.38666666666666,610.47,529.31200000000001,403.41]
[26,null,{"$f":"C14*$K$2","v":843.63066666666668},739.38666666666666,610.47,529.31200000000001,403.41,null,992.50666666666666,869.86666666666667,718.2,622.72,474.6,null,843.63066666666668,739.38666666666666,610.47,529.31200000000001,403.41]
[27,null,{"$f":"C15*$K$2","v":843.63066666666668},739.38666666666666,610.47,529.31200000000001,403.41,null,992.50666666666666,869.86666666666667,718.2,622.72,474.6,null,843.63066666666668,739.38666666666666,610.47,529.31200000000001,403.41]
[28,null,{"$f":"C16*$K$2","v":843.63066666666668},739.38666666666666,610.47,529.31200000000001,403.41,null,992.50666666666666,869.86666666666667,718.2,622.72,474.6,null,843.63066666666668,739.38666666666666,610.47,529.31200000000001,403.41]
[29,null,{"$f":"C17*$K$2","v":843.63066666666668},739.38666666666666,610.47,529.31200000000001,403.41,null,992.50666666666666,869.86666666666667,718.2,622.72,474.6,null,843.63066666666668,739.38666666666666,610.47,529.31200000000001,403.41]
[30,null,{"$f":"C18*$K$2","v":938.11666666666667},822.29000000000008,673.85733333333337,584.21066666666661,444.98066666666665,null,1103.6666666666667,967.40000000000009,792.77333333333343,687.30666666666673,523.50666666666666,null,938.11666666666667,822.29000000000008,673.85733333333337,584.21066666666673,444.98066666666665]
[31,null,{"$f":"C19*$K$2","v":938.11666666666667},822.29000000000008,673.85733333333337,584.21066666666661,444.98066666666665,null,1103.6666666666667,967.40000000000009,792.77333333333343,687.30666666666673,523.50666666666666,null,938.11666666666667,822.29000000000008,673.85733333333337,584.21066666666673,444.98066666666665]
[32,null,{"$f":"C20*$K$2","v":938.11666666666667},822.29000000000008,673.85733333333337,584.21066666666661,444.98066666666665,null,1103.6666666666667,967.40000000000009,792.77333333333343,687.30666666666673,523.50666666666666,null,938.11666666666667,822.29000000000008,673.85733333333337,584.21066666666673,444.98066666666665]
[33,null,{"$f":"C21*$K$2","v":938.11666666666667},822.29000000000008,673.85733333333337,584.21066666666661,444.98066666666665,null,1103.6666666666667,967.40000000000009,792.77333333333343,687.30666666666673,523.50666666666666,null,938.11666666666667,822.29000000000008,673.85733333333337,584.21066666666673,444.98066666666665]
[34,null,{"$f":"C22*$K$2","v":938.11666666666667},822.29000000000008,673.85733333333337,584.21066666666661,444.98066666666665,null,1103.6666666666667,967.40000000000009,792.77333333333343,687.30666666666673,523.50666666666666,null,938.11666666666667,822.29000000000008,673.85733333333337,584.21066666666673,444.98066666666665]
[35,null,{"$f":"C23*$K$2","v":1047.2},917.6486666666666,747.7166666666667,648.47066666666672,493.92933333333332,null,1232,1079.5866666666668,879.66666666666674,762.90666666666675,581.09333333333336,null,1047.2,917.64866666666671,747.7166666666667,648.47066666666672,493.92933333333332]
[36,null,{"$f":"C24*$K$2","v":1047.2},917.6486666666666,747.7166666666667,648.47066666666672,493.92933333333332,null,1232,1079.5866666666668,879.66666666666674,762.90666666666675,581.09333333333336,null,1047.2,917.64866666666671,747.7166666666667,648.47066666666672,493.92933333333332]
[37,null,{"$f":"C25*$K$2","v":1047.2},917.6486666666666,747.7166666666667,648.47066666666672,493.92933333333332,null,1232,1079.5866666666668,879.66666666666674,762.90666666666675,581.09333333333336,null,1047.2,917.64866666666671,747.7166666666667,648.47066666666672,493.92933333333332]
[38,null,{"$f":"C26*$K$2","v":1047.2},917.6486666666666,747.7166666666667,648.47066666666672,493.92933333333332,null,1232,1079.5866666666668,879.66666666666674,762.90666666666675,581.09333333333336,null,1047.2,917.64866666666671,747.7166666666667,648.47066666666672,493.92933333333332]
[39,null,{"$f":"C27*$K$2","v":1047.2},917.6486666666666,747.7166666666667,648.47066666666672,493.92933333333332,null,1232,1079.5866666666668,879.66666666666674,762.90666666666675,581.09333333333336,null,1047.2,917.64866666666671,747.7166666666667,648.47066666666672,493.92933333333332]
[40,null,{"$f":"C28*$K$2","v":1211.9753333333333},1062.194,861.56000000000006,747.08199999999999,569.2166666666667,null,1425.8533333333335,1249.6400000000001,1013.6,878.92000000000007,669.66666666666674,null,1211.9753333333333,1062.194,861.56,747.08199999999999,569.2166666666667]
[41,null,{"$f":"C29*$K$2","v":1211.9753333333333},1062.194,861.56000000000006,747.08199999999999,569.2166666666667,null,1425.8533333333335,1249.6400000000001,1013.6,878.92000000000007,669.66666666666674,null,1211.9753333333333,1062.194,861.56,747.08199999999999,569.2166666666667]
[42,null,{"$f":"C30*$K$2","v":1211.9753333333333},1062.194,861.56000000000006,747.08199999999999,569.2166666666667,null,1425.8533333333335,1249.6400000000001,1013.6,878.92000000000007,669.66666666666674,null,1211.9753333333333,1062.194,861.56,747.08199999999999,569.2166666666667]
[43,null,{"$f":"C31*$K$2","v":1211.9753333333333},1062.194,861.56000000000006,747.08199999999999,569.2166666666667,null,1425.8533333333335,1249.6400000000001,1013.6,878.92000000000007,669.66666666666674,null,1211.9753333333333,1062.194,861.56,747.08199999999999,569.2166666666667]
[44,null,{"$f":"C32*$K$2","v":1211.9753333333333},1062.194,861.56000000000006,747.08199999999999,569.2166666666667,null,1425.8533333333335,1249.6400000000001,1013.6,878.92000000000007,669.66666666666674,null,1211.9753333333333,1062.194,861.56,747.08199999999999,569.2166666666667]
[45,null,{"$f":"C33*$K$2","v":1356.4413333333334},1188.81,961.28199999999993,833.47600000000011,634.82533333333333,null,1595.8133333333335,1398.6000000000001,1130.92,980.56000000000006,746.85333333333335,null,1356.4413333333334,1188.8100000000002,961.28200000000004,833.476,634.82533333333333]
[46,null,{"$f":"C34*$K$2","v":1356.4413333333334},1188.81,961.28199999999993,833.47600000000011,634.82533333333333,null,1595.8133333333335,1398.6000000000001,1130.92,980.56000000000006,746.85333333333335,null,1356.4413333333334,1188.8100000000002,961.28200000000004,833.476,634.82533333333333]
[47,null,{"$f":"C35*$K$2","v":1356.4413333333334},1188.81,961.28199999999993,833.47600000000011,634.82533333333333,null,1595.8133333333335,1398.6000000000001,1130.92,980.56000000000006,746.85333333333335,null,1356.4413333333334,1188.8100000000002,961.28200000000004,833.476,634.82533333333333]
[48,null,{"$f":"C36*$K$2","v":1356.4413333333334},1188.81,961.28199999999993,833.47600000000011,634.82533333333333,null,1595.8133333333335,1398.6000000000001,1130.92,980.56000000000006,746.85333333333335,null,1356.4413333333334,1188.8100000000002,961.28200000000004,833.476,634.82533333333333]
[49,null,{"$f":"C37*$K$2","v":1356.4413333333334},1188.81,961.28199999999993,833.47600000000011,634.82533333333333,null,1595.8133333333335,1398.6000000000001,1130.92,980.56000000000006,746.85333333333335,null,1356.4413333333334,1188.8100000000002,961.28200000000004,833.476,634.82533333333333]
[50,null,{"$f":"C38*$K$2","v":1567.6266666666668},1374.1326666666669,1108.4453333333333,961.28199999999993,732.16733333333332,null,1844.2666666666667,1616.6266666666668,1304.0533333333333,1130.92,861.37333333333333,null,1567.6266666666666,1374.1326666666666,1108.4453333333333,961.28200000000004,732.16733333333332]
[51,null,{"$f":"C39*$K$2","v":1567.6266666666668},1374.1326666666669,1108.4453333333333,961.28199999999993,732.16733333333332,null,1844.2666666666667,1616.6266666666668,1304.0533333333333,1130.92,861.37333333333333,null,1567.6266666666666,1374.1326666666666,1108.4453333333333,961.28200000000004,732.16733333333332]
[52,null,{"$f":"C40*$K$2","v":1567.6266666666668},1374.1326666666669,1108.4453333333333,961.28199999999993,732.16733333333332,null,1844.2666666666667,1616.6266666666668,1304.0533333333333,1130.92,861.37333333333333,null,1567.6266666666666,1374.1326666666666,1108.4453333333333,961.28200000000004,732.16733333333332]
[53,null,{"$f":"C41*$K$2","v":1567.6266666666668},1374.1326666666669,1108.4453333333333,961.28199999999993,732.16733333333332,null,1844.2666666666667,1616.6266666666668,1304.0533333333333,1130.92,861.37333333333333,null,1567.6266666666666,1374.1326666666666,1108.4453333333333,961.28200000000004,732.16733333333332]
[54,null,{"$f":"C42*$K$2","v":1567.6266666666668},1374.1326666666669,1108.4453333333333,961.28199999999993,732.16733333333332,null,1844.2666666666667,1616.6266666666668,1304.0533333333333,1130.92,861.37333333333333,null,1567.6266666666666,1374.1326666666666,1108.4453333333333,961.28200000000004,732.16733333333332]
[55,null,{"$f":"C43*$K$2","v":1752.5526666666667},1536.2106666666666,1237.5206666666668,1073.2213333333334,817.45066666666662,null,2061.8266666666668,1807.3066666666668,1455.9066666666668,1262.6133333333335,961.70666666666671,null,1752.5526666666667,1536.2106666666668,1237.5206666666668,1073.2213333333334,817.45066666666673]
[56,null,{"$f":"C44*$K$2","v":1752.5526666666667},1536.2106666666666,1237.5206666666668,1073.2213333333334,817.45066666666662,null,2061.8266666666668,1807.3066666666668,1455.9066666666668,1262.6133333333335,961.70666666666671,null,1752.5526666666667,1536.2106666666668,1237.5206666666668,1073.2213333333334,817.45066666666673]
[57,null,{"$f":"C45*$K$2","v":1752.5526666666667},1536.2106666666666,1237.5206666666668,1073.2213333333334,817.45066666666662,null,2061.8266666666668,1807.3066666666668,1455.9066666666668,1262.6133333333335,961.70666666666671,null,1752.5526666666667,1536.2106666666668,1237.5206666666668,1073.2213333333334,817.45066666666673]
[58,null,{"$f":"C46*$K$2","v":1752.5526666666667},1536.2106666666666,1237.5206666666668,1073.2213333333334,817.45066666666662,null,2061.8266666666668,1807.3066666666668,1455.9066666666668,1262.6133333333335,961.70666666666671,null,1752.5526666666667,1536.2106666666668,1237.5206666666668,1073.2213333333334,817.45066666666673]
[59,null,{"$f":"C47*$K$2","v":1752.5526666666667},1536.2106666666666,1237.5206666666668,1073.2213333333334,817.45066666666662,null,2061.8266666666668,1807.3066666666668,1455.9066666666668,1262.6133333333335,961.70666666666671,null,1752.5526666666667,1536.2106666666668,1237.5206666666668,1073.2213333333334,817.45066666666673]
[60,null,{"$f":"C48*$K$2","v":1875.6780000000001},1644.1833333333334,1323.3593333333333,1147.4773333333333,874.01533333333327,null,2206.6800000000003,1934.3333333333335,1556.8933333333334,1349.9733333333334,1028.2533333333333,null,1875.6780000000001,1644.1833333333334,1323.3593333333333,1147.4773333333333,874.01533333333327]
[61,null,{"$f":"C49*$K$2","v":2122.7220000000002},1860.7633333333333,1497.02,1298.29,988.81066666666663,null,2497.3200000000002,2189.1333333333332,1761.2,1527.4,1163.3066666666666,null,2122.7220000000002,1860.7633333333331,1497.02,1298.29,988.81066666666663]
[62,null,{"$f":"C50*$K$2","v":2358.4213333333332},2067.1093333333333,1662.7473333333332,1441.6453333333334,1097.9733333333334,null,2774.6133333333337,2431.8933333333334,1956.1733333333334,1696.0533333333335,1291.7333333333333,null,2358.4213333333337,2067.1093333333333,1662.7473333333332,1441.6453333333334,1097.9733333333334]
[63,null,{"$f":"C51*$K$2","v":2611.3359999999998},2289.1633333333334,1841.2473333333332,1596.5039999999999,1216.1006666666667,null,3072.1600000000003,2693.1333333333337,2166.1733333333336,1878.24,1430.7066666666667,null,2611.3360000000002,2289.1633333333334,1841.2473333333335,1596.5039999999999,1216.1006666666667]
[64,null,{"$f":"C52*$K$2","v":2882.5766666666668},2526.528666666667,2032.5993333333333,1762.4693333333332,1342.3993333333335,null,3391.2666666666669,2972.3866666666668,2391.2933333333335,2073.4933333333333,1579.2933333333333,null,2882.5766666666668,2526.5286666666666,2032.5993333333333,1762.4693333333332,1342.3993333333333]
[65,null,{"$f":"C53*$K$2","v":3171.2706666666668},2779.9193333333333,2236.962,1939.8586666666667,1477.6626666666668,null,3730.9066666666668,3270.4933333333333,2631.7200000000003,2282.186666666667,1738.4266666666667,null,3171.2706666666668,2779.9193333333333,2236.962,1939.8586666666667,1477.6626666666666]
[66,null,{"$f":"C54*$K$2","v":3477.9733333333334},3048.6213333333335,2454.3353333333334,2128.1959999999999,1621.1766666666667,null,4091.7333333333336,3586.6133333333337,2887.4533333333334,2503.7600000000002,{"$f":"M54*$K$2","v":1907.2666666666667},null,3477.9733333333334,3048.6213333333335,2454.3353333333334,2128.1959999999999,1621.1766666666665]
[67,null,{"$f":"C55*$K$2","v":3802.3673333333336},3332.7933333333335,2684.798666666667,2327.9573333333333,1773.1793333333333,null,4473.3733333333339,3920.9333333333334,3158.5866666666666,2738.7733333333335,2086.0933333333332,null,3802.3673333333336,3332.7933333333335,2684.7986666666666,2327.9573333333333,1773.1793333333333]
[68,null,{"$f":"C56*$K$2","v":4144.3733333333339},3632.6733333333336,2927.9553333333333,2538.9839999999999,1933.9880000000001,null,4875.7333333333336,4273.7333333333336,3444.6533333333336,2987.04,2275.2800000000002,null,4144.373333333333,3632.6733333333336,2927.9553333333333,2538.9839999999999,1933.9880000000001]
[69,null,{"$f":"C57*$K$2","v":4504.467333333334},3948.1819999999998,3184.3606666666669,2761.3553333333334,2103.2060000000001,null,5299.3733333333339,4644.92,3746.3066666666668,3248.6533333333336,2474.36,null,4504.467333333334,3948.1819999999998,3184.3606666666669,2761.3553333333334,2103.2060000000001]
[70,null,{"$f":"C58*$K$2","v":4882.0940000000001},4279.24,3453.38,2994.5953333333337,2280.9126666666666,null,5743.64,5034.4000000000005,4062.8,3523.0533333333333,2683.4266666666667,null,4882.0940000000001,4279.2400000000007,3453.38,2994.5953333333332,2280.9126666666666]
[71,null,{"$f":"C59*$K$2","v":5277.4913333333334},4625.8473333333341,3735.6479999999997,3239.3386666666665,2467.2666666666669,null,6208.8133333333335,5442.1733333333332,4394.88,3810.9866666666667,2902.666666666667,null,5277.4913333333334,4625.8473333333332,3735.6480000000001,3239.3386666666665,2467.2666666666669]
[72,null,{"$f":"C60*$K$2","v":5690.7386666666671},4988.3213333333333,4030.6886666666664,3494.9506666666671,2662.1093333333333,null,6694.9866666666667,5868.6133333333337,4741.9866666666667,4111.7066666666669,3131.8933333333334,null,5690.7386666666662,4988.3213333333333,4030.6886666666664,3494.9506666666666,2662.1093333333333]
[73,null,{"$f":"C61*$K$2","v":6121.8359999999993},5365.9479999999994,4338.9780000000001,3762.2246666666665,2865.5993333333331,null,7202.1600000000008,6312.88,5104.68,4426.1466666666665,3371.2933333333335,null,6121.8360000000002,5365.9480000000003,4338.9780000000001,3762.2246666666665,2865.5993333333336]
[74,null,{"$f":"C62*$K$2","v":6570.7833333333338},5759.2033333333338,4659.8019999999997,4040.6053333333334,3077.6573333333336,null,7730.3333333333339,6775.5333333333338,5482.12,4753.6533333333336,3620.7733333333335,null,6570.7833333333338,5759.2033333333338,4659.8019999999997,4040.6053333333334,3077.6573333333336]
[75,null,{"$f":"C63*$K$2","v":7037.2633333333333},6168.2459999999992,4993.6366666666672,4330.0926666666664,3298.1246666666666,null,8279.1333333333332,7256.76,5874.8666666666668,5094.2266666666665,3880.146666666667,null,7037.2633333333333,6168.2460000000001,4993.6366666666663,4330.0926666666664,3298.1246666666671]
[76,null,{"$f":"C64*$K$2","v":7037.2633333333333},6168.2459999999992,4993.6366666666672,4330.0926666666664,3298.1246666666666,null,8279.1333333333332,7256.76,5874.8666666666668,5094.2266666666665,3880.146666666667,null,7037.2633333333333,6168.2460000000001,4993.6366666666663,4330.0926666666664,3298.1246666666671]
[77,null,{"$f":"C65*$K$2","v":7037.2633333333333},6168.2459999999992,4993.6366666666672,4330.0926666666664,3298.1246666666666,null,8279.1333333333332,7256.76,5874.8666666666668,5094.2266666666665,3880.146666666667,null,7037.2633333333333,6168.2460000000001,4993.6366666666663,4330.0926666666664,3298.1246666666671]
[78,null,{"$f":"C66*$K$2","v":7037.2633333333333},6168.2459999999992,4993.6366666666672,4330.0926666666664,3298.1246666666666,null,8279.1333333333332,7256.76,5874.8666666666668,5094.2266666666665,3880.146666666667,null,7037.2633333333333,6168.2460000000001,4993.6366666666663,4330.0926666666664,3298.1246666666671]
[79,null,{"$f":"C67*$K$2","v":7037.2633333333333},6168.2459999999992,4993.6366666666672,4330.0926666666664,3298.1246666666666,null,8279.1333333333332,7256.76,5874.8666666666668,5094.2266666666665,3880.146666666667,null,7037.2633333333333,6168.2460000000001,4993.6366666666663,4330.0926666666664,3298.1246666666671]
[80,null,{"$f":"C68*$K$2","v":7037.2633333333333},6168.2459999999992,4993.6366666666672,4330.0926666666664,3298.1246666666666,null,8279.1333333333332,7256.76,5874.8666666666668,5094.2266666666665,3880.146666666667,null,7037.2633333333333,6168.2460000000001,4993.6366666666663,4330.0926666666664,3298.1246666666671]
[81,null,{"$f":"C69*$K$2","v":7037.2633333333333},6168.2459999999992,4993.6366666666672,4330.0926666666664,3298.1246666666666,null,8279.1333333333332,7256.76,5874.8666666666668,5094.2266666666665,3880.146666666667,null,7037.2633333333333,6168.2460000000001,4993.6366666666663,4330.0926666666664,3298.1246666666671]
[82,null,{"$f":"C70*$K$2","v":7037.2633333333333},6168.2459999999992,4993.6366666666672,4330.0926666666664,3298.1246666666666,null,8279.1333333333332,{"$f":"J70*$K$2","v":7256.76},5874.8666666666668,5094.2266666666665,3880.146666666667,null,7037.2633333333333,6168.2460000000001,4993.6366666666663,4330.0926666666664,3298.1246666666671]
[83,null,{"$f":"C71*$K$2","v":7037.2633333333333},6168.2459999999992,4993.6366666666672,4330.0926666666664,3298.1246666666666,null,{"$f":"I71*$K$2","v":8279.1333333333332},7256.76,5874.8666666666668,5094.2266666666665,3880.146666666667,null,{"$f":"I145*0.85","v":7037.2633333333333},{"$f":"J145*0.85","v":6168.2460000000001},{"$f":"K145*0.85","v":4993.6366666666663},{"$f":"L145*0.85","v":4330.0926666666664},{"$f":"M145*0.85","v":3298.1246666666671}]
[84,"o más",{"$f":"C72*$K$2","v":7037.2633333333333},6168.2459999999992,4993.6366666666672,4330.0926666666664,3298.1246666666666,null,8279.1333333333332,7256.76,5874.8666666666668,5094.2266666666665,3880.146666666667,null,{"$f":"I146*0.85","v":7037.2633333333333},{"$f":"J146*0.85","v":6168.2460000000001},{"$f":"K146*0.85","v":4993.6366666666663},{"$f":"L146*0.85","v":4330.0926666666664},{"$f":"M146*0.85","v":3298.1246666666671}]
[1,"Hijo",{"$f":"C73*$K$2","v":333.83466666666664},292.5813333333333,244.66400000000002,212.21666666666667,161.68133333333333,null,392.74666666666667,344.21333333333337,287.84000000000003,249.66666666666669,190.21333333333334,null,{"$f":"I147*0.85","v":333.83466666666664},292.58133333333336,244.66400000000002,212.21666666666667,161.68133333333333]
[2,"Hijos",{"$f":"C74*$K$2","v":567.154},497.26133333333337,415.86533333333335,360.72866666666664,274.81066666666669,null,667.24,585.01333333333332,489.25333333333333,424.38666666666671,323.30666666666667,null,{"$f":"I148*0.85","v":567.154},{"$f":"J148*0.85","v":497.26133333333331},{"$f":"K148*0.85","v":415.8653333333333},{"$f":"L148*0.85","v":360.7286666666667},{"$f":"M148*0.85","v":274.81066666666669}]
[3,"Hijos o más",{"$f":"C75*$K$2","v":800.79066666666665},701.86199999999997,587.06666666666672,509.08199999999999,387.86066666666665,null,942.10666666666668,825.72,690.66666666666674,598.92000000000007,456.30666666666667,null,800.79066666666665,701.86199999999997,587.06666666666672,509.08200000000005,387.86066666666665]
[]
["BUPA GLOBAL PREMIER"]
["TARIFAS ANUALES"]
["EDAD"]
[" "," ",250,2000,5000,10000,null,null,null,null,null,null,null,null,null,null,null,null,null,null,2,6,10,14,18]
[18,18,{"$f":"O155","v":5560.7},{"$f":"P155","v":5043.8999999999996},3794.4,2771.85,0,null,6542,5934,4464,3261,null,null,{"$f":"I155*0.85","v":5560.7},{"$f":"J155*0.85","v":5043.8999999999996},3794.4,2771.85,null,null,0,0,0,0,0]
[19,18,{"$f":"O156","v":5560.7},{"$f":"P156","v":5043.8999999999996},{"$f":"Q156","v":3794.4},{"$f":"R156","v":2771.85},{"$f":"S156","v":0},null,6542,5934,4464,3261,null,null,{"$f":"I156*0.85","v":5560.7},{"$f":"J156*0.85","v":5043.8999999999996},{"$f":"K156*0.85","v":3794.4},{"$f":"L156*0.85","v":2771.85},null,null,0,0,0,0,0]
[20,18,5560.7,5043.8999999999996,3794.4,2771.85,0,null,6542,5934,4464,3261,null,null,5560.7,5043.8999999999996,3794.4,2771.85,null,null,0,0,0,0,0]
[21,18,5560.7,5043.8999999999996,3794.4,2771.85,0,null,6542,5934,4464,3261,null,null,5560.7,5043.8999999999996,3794.4,2771.85,null,null,0,0,0,0,0]
[22,18,5560.7,5043.8999999999996,3794.4,2771.85,0,null,6542,5934,4464,3261,null,null,5560.7,5043.8999999999996,3794.4,2771.85,null,null,0,0,0,0,0]
[23,18,5560.7,5043.8999999999996,3794.4,2771.85,0,null,6542,5934,4464,3261,null,null,5560.7,5043.8999999999996,3794.4,2771.85,null,null,0,0,0,0,0]
[24,18,5560.7,5043.8999999999996,3794.4,2771.85,0,null,6542,5934,4464,3261,null,null,5560.7,5043.8999999999996,3794.4,2771.85,null,null,0,0,0,0,0]
[25,25,5943.2,5389.8499999999995,4012,2931.65,0,null,6992,6341,4720,3449,null,null,5943.2,5389.8499999999995,4012,2931.65,null,null,0,0,0,0,0]
[26,25,5943.2,5389.8499999999995,4012,2931.65,0,null,6992,6341,4720,3449,null,null,5943.2,5389.8499999999995,4012,2931.65,null,null,0,0,0,0,0]
[27,25,5943.2,5389.8499999999995,4012,2931.65,0,null,6992,6341,4720,3449,null,null,5943.2,5389.8499999999995,4012,2931.65,null,null,0,0,0,0,0]
[28,25,5943.2,5389.8499999999995,4012,2931.65,0,null,6992,6341,4720,3449,null,null,5943.2,5389.8499999999995,4012,2931.65,null,null,0,0,0,0,0]
[29,25,5943.2,5389.8499999999995,4012,2931.65,0,null,6992,6341,4720,3449,null,null,5943.2,5389.8499999999995,4012,2931.65,null,null,0,0,0,0,0]
[30,30,6607.9,5996.75,4404.7,3217.25,0,null,7774,7055,5182,3785,null,null,6607.9,5996.75,4404.7,3217.25,null,null,0,0,0,0,0]
[31,30,6607.9,5996.75,4404.7,3217.25,0,null,7774,7055,5182,3785,null,null,6607.9,5996.75,4404.7,3217.25,null,null,0,0,0,0,0]
[32,30,6607.9,5996.75,4404.7,3217.25,0,null,7774,7055,5182,3785,null,null,6607.9,5996.75,4404.7,3217.25,null,null,0,0,0,0,0]
[33,30,6607.9,5996.75,4404.7,3217.25,0,null,7774,7055,5182,3785,null,null,6607.9,5996.75,4404.7,3217.25,null,null,0,0,0,0,0]
[34,30,6607.9,5996.75,4404.7,3217.25,0,null,7774,7055,5182,3785,null,null,6607.9,5996.75,4404.7,3217.25,null,null,0,0,0,0,0]
[35,35,7373.75,6692.9,4868.8,3556.4,0,null,8675,7874,5728,4184,null,null,7373.75,6692.9,4868.8,3556.4,null,null,0,0,0,0,0]
[36,35,7373.75,6692.9,4868.8,3556.4,0,null,8675,7874,5728,4184,null,null,7373.75,6692.9,4868.8,3556.4,null,null,0,0,0,0,0]
[37,35,7373.75,6692.9,4868.8,3556.4,0,null,8675,7874,5728,4184,null,null,7373.75,6692.9,4868.8,3556.4,null,null,0,0,0,0,0]
[38,35,7373.75,6692.9,4868.8,3556.4,0,null,8675,7874,5728,4184,null,null,7373.75,6692.9,4868.8,3556.4,null,null,0,0,0,0,0]
[39,35,7373.75,6692.9,4868.8,3556.4,0,null,8675,7874,5728,4184,null,null,7373.75,6692.9,4868.8,3556.4,null,null,0,0,0,0,0]
[40,40,8534.85,7746.05,5590.45,4085.95,0,null,10041,9113,6577,4807,null,null,8534.85,7746.05,5590.45,4085.95,null,null,0,0,0,0,0]
[41,40,8534.85,7746.05,5590.45,4085.95,0,null,10041,9113,6577,4807,null,null,8534.85,7746.05,5590.45,4085.95,null,null,0,0,0,0,0]
[42,40,8534.85,7746.05,5590.45,4085.95,0,null,10041,9113,6577,4807,null,null,8534.85,7746.05,5590.45,4085.95,null,null,0,0,0,0,0]
[43,40,8534.85,7746.05,5590.45,4085.95,0,null,10041,9113,6577,4807,null,null,8534.85,7746.05,5590.45,4085.95,null,null,0,0,0,0,0]
[44,40,8534.85,7746.05,5590.45,4085.95,0,null,10041,9113,6577,4807,null,null,8534.85,7746.05,5590.45,4085.95,null,null,0,0,0,0,0]
[45,45,9550.6,8668.2999999999993,6222,4544.95,0,null,11236,10198,7320,5347,null,null,9550.6,8668.2999999999993,6222,4544.95,null,null,0,0,0,0,0]
[46,45,9550.6,8668.2999999999993,6222,4544.95,0,null,11236,10198,7320,5347,null,null,9550.6,8668.2999999999993,6222,4544.95,null,null,0,0,0,0,0]
[47,45,9550.6,8668.2999999999993,6222,4544.95,0,null,11236,10198,7320,5347,null,null,9550.6,8668.2999999999993,6222,4544.95,null,null,0,0,0,0,0]
[48,45,9550.6,8668.2999999999993,6222,4544.95,0,null,11236,10198,7320,5347,null,null,9550.6,8668.2999999999993,6222,4544.95,null,null,0,0,0,0,0]
[49,45,9550.6,8668.2999999999993,6222,4544.95,0,null,11236,10198,7320,5347,null,null,9550.6,8668.2999999999993,6222,4544.95,null,null,0,0,0,0,0]
[50,50,11042.35,10019.799999999999,7164.65,5236,0,null,12991,11788,8429,6160,null,null,11042.35,10019.799999999999,7164.65,5236,null,null,0,0,0,0,0]
[51,50,11042.35,10019.799999999999,7164.65,5236,0,null,12991,11788,8429,6160,null,null,11042.35,10019.799999999999,7164.65,5236,null,null,0,0,0,0,0]
[52,50,11042.35,10019.799999999999,7164.65,5236,0,null,12991,11788,8429,6160,null,null,11042.35,10019.799999999999,7164.65,5236,null,null,0,0,0,0,0]
[53,50,11042.35,10019.799999999999,7164.65,5236,0,null,12991,11788,8429,6160,null,null,11042.35,10019.799999999999,7164.65,5236,null,null,0,0,0,0,0]
[54,50,11042.35,10019.799999999999,7164.65,5236,0,null,12991,11788,8429,6160,null,null,11042.35,10019.799999999999,7164.65,5236,null,null,0,0,0,0,0]
[55,55,12342,11202.15,7988.3,5837.8,0,null,14520,13179,9398,6868,null,null,12342,11202.15,7988.3,5837.8,null,null,0,0,0,0,0]
[56,55,12342,11202.15,7988.3,5837.8,0,null,14520,13179,9398,6868,null,null,12342,11202.15,7988.3,5837.8,null,null,0,0,0,0,0]
[57,55,12342,11202.15,7988.3,5837.8,0,null,14520,13179,9398,6868,null,null,12342,11202.15,7988.3,5837.8,null,null,0,0,0,0,0]
[58,55,12342,11202.15,7988.3,5837.8,0,null,14520,13179,9398,6868,null,null,12342,11202.15,7988.3,5837.8,null,null,0,0,0,0,0]
[59,55,12342,11202.15,7988.3,5837.8,0,null,14520,13179,9398,6868,null,null,12342,11202.15,7988.3,5837.8,null,null,0,0,0,0,0]
[60,60,13209.85,11985.85,8539.1,6238.15,0,null,15541,14101,10046,7339,null,null,13209.85,11985.85,8539.1,6238.15,null,null,0,0,0,0,0]
[61,61,14948.1,13564.3,9651.75,7052.45,0,null,17586,15958,11355,8297,null,null,14948.1,13564.3,9651.75,7052.45,null,null,0,0,0,0,0]
[62,62,16605.599999999999,15071.35,10720.199999999999,7832.75,0,null,19536,17731,12612,9215,null,null,16605.599999999999,15071.35,10720.199999999999,7832.75,null,null,0,0,0,0,0]
[63,63,18389.75,16688.899999999998,11870.25,8671.6999999999989,0,null,21635,19634,13965,10202,null,null,18389.75,16688.899999999998,11870.25,8671.6999999999989,null,null,0,0,0,0,0]
[64,64,20298,18422.05,13107,9575.25,0,null,23880,21673,15420,11265,null,null,20298,18422.05,13107,9575.25,null,null,0,0,0,0,0]
[65,65,22332.05,20267.399999999998,14428.75,10541.699999999999,0,null,26273,23844,16975,12402,null,null,22332.05,20267.399999999998,14428.75,10541.699999999999,null,null,0,0,0,0,0]
[66,66,24491.899999999998,22224.1,15836.35,11569.35,0,null,28814,26146,18631,13611,null,null,24491.899999999998,22224.1,15836.35,11569.35,null,null,0,0,0,0,0]
[67,67,26775.85,24298.95,17329.8,12662.449999999999,0,null,31501,28587,20388,14897,null,null,26775.85,24298.95,17329.8,12662.449999999999,null,null,0,0,0,0,0]
[68,68,29183.05,26484.3,18908.25,13814.199999999999,0,null,34333,31158,22245,16252,null,null,29183.05,26484.3,18908.25,13814.199999999999,null,null,0,0,0,0,0]
[69,69,31719.45,28786.95,20572.55,15030.55,0,null,37317,33867,24203,17683,null,null,31719.45,28786.95,20572.55,15030.55,null,null,0,0,0,0,0]
[70,70,34379.1,31200.95,22320.149999999998,16307.25,0,null,40446,36707,26259,19185,null,null,34379.1,31200.95,22320.149999999998,16307.25,null,null,0,0,0,0,0]
[71,71,37164.549999999996,33726.299999999996,24157,17648.55,0,null,43723,39678,28420,20763,null,null,37164.549999999996,33726.299999999996,24157,17648.55,null,null,0,0,0,0,0]
[72,72,40073.25,36367.25,26076.3,19051.899999999998,0,null,47145,42785,30678,22414,null,null,40073.25,36367.25,26076.3,19051.899999999998,null,null,0,0,0,0,0]
[73,73,43107.75,39122.1,28081.45,20515.599999999999,0,null,50715,46026,33037,24136,null,null,43107.75,39122.1,28081.45,20515.599999999999,null,null,0,0,0,0,0]
[74,74,46268.9,41989.15,30175,22044.75,0,null,54434,49399,35500,25935,null,null,46268.9,41989.15,30175,22044.75,null,null,0,0,0,0,0]
[75,75,49553.299999999996,44971.799999999996,32351.85,23635.95,0,null,58298,52908,38061,27807,null,null,49553.299999999996,44971.799999999996,32351.85,23635.95,null,null,0,0,0,0,0]
[76,75,49553.299999999996,44971.799999999996,32351.85,23635.95,0,null,58298,52908,38061,27807,null,null,49553.299999999996,44971.799999999996,32351.85,23635.95,null,null,0,0,0,0,0]
[77,75,49553.299999999996,44971.799999999996,32351.85,23635.95,0,null,58298,52908,38061,27807,null,null,49553.299999999996,44971.799999999996,32351.85,23635.95,null,null,0,0,0,0,0]
[78,75,49553.299999999996,44971.799999999996,32351.85,23635.95,0,null,58298,52908,38061,27807,null,null,49553.299999999996,44971.799999999996,32351.85,23635.95,null,null,0,0,0,0,0]
[79,75,49553.299999999996,44971.799999999996,32351.85,23635.95,0,null,58298,52908,38061,27807,null,null,49553.299999999996,44971.799999999996,32351.85,23635.95,null,null,0,0,0,0,0]
[80,75,49553.299999999996,44971.799999999996,32351.85,23635.95,0,null,58298,52908,38061,27807,null,null,49553.299999999996,44971.799999999996,32351.85,23635.95,null,null,0,0,0,0,0]
[81,75,49553.299999999996,44971.799999999996,32351.85,23635.95,0,null,58298,52908,38061,27807,null,null,49553.299999999996,44971.799999999996,32351.85,23635.95,null,null,0,0,0,0,0]
[82,75,49553.299999999996,44971.799999999996,32351.85,23635.95,0,null,58298,52908,38061,27807,null,null,49553.299999999996,44971.799999999996,32351.85,23635.95,null,null,0,0,0,0,0]
[83,75,{"$f":"O220","v":49553.299999999996},{"$f":"P220","v":44971.799999999996},{"$f":"Q220","v":32351.85},{"$f":"R220","v":23635.95},{"$f":"S220","v":0},null,58298,52908,38061,27807,null,null,{"$f":"I220*0.85","v":49553.299999999996},{"$f":"J220*0.85","v":44971.799999999996},{"$f":"K220*0.85","v":32351.85},{"$f":"L220*0.85","v":23635.95},null,null,0,0,0,0,0]
[84,75,49553.299999999996,44971.799999999996,32351.85,23635.95,0,null,58298,52908,38061,27807,null,null,49553.299999999996,44971.799999999996,32351.85,23635.95,null,null,0,0,0,0,0]
[1,"1 Child",2350.25,2131.7999999999997,1625.2,1186.5999999999999,0,null,2765,2508,1912,1396,null,null,{"$f":"I222*0.85","v":2350.25},2131.7999999999997,1625.2,1186.5999999999999,null,null,0,0,0,0,0]
[2,"2 Children",3995,3626.1,2759.1,2017.05,0,null,4700,4266,3246,2373,null,null,{"$f":"I223*0.85","v":3995},{"$f":"J223*0.85","v":3626.1},{"$f":"K223*0.85","v":2759.1},{"$f":"L223*0.85","v":2017.05},null,null,0,0,0,0,0]
[3,"3+ Children",5638.05,5117,3895.5499999999997,2845.7999999999997,0,null,6633,6020,4583,3348,null,null,5638.05,5117,3895.5499999999997,2845.7999999999997,null,null,0,0,0,0,0]
[]
["BUPA GLOBAL PREMIER - MENSUALES"]
["EDAD"]
[" "," ",2000,3500,5000]
[18,null,{"$f":"C155*$K$2","v":518.99866666666662},{"$f":"D155*$K$2","v":470.76400000000001},354.14400000000001,258.70600000000002,0,null,{"$f":"I155*$K$2","v":610.5866666666667},{"$f":"J155*$K$2","v":553.84},416.64000000000004,304.36,null,null,{"$f":"I229*0.85","v":518.99866666666674},{"$f":"J229*0.85","v":470.76400000000001},354.14400000000001,258.70600000000002]
[19,null,{"$f":"C156*$K$2","v":518.99866666666662},470.76400000000001,354.14400000000001,258.70600000000002,0,null,{"$f":"I156*$K$2","v":610.5866666666667},553.84,416.64000000000004,304.36,null,null,{"$f":"I230*0.85","v":518.99866666666674},{"$f":"J230*0.85","v":470.76400000000001},{"$f":"K230*0.85","v":354.14400000000001},{"$f":"L230*0.85","v":258.70600000000002}]
[20,null,{"$f":"C157*$K$2","v":518.99866666666662},470.76400000000001,354.14400000000001,258.70600000000002,0,null,610.5866666666667,553.84,416.64000000000004,304.36,null,null,518.99866666666674,470.76400000000001,354.14400000000001,258.70600000000002]
[21,null,{"$f":"C158*$K$2","v":518.99866666666662},470.76400000000001,354.14400000000001,258.70600000000002,0,null,610.5866666666667,553.84,416.64000000000004,304.36,null,null,518.99866666666674,470.76400000000001,354.14400000000001,258.70600000000002]
[22,null,{"$f":"C159*$K$2","v":518.99866666666662},470.76400000000001,354.14400000000001,258.70600000000002,0,null,610.5866666666667,553.84,416.64000000000004,304.36,null,null,518.99866666666674,470.76400000000001,354.14400000000001,258.70600000000002]
[23,null,{"$f":"C160*$K$2","v":518.99866666666662},470.76400000000001,354.14400000000001,258.70600000000002,0,null,610.5866666666667,553.84,416.64000000000004,304.36,null,null,518.99866666666674,470.76400000000001,354.14400000000001,258.70600000000002]
[24,null,{"$f":"C161*$K$2","v":518.99866666666662},470.76400000000001,354.14400000000001,258.70600000000002,0,null,610.5866666666667,553.84,416.64000000000004,304.36,null,null,518.99866666666674,470.76400000000001,354.14400000000001,258.70600000000002]
[25,null,{"$f":"C162*$K$2","v":554.69866666666667},503.05266666666665,374.45333333333338,273.62066666666669,0,null,652.5866666666667,591.82666666666671,440.53333333333336,321.90666666666669,null,null,554.69866666666667,503.05266666666671,374.45333333333332,273.62066666666669]
[26,null,{"$f":"C163*$K$2","v":554.69866666666667},503.05266666666665,374.45333333333338,273.62066666666669,0,null,652.5866666666667,591.82666666666671,440.53333333333336,321.90666666666669,null,null,554.69866666666667,503.05266666666671,374.45333333333332,273.62066666666669]
[27,null,{"$f":"C164*$K$2","v":554.69866666666667},503.05266666666665,374.45333333333338,273.62066666666669,0,null,652.5866666666667,591.82666666666671,440.53333333333336,321.90666666666669,null,null,554.69866666666667,503.05266666666671,374.45333333333332,273.62066666666669]
[28,null,{"$f":"C165*$K$2","v":554.69866666666667},503.05266666666665,374.45333333333338,273.62066666666669,0,null,652.5866666666667,591.82666666666671,440.53333333333336,321.90666666666669,null,null,554.69866666666667,503.05266666666671,374.45333333333332,273.62066666666669]
[29,null,{"$f":"C166*$K$2","v":554.69866666666667},503.05266666666665,374.45333333333338,273.62066666666669,0,null,652.5866666666667,591.82666666666671,440.53333333333336,321.90666666666669,null,null,554.69866666666667,503.05266666666671,374.45333333333332,273.62066666666669]
[30,null,{"$f":"C167*$K$2","v":616.73733333333337},559.69666666666672,411.10533333333336,300.2766666666667,0,null,725.57333333333338,658.4666666666667,483.65333333333336,353.26666666666671,null,null,616.73733333333337,559.69666666666672,411.10533333333336,300.2766666666667]
[31,null,{"$f":"C168*$K$2","v":616.73733333333337},559.69666666666672,411.10533333333336,300.2766666666667,0,null,725.57333333333338,658.4666666666667,483.65333333333336,353.26666666666671,null,null,616.73733333333337,559.69666666666672,411.10533333333336,300.2766666666667]
[32,null,{"$f":"C169*$K$2","v":616.73733333333337},559.69666666666672,411.10533333333336,300.2766666666667,0,null,725.57333333333338,658.4666666666667,483.65333333333336,353.26666666666671,null,null,616.73733333333337,559.69666666666672,411.10533333333336,300.2766666666667]
[33,null,{"$f":"C170*$K$2","v":616.73733333333337},559.69666666666672,411.10533333333336,300.2766666666667,0,null,725.57333333333338,658.4666666666667,483.65333333333336,353.26666666666671,null,null,616.73733333333337,559.69666666666672,411.10533333333336,300.2766666666667]
[34,null,{"$f":"C171*$K$2","v":616.73733333333337},559.69666666666672,411.10533333333336,300.2766666666667,0,null,725.57333333333338,658.4666666666667,483.65333333333336,353.26666666666671,null,null,616.73733333333337,559.69666666666672,411.10533333333336,300.2766666666667]
[35,null,{"$f":"C172*$K$2","v":688.2166666666667},624.67066666666665,454.42133333333339,331.9306666666667,0,null,809.66666666666674,734.90666666666675,534.61333333333334,390.50666666666666,null,null,688.2166666666667,624.67066666666676,454.42133333333334,331.93066666666664]
[36,null,{"$f":"C173*$K$2","v":688.2166666666667},624.67066666666665,454.42133333333339,331.9306666666667,0,null,809.66666666666674,734.90666666666675,534.61333333333334,390.50666666666666,null,null,688.2166666666667,624.67066666666676,454.42133333333334,331.93066666666664]
[37,null,{"$f":"C174*$K$2","v":688.2166666666667},624.67066666666665,454.42133333333339,331.9306666666667,0,null,809.66666666666674,734.90666666666675,534.61333333333334,390.50666666666666,null,null,688.2166666666667,624.67066666666676,454.42133333333334,331.93066666666664]
[38,null,{"$f":"C175*$K$2","v":688.2166666666667},624.67066666666665,454.42133333333339,331.9306666666667,0,null,809.66666666666674,734.90666666666675,534.61333333333334,390.50666666666666,null,null,688.2166666666667,624.67066666666676,454.42133333333334,331.93066666666664]
[39,null,{"$f":"C176*$K$2","v":688.2166666666667},624.67066666666665,454.42133333333339,331.9306666666667,0,null,809.66666666666674,734.90666666666675,534.61333333333334,390.50666666666666,null,null,688.2166666666667,624.67066666666676,454.42133333333334,331.93066666666664]
[40,null,{"$f":"C177*$K$2","v":796.58600000000013},722.96466666666674,521.77533333333338,381.35533333333331,0,null,937.16000000000008,850.54666666666674,613.85333333333335,448.65333333333336,null,null,796.58600000000001,722.96466666666674,521.77533333333338,381.35533333333336]
[41,null,{"$f":"C178*$K$2","v":796.58600000000013},722.96466666666674,521.77533333333338,381.35533333333331,0,null,937.16000000000008,850.54666666666674,613.85333333333335,448.65333333333336,null,null,796.58600000000001,722.96466666666674,521.77533333333338,381.35533333333336]
[42,null,{"$f":"C179*$K$2","v":796.58600000000013},722.96466666666674,521.77533333333338,381.35533333333331,0,null,937.16000000000008,850.54666666666674,613.85333333333335,448.65333333333336,null,null,796.58600000000001,722.96466666666674,521.77533333333338,381.35533333333336]
[43,null,{"$f":"C180*$K$2","v":796.58600000000013},722.96466666666674,521.77533333333338,381.35533333333331,0,null,937.16000000000008,850.54666666666674,613.85333333333335,448.65333333333336,null,null,796.58600000000001,722.96466666666674,521.77533333333338,381.35533333333336]
[44,null,{"$f":"C181*$K$2","v":796.58600000000013},722.96466666666674,521.77533333333338,381.35533333333331,0,null,937.16000000000008,850.54666666666674,613.85333333333335,448.65333333333336,null,null,796.58600000000001,722.96466666666674,521.77533333333338,381.35533333333336]
[45,null,{"$f":"C182*$K$2","v":891.38933333333341},809.04133333333334,580.72,424.19533333333334,0,null,1048.6933333333334,951.81333333333339,683.2,499.05333333333334,null,null,891.3893333333333,809.04133333333334,580.72,424.19533333333334]
[46,null,{"$f":"C183*$K$2","v":891.38933333333341},809.04133333333334,580.72,424.19533333333334,0,null,1048.6933333333334,951.81333333333339,683.2,499.05333333333334,null,null,891.3893333333333,809.04133333333334,580.72,424.19533333333334]
[47,null,{"$f":"C184*$K$2","v":891.38933333333341},809.04133333333334,580.72,424.19533333333334,0,null,1048.6933333333334,951.81333333333339,683.2,499.05333333333334,null,null,891.3893333333333,809.04133333333334,580.72,424.19533333333334]
[48,null,{"$f":"C185*$K$2","v":891.38933333333341},809.04133333333334,580.72,424.19533333333334,0,null,1048.6933333333334,951.81333333333339,683.2,499.05333333333334,null,null,891.3893333333333,809.04133333333334,580.72,424.19533333333334]
[49,null,{"$f":"C186*$K$2","v":891.38933333333341},809.04133333333334,580.72,424.19533333333334,0,null,1048.6933333333334,951.81333333333339,683.2,499.05333333333334,null,null,891.3893333333333,809.04133333333334,580.72,424.19533333333334]
[50,null,{"$f":"C187*$K$2","v":1030.6193333333333},935.18133333333333,668.70066666666662,488.69333333333333,0,null,1212.4933333333333,1100.2133333333334,786.70666666666671,574.93333333333339,null,null,1030.6193333333333,935.18133333333333,668.70066666666673,488.69333333333338]
[51,null,{"$f":"C188*$K$2","v":1030.6193333333333},935.18133333333333,668.70066666666662,488.69333333333333,0,null,1212.4933333333333,1100.2133333333334,786.70666666666671,574.93333333333339,null,null,1030.6193333333333,935.18133333333333,668.70066666666673,488.69333333333338]
[52,null,{"$f":"C189*$K$2","v":1030.6193333333333},935.18133333333333,668.70066666666662,488.69333333333333,0,null,1212.4933333333333,1100.2133333333334,786.70666666666671,574.93333333333339,null,null,1030.6193333333333,935.18133333333333,668.70066666666673,488.69333333333338]
[53,null,{"$f":"C190*$K$2","v":1030.6193333333333},935.18133333333333,668.70066666666662,488.69333333333333,0,null,1212.4933333333333,1100.2133333333334,786.70666666666671,574.93333333333339,null,null,1030.6193333333333,935.18133333333333,668.70066666666673,488.69333333333338]
[54,null,{"$f":"C191*$K$2","v":1030.6193333333333},935.18133333333333,668.70066666666662,488.69333333333333,0,null,1212.4933333333333,1100.2133333333334,786.70666666666671,574.93333333333339,null,null,1030.6193333333333,935.18133333333333,668.70066666666673,488.69333333333338]
[55,null,{"$f":"C192*$K$2","v":1151.92},1045.5340000000001,745.57466666666676,544.86133333333339,0,null,1355.2,1230.04,877.14666666666676,641.01333333333332,null,null,1151.92,1045.5339999999999,745.57466666666676,544.86133333333328]
[56,null,{"$f":"C193*$K$2","v":1151.92},1045.5340000000001,745.57466666666676,544.86133333333339,0,null,1355.2,1230.04,877.14666666666676,641.01333333333332,null,null,1151.92,1045.5339999999999,745.57466666666676,544.86133333333328]
[57,null,{"$f":"C194*$K$2","v":1151.92},1045.5340000000001,745.57466666666676,544.86133333333339,0,null,1355.2,1230.04,877.14666666666676,641.01333333333332,null,null,1151.92,1045.5339999999999,745.57466666666676,544.86133333333328]
[58,null,{"$f":"C195*$K$2","v":1151.92},1045.5340000000001,745.57466666666676,544.86133333333339,0,null,1355.2,1230.04,877.14666666666676,641.01333333333332,null,null,1151.92,1045.5339999999999,745.57466666666676,544.86133333333328]
[59,null,{"$f":"C196*$K$2","v":1151.92},1045.5340000000001,745.57466666666676,544.86133333333339,0,null,1355.2,1230.04,877.14666666666676,641.01333333333332,null,null,1151.92,1045.5339999999999,745.57466666666676,544.86133333333328]
[60,null,{"$f":"C197*$K$2","v":1232.9193333333335},1118.6793333333335,796.98266666666677,582.22733333333338,0,null,1450.4933333333333,1316.0933333333335,937.62666666666667,684.97333333333336,null,null,1232.9193333333333,1118.6793333333335,796.98266666666666,582.22733333333338]
[61,null,{"$f":"C198*$K$2","v":1395.1560000000002},1266.0013333333334,900.83,658.22866666666664,0,null,1641.3600000000001,1489.4133333333334,1059.8,774.38666666666666,null,null,1395.1560000000002,1266.0013333333334,900.82999999999993,658.22866666666664]
[62,null,{"$f":"C199*$K$2","v":1549.856},1406.6593333333335,1000.5519999999999,731.05666666666673,0,null,1823.3600000000001,1654.8933333333334,1177.1200000000001,860.06666666666672,null,null,1549.856,1406.6593333333333,1000.552,731.05666666666673]
[63,null,{"$f":"C200*$K$2","v":1716.3766666666668},1557.6306666666665,1107.8900000000001,809.35866666666664,0,null,2019.2666666666667,1832.5066666666667,1303.4000000000001,952.18666666666672,null,null,1716.3766666666666,1557.6306666666667,1107.8900000000001,809.35866666666675]
[64,null,{"$f":"C201*$K$2","v":1894.48},1719.3913333333333,1223.3200000000002,893.69,0,null,2228.8000000000002,2022.8133333333335,1439.2,1051.4000000000001,null,null,1894.48,1719.3913333333335,1223.32,893.69]
[65,null,{"$f":"C202*$K$2","v":2084.3246666666669},1891.6239999999998,1346.6833333333334,983.89199999999994,0,null,2452.146666666667,2225.44,1584.3333333333335,1157.52,null,null,2084.3246666666669,1891.624,1346.6833333333334,983.89199999999994]
[66,null,{"$f":"C203*$K$2","v":2285.9106666666667},2074.2493333333332,1478.0593333333334,1079.806,0,null,2689.3066666666668,2440.2933333333335,1738.8933333333334,1270.3600000000001,null,null,2285.9106666666667,2074.2493333333337,1478.0593333333334,1079.806]
[67,null,{"$f":"C204*$K$2","v":2499.0793333333331},2267.902,1617.4480000000001,1181.8286666666665,0,null,2940.0933333333332,2668.1200000000003,1902.88,1390.3866666666668,null,null,2499.0793333333331,2267.902,1617.4480000000001,1181.8286666666668]
[68,null,{"$f":"C205*$K$2","v":2723.7513333333336},2471.8679999999999,1764.77,1289.3253333333332,0,null,3204.4133333333334,2908.08,2076.2000000000003,1516.8533333333335,null,null,2723.7513333333332,2471.8679999999999,1764.7700000000002,1289.3253333333334]
[69,null,{"$f":"C206*$K$2","v":2960.4820000000004},2686.7820000000002,1920.1046666666666,1402.8513333333333,0,null,3482.92,3160.92,2258.9466666666667,1650.4133333333334,null,null,2960.482,2686.7820000000002,1920.1046666666666,1402.8513333333333]
[70,null,{"$f":"C207*$K$2","v":3208.7159999999999},2912.088666666667,2083.2139999999999,1522.01,0,null,3774.96,3425.9866666666667,2450.84,1790.6000000000001,null,null,3208.7159999999999,2912.0886666666665,2083.2139999999999,1522.01]
[71,null,{"$f":"C208*$K$2","v":3468.6913333333332},3147.7879999999996,2254.6533333333336,1647.1980000000001,0,null,4080.8133333333335,3703.28,2652.5333333333333,1937.88,null,null,3468.6913333333332,3147.788,2254.6533333333332,1647.1980000000001]
[72,null,{"$f":"C209*$K$2","v":3740.17},3394.2766666666666,2433.788,1778.1773333333333,0,null,4400.2,3993.2666666666669,2863.28,2091.9733333333334,null,null,3740.1699999999996,3394.2766666666666,2433.788,1778.1773333333333]
[73,null,{"$f":"C210*$K$2","v":4023.3900000000003},3651.3960000000002,2620.9353333333333,1914.7893333333334,0,null,4733.4000000000005,4295.76,3083.4533333333334,2252.6933333333336,null,null,4023.3900000000003,3651.3960000000002,2620.9353333333333,1914.7893333333336]
[74,null,{"$f":"C211*$K$2","v":4318.4306666666671},3918.9873333333335,2816.3333333333335,2057.5100000000002,0,null,5080.5066666666671,4610.5733333333337,3313.3333333333335,2420.6,null,null,4318.4306666666671,3918.9873333333335,2816.3333333333335,2057.5099999999998]
[75,null,{"$f":"C212*$K$2","v":4624.9746666666661},4197.3679999999995,3019.5059999999999,2206.0220000000004,0,null,5441.1466666666665,4938.08,3552.36,2595.3200000000002,null,null,4624.9746666666661,4197.3679999999995,3019.5059999999999,2206.0219999999999]
[76,null,{"$f":"C213*$K$2","v":4624.9746666666661},4197.3679999999995,3019.5059999999999,2206.0220000000004,0,null,5441.1466666666665,4938.08,3552.36,2595.3200000000002,null,null,4624.9746666666661,4197.3679999999995,3019.5059999999999,2206.0219999999999]
[77,null,{"$f":"C214*$K$2","v":4624.9746666666661},4197.3679999999995,3019.5059999999999,2206.0220000000004,0,null,5441.1466666666665,4938.08,3552.36,2595.3200000000002,null,null,4624.9746666666661,4197.3679999999995,3019.5059999999999,2206.0219999999999]
[78,null,{"$f":"C215*$K$2","v":4624.9746666666661},4197.3679999999995,3019.5059999999999,2206.0220000000004,0,null,5441.1466666666665,4938.08,3552.36,2595.3200000000002,null,null,4624.9746666666661,4197.3679999999995,3019.5059999999999,2206.0219999999999]
[79,null,{"$f":"C216*$K$2","v":4624.9746666666661},4197.3679999999995,3019.5059999999999,2206.0220000000004,0,null,5441.1466666666665,4938.08,3552.36,2595.3200000000002,null,null,4624.9746666666661,4197.3679999999995,3019.5059999999999,2206.0219999999999]
[80,null,{"$f":"C217*$K$2","v":4624.9746666666661},4197.3679999999995,3019.5059999999999,2206.0220000000004,null,null,5441.1466666666665,4938.08,3552.36,2595.3200000000002,null,null,4624.9746666666661,4197.3679999999995,3019.5059999999999,2206.0219999999999]
[81,null,{"$f":"C218*$K$2","v":4624.9746666666661},4197.3679999999995,3019.5059999999999,2206.0220000000004,null,null,5441.1466666666665,4938.08,3552.36,2595.3200000000002,null,null,4624.9746666666661,4197.3679999999995,3019.5059999999999,2206.0219999999999]
[82,null,{"$f":"C219*$K$2","v":4624.9746666666661},4197.3679999999995,3019.5059999999999,2206.0220000000004,null,null,5441.1466666666665,4938.08,3552.36,{"$f":"L219*$K$2","v":2595.3200000000002},null,null,4624.9746666666661,4197.3679999999995,3019.5059999999999,2206.0219999999999]
[83,null,{"$f":"C220*$K$2","v":4624.9746666666661},4197.3679999999995,3019.5059999999999,2206.0220000000004,null,null,{"$f":"I220*$K$2","v":5441.1466666666665},4938.08,3552.36,2595.3200000000002,null,null,{"$f":"I294*0.85","v":4624.9746666666661},{"$f":"J294*0.85","v":4197.3679999999995},{"$f":"K294*0.85","v":3019.5059999999999},{"$f":"L294*0.85","v":2206.0219999999999}]
[84,"o más",{"$f":"C221*$K$2","v":4624.9746666666661},4197.3679999999995,3019.5059999999999,2206.0220000000004,0,null,5441.1466666666665,4938.08,3552.36,2595.3200000000002,null,null,4624.9746666666661,4197.3679999999995,3019.5059999999999,2206.0219999999999]
[1,"Hijo",{"$f":"C222*$K$2","v":219.35666666666668},198.96799999999999,151.68533333333335,110.74933333333333,0,null,258.06666666666666,234.08,178.45333333333335,130.29333333333335,null,null,{"$f":"I296*0.85","v":219.35666666666665},198.96800000000002,151.68533333333335,110.74933333333334]
[2,"Hijos",{"$f":"C223*$K$2","v":372.86666666666667},338.43599999999998,257.51600000000002,188.25800000000001,0,null,438.66666666666669,398.16,302.96000000000004,221.48000000000002,null,null,{"$f":"I297*0.85","v":372.86666666666667},{"$f":"J297*0.85","v":338.43600000000004},{"$f":"K297*0.85","v":257.51600000000002},{"$f":"L297*0.85","v":188.25800000000001}]
[3,"Hijos o más",{"$f":"C224*$K$2","v":526.21800000000007},477.5866666666667,363.58466666666664,265.608,0,null,619.08000000000004,561.86666666666667,427.74666666666667,312.48,null,null,526.21800000000007,477.58666666666664,363.58466666666664,265.608]
[]
[]
["BUPA GLOBAL SELECT"]
["TARIFAS ANUALES"]
["EDAD"]
[" "," ",250,2000,5000,null,null,null,null,null,null,null,null,null,null,null,null,null,null,null,2,6,10,14,18]
[18,18,{"$f":"O305","v":3524.1},{"$f":"P305","v":3380.45},2553.4,1864.8999999999999,0,null,4146,3977,3004,2194,null,null,{"$f":"I305*0.85","v":3524.1},{"$f":"J305*0.85","v":3380.45},2553.4,1864.8999999999999,null,null,0,0,0,0,0]
[19,18,{"$f":"O306","v":3524.1},{"$f":"P306","v":3380.45},{"$f":"Q306","v":2553.4},{"$f":"R306","v":1864.8999999999999},{"$f":"S306","v":0},null,4146,3977,3004,2194,null,null,{"$f":"I306*0.85","v":3524.1},{"$f":"J306*0.85","v":3380.45},{"$f":"K306*0.85","v":2553.4},{"$f":"L306*0.85","v":1864.8999999999999},null,null,0,0,0,0,0]
[20,18,3524.1,3380.45,2553.4,1864.8999999999999,0,null,4146,3977,3004,2194,null,null,3524.1,3380.45,2553.4,1864.8999999999999,null,null,0,0,0,0,0]
[21,18,3524.1,3380.45,2553.4,1864.8999999999999,0,null,4146,3977,3004,2194,null,null,3524.1,3380.45,2553.4,1864.8999999999999,null,null,0,0,0,0,0]
[22,18,3524.1,3380.45,2553.4,1864.8999999999999,0,null,4146,3977,3004,2194,null,null,3524.1,3380.45,2553.4,1864.8999999999999,null,null,0,0,0,0,0]
[23,18,3524.1,3380.45,2553.4,1864.8999999999999,0,null,4146,3977,3004,2194,null,null,3524.1,3380.45,2553.4,1864.8999999999999,null,null,0,0,0,0,0]
[24,18,3524.1,3380.45,2553.4,1864.8999999999999,0,null,4146,3977,3004,2194,null,null,3524.1,3380.45,2553.4,1864.8999999999999,null,null,0,0,0,0,0]
[25,25,3802.0499999999997,3648.2,2725.95,1991.55,0,null,4473,4292,3207,2343,null,null,3802.0499999999997,3648.2,2725.95,1991.55,null,null,0,0,0,0,0]
[26,25,3802.0499999999997,3648.2,2725.95,1991.55,0,null,4473,4292,3207,2343,null,null,3802.0499999999997,3648.2,2725.95,1991.55,null,null,0,0,0,0,0]
[27,25,3802.0499999999997,3648.2,2725.95,1991.55,0,null,4473,4292,3207,2343,null,null,3802.0499999999997,3648.2,2725.95,1991.55,null,null,0,0,0,0,0]
[28,25,3802.0499999999997,3648.2,2725.95,1991.55,0,null,4473,4292,3207,2343,null,null,3802.0499999999997,3648.2,2725.95,1991.55,null,null,0,0,0,0,0]
[29,25,3802.0499999999997,3648.2,2725.95,1991.55,0,null,4473,4292,3207,2343,null,null,3802.0499999999997,3648.2,2725.95,1991.55,null,null,0,0,0,0,0]
[30,30,4289.0999999999995,4114,3031.1,2212.5499999999997,0,null,5046,4840,3566,2603,null,null,4289.0999999999995,4114,3031.1,2212.5499999999997,null,null,0,0,0,0,0]
[31,30,4289.0999999999995,4114,3031.1,2212.5499999999997,0,null,5046,4840,3566,2603,null,null,4289.0999999999995,4114,3031.1,2212.5499999999997,null,null,0,0,0,0,0]
[32,30,4289.0999999999995,4114,3031.1,2212.5499999999997,0,null,5046,4840,3566,2603,null,null,4289.0999999999995,4114,3031.1,2212.5499999999997,null,null,0,0,0,0,0]
[33,30,4289.0999999999995,4114,3031.1,2212.5499999999997,0,null,5046,4840,3566,2603,null,null,4289.0999999999995,4114,3031.1,2212.5499999999997,null,null,0,0,0,0,0]
[34,30,4289.0999999999995,4114,3031.1,2212.5499999999997,0,null,5046,4840,3566,2603,null,null,4289.0999999999995,4114,3031.1,2212.5499999999997,null,null,0,0,0,0,0]
[35,35,4853.5,4656.3,3393.2,2478.6,0,null,5710,5478,3992,2916,null,null,4853.5,4656.3,3393.2,2478.6,null,null,0,0,0,0,0]
[36,35,4853.5,4656.3,3393.2,2478.6,0,null,5710,5478,3992,2916,null,null,4853.5,4656.3,3393.2,2478.6,null,null,0,0,0,0,0]
[37,35,4853.5,4656.3,3393.2,2478.6,0,null,5710,5478,3992,2916,null,null,4853.5,4656.3,3393.2,2478.6,null,null,0,0,0,0,0]
[38,35,4853.5,4656.3,3393.2,2478.6,0,null,5710,5478,3992,2916,null,null,4853.5,4656.3,3393.2,2478.6,null,null,0,0,0,0,0]
[39,35,4853.5,4656.3,3393.2,2478.6,0,null,5710,5478,3992,2916,null,null,4853.5,4656.3,3393.2,2478.6,null,null,0,0,0,0,0]
[40,40,5688.2,5457.8499999999995,3943.15,2879.7999999999997,0,null,6692,6421,4639,3388,null,null,5688.2,5457.8499999999995,3943.15,2879.7999999999997,null,null,0,0,0,0,0]
[41,40,5688.2,5457.8499999999995,3943.15,2879.7999999999997,0,null,6692,6421,4639,3388,null,null,5688.2,5457.8499999999995,3943.15,2879.7999999999997,null,null,0,0,0,0,0]
[42,40,5688.2,5457.8499999999995,3943.15,2879.7999999999997,0,null,6692,6421,4639,3388,null,null,5688.2,5457.8499999999995,3943.15,2879.7999999999997,null,null,0,0,0,0,0]
[43,40,5688.2,5457.8499999999995,3943.15,2879.7999999999997,0,null,6692,6421,4639,3388,null,null,5688.2,5457.8499999999995,3943.15,2879.7999999999997,null,null,0,0,0,0,0]
[44,40,5688.2,5457.8499999999995,3943.15,2879.7999999999997,0,null,6692,6421,4639,3388,null,null,5688.2,5457.8499999999995,3943.15,2879.7999999999997,null,null,0,0,0,0,0]
[45,45,6437.9,6176.0999999999995,4438.7,3242.75,0,null,7574,7266,5222,3815,null,null,6437.9,6176.0999999999995,4438.7,3242.75,null,null,0,0,0,0,0]
[46,45,6437.9,6176.0999999999995,4438.7,3242.75,0,null,7574,7266,5222,3815,null,null,6437.9,6176.0999999999995,4438.7,3242.75,null,null,0,0,0,0,0]
[47,45,6437.9,6176.0999999999995,4438.7,3242.75,0,null,7574,7266,5222,3815,null,null,6437.9,6176.0999999999995,4438.7,3242.75,null,null,0,0,0,0,0]
[48,45,6437.9,6176.0999999999995,4438.7,3242.75,0,null,7574,7266,5222,3815,null,null,6437.9,6176.0999999999995,4438.7,3242.75,null,null,0,0,0,0,0]
[49,45,6437.9,6176.0999999999995,4438.7,3242.75,0,null,7574,7266,5222,3815,null,null,6437.9,6176.0999999999995,4438.7,3242.75,null,null,0,0,0,0,0]
[50,50,7517.4,7211.4,5162.05,3770.6,0,null,8844,8484,6073,4436,null,null,7517.4,7211.4,5162.05,3770.6,null,null,0,0,0,0,0]
[51,50,7517.4,7211.4,5162.05,3770.6,0,null,8844,8484,6073,4436,null,null,7517.4,7211.4,5162.05,3770.6,null,null,0,0,0,0,0]
[52,50,7517.4,7211.4,5162.05,3770.6,0,null,8844,8484,6073,4436,null,null,7517.4,7211.4,5162.05,3770.6,null,null,0,0,0,0,0]
[53,50,7517.4,7211.4,5162.05,3770.6,0,null,8844,8484,6073,4436,null,null,7517.4,7211.4,5162.05,3770.6,null,null,0,0,0,0,0]
[54,50,7517.4,7211.4,5162.05,3770.6,0,null,8844,8484,6073,4436,null,null,7517.4,7211.4,5162.05,3770.6,null,null,0,0,0,0,0]
[55,55,8479.6,8135.3499999999995,5808.05,4242.3499999999995,0,null,9976,9571,6833,4991,null,null,8479.6,8135.3499999999995,5808.05,4242.3499999999995,null,null,0,0,0,0,0]
[56,55,8479.6,8135.3499999999995,5808.05,4242.3499999999995,0,null,9976,9571,6833,4991,null,null,8479.6,8135.3499999999995,5808.05,4242.3499999999995,null,null,0,0,0,0,0]
[57,55,8479.6,8135.3499999999995,5808.05,4242.3499999999995,0,null,9976,9571,6833,4991,null,null,8479.6,8135.3499999999995,5808.05,4242.3499999999995,null,null,0,0,0,0,0]
[58,55,8479.6,8135.3499999999995,5808.05,4242.3499999999995,0,null,9976,9571,6833,4991,null,null,8479.6,8135.3499999999995,5808.05,4242.3499999999995,null,null,0,0,0,0,0]
[59,55,8479.6,8135.3499999999995,5808.05,4242.3499999999995,0,null,9976,9571,6833,4991,null,null,8479.6,8135.3499999999995,5808.05,4242.3499999999995,null,null,0,0,0,0,0]
[60,60,9118.7999999999993,8749.0499999999993,6242.4,4556.8499999999995,0,null,10728,10293,7344,5361,null,null,9118.7999999999993,8749.0499999999993,6242.4,4556.8499999999995,null,null,0,0,0,0,0]
[61,61,10396.35,9973.9,7108.55,5191.8,0,null,12231,11734,8363,6108,null,null,10396.35,9973.9,7108.55,5191.8,null,null,0,0,0,0,0]
[62,62,11622.9,11152,7946.65,5801.25,0,null,13674,13120,9349,6825,null,null,11622.9,11152,7946.65,5801.25,null,null,0,0,0,0,0]
[63,63,12944.65,12420.199999999999,8850.1999999999989,6462.55,0,null,15229,14612,10412,7603,null,null,12944.65,12420.199999999999,8850.1999999999989,6462.55,null,null,0,0,0,0,0]
[64,64,14357.35,13777.65,9820.9,7171.45,0,null,16891,16209,11554,8437,null,null,14357.35,13777.65,9820.9,7171.45,null,null,0,0,0,0,0]
[65,65,15866.949999999999,15225.199999999999,10861.3,7932.2,0,null,18667,17912,12778,9332,null,null,15866.949999999999,15225.199999999999,10861.3,7932.2,null,null,0,0,0,0,0]
[66,66,17468.349999999999,16761.149999999998,11967.15,8738.85,0,null,20551,19719,14079,10281,null,null,17468.349999999999,16761.149999999998,11967.15,8738.85,null,null,0,0,0,0,0]
[67,67,19164.099999999999,18386.349999999999,13140.15,9596.5,0,null,22546,21631,15459,11290,null,null,19164.099999999999,18386.349999999999,13140.15,9596.5,null,null,0,0,0,0,0]
[68,68,20953.349999999999,20102.5,14379.449999999999,10500.9,0,null,24651,23650,16917,12354,null,null,20953.349999999999,20102.5,14379.449999999999,10500.9,null,null,0,0,0,0,0]
[69,69,22832.7,21907.899999999998,15689.3,11457.15,0,null,26862,25774,18458,13479,null,null,22832.7,21907.899999999998,15689.3,11457.15,null,null,0,0,0,0,0]
[70,70,24808.95,23803.399999999998,17064.599999999999,12460.15,0,null,29187,28004,20076,14659,null,null,24808.95,23803.399999999998,17064.599999999999,12460.15,null,null,0,0,0,0,0]
[71,71,26876.149999999998,25786.45,18510.45,13515.85,0,null,31619,30337,21777,15901,null,null,26876.149999999998,25786.45,18510.45,13515.85,null,null,0,0,0,0,0]
[72,72,29039.399999999998,27862.149999999998,20018.349999999999,14619.15,0,null,34164,32779,23551,17199,null,null,29039.399999999998,27862.149999999998,20018.349999999999,14619.15,null,null,0,0,0,0,0]
[73,73,31293.599999999999,30024.55,21596.799999999999,15770.05,0,null,36816,35323,25408,18553,null,null,31293.599999999999,30024.55,21596.799999999999,15770.05,null,null,0,0,0,0,0]
[74,74,33641.299999999996,32279.599999999999,23239.85,16971.099999999999,0,null,39578,37976,27341,19966,null,null,33641.299999999996,32279.599999999999,23239.85,16971.099999999999,null,null,0,0,0,0,0]
[75,75,36083.35,34622.199999999997,24954.3,18223.149999999998,0,null,42451,40732,29358,21439,null,null,36083.35,34622.199999999997,24954.3,18223.149999999998,null,null,0,0,0,0,0]
[76,75,36083.35,34622.199999999997,24954.3,18223.149999999998,0,null,42451,40732,29358,21439,null,null,36083.35,34622.199999999997,24954.3,18223.149999999998,null,null,0,0,0,0,0]
[77,75,36083.35,34622.199999999997,24954.3,18223.149999999998,0,null,42451,40732,29358,21439,null,null,36083.35,34622.199999999997,24954.3,18223.149999999998,null,null,0,0,0,0,0]
[78,75,36083.35,34622.199999999997,24954.3,18223.149999999998,0,null,42451,40732,29358,21439,null,null,36083.35,34622.199999999997,24954.3,18223.149999999998,null,null,0,0,0,0,0]
[79,75,36083.35,34622.199999999997,24954.3,18223.149999999998,0,null,42451,40732,29358,21439,null,null,36083.35,34622.199999999997,24954.3,18223.149999999998,null,null,0,0,0,0,0]
[80,75,36083.35,34622.199999999997,24954.3,18223.149999999998,0,null,42451,40732,29358,21439,null,null,36083.35,34622.199999999997,24954.3,18223.149999999998,null,null,0,0,0,0,0]
[81,75,36083.35,34622.199999999997,24954.3,18223.149999999998,0,null,42451,40732,29358,21439,null,null,36083.35,34622.199999999997,24954.3,18223.149999999998,null,null,0,0,0,0,0]
[82,75,36083.35,34622.199999999997,24954.3,18223.149999999998,0,null,42451,40732,29358,21439,null,null,36083.35,34622.199999999997,24954.3,18223.149999999998,null,null,0,0,0,0,0]
[83,75,{"$f":"O370","v":36083.35},{"$f":"P370","v":34622.199999999997},{"$f":"Q370","v":24954.3},{"$f":"R370","v":18223.149999999998},{"$f":"S370","v":0},null,42451,40732,29358,21439,null,null,{"$f":"I370*0.85","v":36083.35},{"$f":"J370*0.85","v":34622.199999999997},{"$f":"K370*0.85","v":24954.3},{"$f":"L370*0.85","v":18223.149999999998},null,null,0,0,0,0,0]
[84,75,36083.35,34622.199999999997,24954.3,18223.149999999998,0,null,42451,40732,29358,21439,null,null,{"$f":"I371*0.85","v":36083.35},{"$f":"J371*0.85","v":34622.199999999997},{"$f":"K371*0.85","v":24954.3},{"$f":"L371*0.85","v":18223.149999999998},null,null,0,0,0,0,0]
[1,"1 Child",1644.75,1578.45,1208.7,884,0,null,1935,1857,1422,1040,null,null,{"$f":"I372*0.85","v":1644.75},1578.45,1208.7,884,null,null,0,0,0,0,0]
[2,"2 Children",2793.1,2680.0499999999997,2052.75,1499.3999999999999,0,null,3286,3153,2415,1764,null,null,{"$f":"I373*0.85","v":2793.1},{"$f":"J373*0.85","v":2680.0499999999997},{"$f":"K373*0.85","v":2052.75},{"$f":"L373*0.85","v":1499.3999999999999},null,null,0,0,0,0,0]
[3,"3+ Children",3944,3782.5,2896.7999999999997,2115.65,0,null,4640,4450,3408,2489,null,null,3944,3782.5,2896.7999999999997,2115.65,null,null,0,0,0,0,0]
[]
["BUPA GLOBAL SELECT - MENSUALES"]
["EDAD"]
[" "," ",2000,3500,5000]
[18,null,{"$f":"C305*$K$2","v":328.916},{"$f":"D305*$K$2","v":315.50866666666667},238.31733333333335,174.05733333333333,0,null,{"$f":"I305*$K$2","v":386.96000000000004},{"$f":"J305*$K$2","v":371.18666666666667},280.37333333333333,204.77333333333334,null,null,{"$f":"I379*0.85","v":328.916},{"$f":"J379*0.85","v":315.50866666666667},238.31733333333332,174.05733333333333]
[19,null,{"$f":"C306*$K$2","v":328.916},315.50866666666667,238.31733333333335,174.05733333333333,0,null,{"$f":"I306*$K$2","v":386.96000000000004},371.18666666666667,280.37333333333333,204.77333333333334,null,null,{"$f":"I380*0.85","v":328.916},{"$f":"J380*0.85","v":315.50866666666667},{"$f":"K380*0.85","v":238.31733333333332},{"$f":"L380*0.85","v":174.05733333333333}]
[20,null,{"$f":"C307*$K$2","v":328.916},315.50866666666667,238.31733333333335,174.05733333333333,0,null,386.96000000000004,371.18666666666667,280.37333333333333,204.77333333333334,null,null,328.916,315.50866666666667,238.31733333333332,174.05733333333333]
[21,null,{"$f":"C308*$K$2","v":328.916},315.50866666666667,238.31733333333335,174.05733333333333,0,null,386.96000000000004,371.18666666666667,280.37333333333333,204.77333333333334,null,null,328.916,315.50866666666667,238.31733333333332,174.05733333333333]
[22,null,{"$f":"C309*$K$2","v":328.916},315.50866666666667,238.31733333333335,174.05733333333333,0,null,386.96000000000004,371.18666666666667,280.37333333333333,204.77333333333334,null,null,328.916,315.50866666666667,238.31733333333332,174.05733333333333]
[23,null,{"$f":"C310*$K$2","v":328.916},315.50866666666667,238.31733333333335,174.05733333333333,0,null,386.96000000000004,371.18666666666667,280.37333333333333,204.77333333333334,null,null,328.916,315.50866666666667,238.31733333333332,174.05733333333333]
[24,null,{"$f":"C311*$K$2","v":328.916},315.50866666666667,238.31733333333335,174.05733333333333,0,null,386.96000000000004,371.18666666666667,280.37333333333333,204.77333333333334,null,null,328.916,315.50866666666667,238.31733333333332,174.05733333333333]
[25,null,{"$f":"C312*$K$2","v":354.858},340.49866666666668,254.422,185.87800000000001,0,null,417.48,400.5866666666667,299.32,218.68,null,null,354.858,340.49866666666668,254.422,185.87800000000001]
[26,null,{"$f":"C313*$K$2","v":354.858},340.49866666666668,254.422,185.87800000000001,0,null,417.48,400.5866666666667,299.32,218.68,null,null,354.858,340.49866666666668,254.422,185.87800000000001]
[27,null,{"$f":"C314*$K$2","v":354.858},340.49866666666668,254.422,185.87800000000001,0,null,417.48,400.5866666666667,299.32,218.68,null,null,354.858,340.49866666666668,254.422,185.87800000000001]
[28,null,{"$f":"C315*$K$2","v":354.858},340.49866666666668,254.422,185.87800000000001,0,null,417.48,400.5866666666667,299.32,218.68,null,null,354.858,340.49866666666668,254.422,185.87800000000001]
[29,null,{"$f":"C316*$K$2","v":354.858},340.49866666666668,254.422,185.87800000000001,0,null,417.48,400.5866666666667,299.32,218.68,null,null,354.858,340.49866666666668,254.422,185.87800000000001]
[30,null,{"$f":"C317*$K$2","v":400.31599999999997},383.97333333333336,282.90266666666668,206.50466666666665,0,null,470.96000000000004,451.73333333333335,332.82666666666665,242.94666666666669,null,null,400.31600000000003,383.97333333333336,282.90266666666668,206.50466666666668]
[31,null,{"$f":"C318*$K$2","v":400.31599999999997},383.97333333333336,282.90266666666668,206.50466666666665,0,null,470.96000000000004,451.73333333333335,332.82666666666665,242.94666666666669,null,null,400.31600000000003,383.97333333333336,282.90266666666668,206.50466666666668]
[32,null,{"$f":"C319*$K$2","v":400.31599999999997},383.97333333333336,282.90266666666668,206.50466666666665,0,null,470.96000000000004,451.73333333333335,332.82666666666665,242.94666666666669,null,null,400.31600000000003,383.97333333333336,282.90266666666668,206.50466666666668]
[33,null,{"$f":"C320*$K$2","v":400.31599999999997},383.97333333333336,282.90266666666668,206.50466666666665,0,null,470.96000000000004,451.73333333333335,332.82666666666665,242.94666666666669,null,null,400.31600000000003,383.97333333333336,282.90266666666668,206.50466666666668]
[34,null,{"$f":"C321*$K$2","v":400.31599999999997},383.97333333333336,282.90266666666668,206.50466666666665,0,null,470.96000000000004,451.73333333333335,332.82666666666665,242.94666666666669,null,null,400.31600000000003,383.97333333333336,282.90266666666668,206.50466666666668]
[35,null,{"$f":"C322*$K$2","v":452.99333333333334},434.58800000000002,316.69866666666667,231.33600000000001,0,null,532.93333333333339,511.28000000000003,372.5866666666667,272.16000000000003,null,null,452.9933333333334,434.58800000000002,316.69866666666667,231.33600000000001]
[36,null,{"$f":"C323*$K$2","v":452.99333333333334},434.58800000000002,316.69866666666667,231.33600000000001,0,null,532.93333333333339,511.28000000000003,372.5866666666667,272.16000000000003,null,null,452.9933333333334,434.58800000000002,316.69866666666667,231.33600000000001]
[37,null,{"$f":"C324*$K$2","v":452.99333333333334},434.58800000000002,316.69866666666667,231.33600000000001,0,null,532.93333333333339,511.28000000000003,372.5866666666667,272.16000000000003,null,null,452.9933333333334,434.58800000000002,316.69866666666667,231.33600000000001]
[38,null,{"$f":"C325*$K$2","v":452.99333333333334},434.58800000000002,316.69866666666667,231.33600000000001,0,null,532.93333333333339,511.28000000000003,372.5866666666667,272.16000000000003,null,null,452.9933333333334,434.58800000000002,316.69866666666667,231.33600000000001]
[39,null,{"$f":"C326*$K$2","v":452.99333333333334},434.58800000000002,316.69866666666667,231.33600000000001,0,null,532.93333333333339,511.28000000000003,372.5866666666667,272.16000000000003,null,null,452.9933333333334,434.58800000000002,316.69866666666667,231.33600000000001]
[40,null,{"$f":"C327*$K$2","v":530.89866666666671},509.39933333333329,368.02733333333333,268.78133333333329,0,null,624.5866666666667,599.29333333333341,432.97333333333336,316.21333333333337,null,null,530.89866666666671,509.3993333333334,368.02733333333333,268.78133333333335]
[41,null,{"$f":"C328*$K$2","v":530.89866666666671},509.39933333333329,368.02733333333333,268.78133333333329,0,null,624.5866666666667,599.29333333333341,432.97333333333336,316.21333333333337,null,null,530.89866666666671,509.3993333333334,368.02733333333333,268.78133333333335]
[42,null,{"$f":"C329*$K$2","v":530.89866666666671},509.39933333333329,368.02733333333333,268.78133333333329,0,null,624.5866666666667,599.29333333333341,432.97333333333336,316.21333333333337,null,null,530.89866666666671,509.3993333333334,368.02733333333333,268.78133333333335]
[43,null,{"$f":"C330*$K$2","v":530.89866666666671},509.39933333333329,368.02733333333333,268.78133333333329,0,null,624.5866666666667,599.29333333333341,432.97333333333336,316.21333333333337,null,null,530.89866666666671,509.3993333333334,368.02733333333333,268.78133333333335]
[44,null,{"$f":"C331*$K$2","v":530.89866666666671},509.39933333333329,368.02733333333333,268.78133333333329,0,null,624.5866666666667,599.29333333333341,432.97333333333336,316.21333333333337,null,null,530.89866666666671,509.3993333333334,368.02733333333333,268.78133333333335]
[45,null,{"$f":"C332*$K$2","v":600.87066666666669},576.43599999999992,414.27866666666665,302.65666666666669,0,null,706.90666666666675,678.16000000000008,487.38666666666671,356.06666666666666,null,null,600.87066666666669,576.43600000000004,414.27866666666671,302.65666666666664]
[46,null,{"$f":"C333*$K$2","v":600.87066666666669},576.43599999999992,414.27866666666665,302.65666666666669,0,null,706.90666666666675,678.16000000000008,487.38666666666671,356.06666666666666,null,null,600.87066666666669,576.43600000000004,414.27866666666671,302.65666666666664]
[47,null,{"$f":"C334*$K$2","v":600.87066666666669},576.43599999999992,414.27866666666665,302.65666666666669,0,null,706.90666666666675,678.16000000000008,487.38666666666671,356.06666666666666,null,null,600.87066666666669,576.43600000000004,414.27866666666671,302.65666666666664]
[48,null,{"$f":"C335*$K$2","v":600.87066666666669},576.43599999999992,414.27866666666665,302.65666666666669,0,null,706.90666666666675,678.16000000000008,487.38666666666671,356.06666666666666,null,null,600.87066666666669,576.43600000000004,414.27866666666671,302.65666666666664]
[49,null,{"$f":"C336*$K$2","v":600.87066666666669},576.43599999999992,414.27866666666665,302.65666666666669,0,null,706.90666666666675,678.16000000000008,487.38666666666671,356.06666666666666,null,null,600.87066666666669,576.43600000000004,414.27866666666671,302.65666666666664]
[50,null,{"$f":"C337*$K$2","v":701.62400000000002},673.06399999999996,481.7913333333334,351.92266666666666,0,null,825.44,791.84,566.81333333333339,414.0266666666667,null,null,701.62400000000002,673.06399999999996,481.79133333333334,351.92266666666666]
[51,null,{"$f":"C338*$K$2","v":701.62400000000002},673.06399999999996,481.7913333333334,351.92266666666666,0,null,825.44,791.84,566.81333333333339,414.0266666666667,null,null,701.62400000000002,673.06399999999996,481.79133333333334,351.92266666666666]
[52,null,{"$f":"C339*$K$2","v":701.62400000000002},673.06399999999996,481.7913333333334,351.92266666666666,0,null,825.44,791.84,566.81333333333339,414.0266666666667,null,null,701.62400000000002,673.06399999999996,481.79133333333334,351.92266666666666]
[53,null,{"$f":"C340*$K$2","v":701.62400000000002},673.06399999999996,481.7913333333334,351.92266666666666,0,null,825.44,791.84,566.81333333333339,414.0266666666667,null,null,701.62400000000002,673.06399999999996,481.79133333333334,351.92266666666666]
[54,null,{"$f":"C341*$K$2","v":701.62400000000002},673.06399999999996,481.7913333333334,351.92266666666666,0,null,825.44,791.84,566.81333333333339,414.0266666666667,null,null,701.62400000000002,673.06399999999996,481.79133333333334,351.92266666666666]
[55,null,{"$f":"C342*$K$2","v":791.42933333333337},759.29933333333327,542.08466666666675,395.95266666666663,0,null,931.09333333333336,893.29333333333341,637.74666666666667,465.82666666666671,null,null,791.42933333333337,759.29933333333338,542.08466666666664,395.95266666666669]
[56,null,{"$f":"C343*$K$2","v":791.42933333333337},759.29933333333327,542.08466666666675,395.95266666666663,0,null,931.09333333333336,893.29333333333341,637.74666666666667,465.82666666666671,null,null,791.42933333333337,759.29933333333338,542.08466666666664,395.95266666666669]
[57,null,{"$f":"C344*$K$2","v":791.42933333333337},759.29933333333327,542.08466666666675,395.95266666666663,0,null,931.09333333333336,893.29333333333341,637.74666666666667,465.82666666666671,null,null,791.42933333333337,759.29933333333338,542.08466666666664,395.95266666666669]
[58,null,{"$f":"C345*$K$2","v":791.42933333333337},759.29933333333327,542.08466666666675,395.95266666666663,0,null,931.09333333333336,893.29333333333341,637.74666666666667,465.82666666666671,null,null,791.42933333333337,759.29933333333338,542.08466666666664,395.95266666666669]
[59,null,{"$f":"C346*$K$2","v":791.42933333333337},759.29933333333327,542.08466666666675,395.95266666666663,0,null,931.09333333333336,893.29333333333341,637.74666666666667,465.82666666666671,null,null,791.42933333333337,759.29933333333338,542.08466666666664,395.95266666666669]
[60,null,{"$f":"C347*$K$2","v":851.08799999999997},816.57799999999997,582.62400000000002,425.30599999999998,0,null,1001.2800000000001,960.68000000000006,685.44,500.36,null,null,851.08800000000008,816.57800000000009,582.62400000000002,425.30599999999998]
[61,null,{"$f":"C348*$K$2","v":970.32600000000002},930.89733333333334,663.46466666666674,484.56800000000004,0,null,1141.56,1095.1733333333334,780.54666666666674,570.08000000000004,null,null,970.32599999999991,930.89733333333334,663.46466666666674,484.56800000000004]
[62,null,{"$f":"C349*$K$2","v":1084.8040000000001},1040.8533333333335,741.6873333333333,541.45000000000005,0,null,1276.24,1224.5333333333333,872.57333333333338,637,null,null,1084.8040000000001,1040.8533333333332,741.6873333333333,541.44999999999993]
[63,null,{"$f":"C350*$K$2","v":1208.1673333333333},1159.2186666666666,826.0186666666666,603.17133333333334,0,null,1421.3733333333334,1363.7866666666666,971.78666666666675,709.61333333333334,null,null,1208.1673333333333,1159.2186666666666,826.01866666666672,603.17133333333334]
[64,null,{"$f":"C351*$K$2","v":1340.0193333333334},1285.914,916.61733333333336,669.33533333333332,0,null,1576.4933333333333,1512.8400000000001,1078.3733333333334,787.45333333333338,null,null,1340.0193333333334,1285.914,916.61733333333336,669.33533333333332]
[65,null,{"$f":"C352*$K$2","v":1480.9153333333334},1421.0186666666666,1013.7213333333333,740.33866666666665,0,null,1742.2533333333333,1671.7866666666666,1192.6133333333335,870.98666666666668,null,null,1480.9153333333334,1421.0186666666666,1013.7213333333334,740.33866666666665]
[66,null,{"$f":"C353*$K$2","v":1630.3793333333333},1564.3739999999998,1116.934,815.62600000000009,0,null,1918.0933333333335,1840.44,1314.04,959.56000000000006,null,null,1630.3793333333333,1564.374,1116.934,815.62599999999998]
[67,null,{"$f":"C354*$K$2","v":1788.6493333333333},1716.0593333333334,1226.414,895.6733333333334,0,null,2104.2933333333335,2018.8933333333334,1442.8400000000001,1053.7333333333333,null,null,1788.6493333333335,1716.0593333333334,1226.414,895.67333333333329]
[68,null,{"$f":"C355*$K$2","v":1955.646},1876.2333333333333,1342.0819999999999,980.08400000000006,0,null,2300.7600000000002,2207.3333333333335,1578.92,1153.04,null,null,1955.6460000000002,1876.2333333333333,1342.0820000000001,980.08399999999995]
[69,null,{"$f":"C356*$K$2","v":2131.0520000000001},2044.7373333333333,1464.3346666666666,1069.3340000000001,0,null,2507.12,2405.5733333333333,1722.7466666666667,1258.04,null,null,2131.0519999999997,2044.7373333333333,1464.3346666666666,1069.3339999999998]
[70,null,{"$f":"C357*$K$2","v":2315.502},2221.6506666666664,1592.6959999999999,1162.9473333333333,0,null,2724.1200000000003,2613.7066666666669,1873.76,1368.1733333333334,null,null,2315.5020000000004,2221.6506666666669,1592.6959999999999,1162.9473333333333]
[71,null,{"$f":"C358*$K$2","v":2508.4406666666664},2406.7353333333335,1727.6420000000001,1261.4793333333334,0,null,2951.106666666667,2831.4533333333334,2032.52,1484.0933333333335,null,null,2508.4406666666669,2406.7353333333335,1727.6420000000001,1261.4793333333334]
[72,null,{"$f":"C359*$K$2","v":2710.3440000000001},2600.467333333333,1868.3793333333333,1364.454,0,null,3188.6400000000003,3059.3733333333334,2198.0933333333332,1605.24,null,null,2710.3440000000001,2600.4673333333335,1868.3793333333333,1364.454]
[73,null,{"$f":"C360*$K$2","v":2920.7359999999999},2802.2913333333336,2015.7013333333334,1471.8713333333333,0,null,3436.1600000000003,3296.8133333333335,2371.4133333333334,1731.6133333333335,null,null,2920.7360000000003,2802.2913333333336,2015.7013333333334,1471.8713333333335]
[74,null,{"$f":"C361*$K$2","v":3139.8546666666666},3012.7626666666665,2169.0526666666665,1583.9693333333332,0,null,3693.9466666666667,3544.4266666666667,2551.8266666666668,1863.4933333333333,null,null,3139.8546666666666,3012.7626666666665,2169.0526666666669,1583.9693333333332]
[75,null,{"$f":"C362*$K$2","v":3367.7793333333334},3231.4053333333331,2329.0680000000002,1700.8273333333332,0,null,3962.0933333333337,3801.6533333333336,2740.08,2000.9733333333334,null,null,3367.7793333333334,3231.4053333333336,2329.0679999999998,1700.8273333333334]
[76,null,{"$f":"C363*$K$2","v":3367.7793333333334},3231.4053333333331,2329.0680000000002,1700.8273333333332,0,null,3962.0933333333337,3801.6533333333336,2740.08,2000.9733333333334,null,null,3367.7793333333334,3231.4053333333336,2329.0679999999998,1700.8273333333334]
[77,null,{"$f":"C364*$K$2","v":3367.7793333333334},3231.4053333333331,2329.0680000000002,1700.8273333333332,0,null,3962.0933333333337,3801.6533333333336,2740.08,2000.9733333333334,null,null,3367.7793333333334,3231.4053333333336,2329.0679999999998,1700.8273333333334]
[78,null,{"$f":"C365*$K$2","v":3367.7793333333334},3231.4053333333331,2329.0680000000002,1700.8273333333332,0,null,3962.0933333333337,3801.6533333333336,2740.08,2000.9733333333334,null,null,3367.7793333333334,3231.4053333333336,2329.0679999999998,1700.8273333333334]
[79,null,{"$f":"C366*$K$2","v":3367.7793333333334},3231.4053333333331,2329.0680000000002,1700.8273333333332,0,null,3962.0933333333337,3801.6533333333336,2740.08,2000.9733333333334,null,null,3367.7793333333334,3231.4053333333336,2329.0679999999998,1700.8273333333334]
[80,null,{"$f":"C367*$K$2","v":3367.7793333333334},3231.4053333333331,2329.0680000000002,1700.8273333333332,null,null,3962.0933333333337,3801.6533333333336,2740.08,2000.9733333333334,null,null,3367.7793333333334,3231.4053333333336,2329.0679999999998,1700.8273333333334]
[81,null,{"$f":"C368*$K$2","v":3367.7793333333334},3231.4053333333331,2329.0680000000002,1700.8273333333332,null,null,3962.0933333333337,3801.6533333333336,2740.08,2000.9733333333334,null,null,3367.7793333333334,3231.4053333333336,2329.0679999999998,1700.8273333333334]
[82,null,{"$f":"C369*$K$2","v":3367.7793333333334},3231.4053333333331,2329.0680000000002,1700.8273333333332,null,null,3962.0933333333337,3801.6533333333336,2740.08,{"$f":"L369*$K$2","v":2000.9733333333334},null,null,3367.7793333333334,3231.4053333333336,2329.0679999999998,1700.8273333333334]
[83,null,{"$f":"C370*$K$2","v":3367.7793333333334},3231.4053333333331,2329.0680000000002,1700.8273333333332,null,null,{"$f":"I370*$K$2","v":3962.0933333333337},3801.6533333333336,2740.08,2000.9733333333334,null,null,{"$f":"I444*0.85","v":3367.7793333333334},{"$f":"J444*0.85","v":3231.4053333333336},{"$f":"K444*0.85","v":2329.0679999999998},{"$f":"L444*0.85","v":1700.8273333333334}]
[84,"o más",{"$f":"C371*$K$2","v":3367.7793333333334},3231.4053333333331,2329.0680000000002,1700.8273333333332,0,null,3962.0933333333337,3801.6533333333336,2740.08,2000.9733333333334,null,null,3367.7793333333334,3231.4053333333336,2329.0679999999998,1700.8273333333334]
[1,"Hijo",{"$f":"C372*$K$2","v":153.51000000000002},147.322,112.81200000000001,82.506666666666675,null,null,180.6,173.32000000000002,132.72,97.066666666666677,null,null,{"$f":"I446*0.85","v":153.51},147.322,112.812,82.506666666666675]
[2,"Hijos",{"$f":"C373*$K$2","v":260.68933333333331},250.13799999999998,191.59,139.94399999999999,null,null,306.69333333333333,294.28000000000003,225.4,164.64000000000001,null,null,{"$f":"I447*0.85","v":260.68933333333331},{"$f":"J447*0.85","v":250.13800000000001},{"$f":"K447*0.85","v":191.59},{"$f":"L447*0.85","v":139.94400000000002}]
[3,"Hijos o más",{"$f":"C374*$K$2","v":368.10666666666668},353.03333333333336,270.36799999999999,197.4606666666667,null,null,433.06666666666666,415.33333333333337,318.08000000000004,232.30666666666667,null,null,368.10666666666663,353.03333333333336,270.36800000000005,197.46066666666667]
[]
[]
["BUPA GLOBAL ELITE"]
["TARIFAS SEMESTRALES"]
["EDAD"]
[" "," ",1000,2000,3500]
[18,null,{"$f":"C6*$K$4","v":4483.8265000000001},{"$f":"D6*$K$4","v":3929.261},3263.8724999999999,2831.8429999999998,2156.5435000000002,null,{"$f":"I6*$K$4","v":5275.09},{"$f":"J6*$K$4","v":4622.66},3839.8500000000004,3331.5800000000004,2537.11,null,{"$f":"I455*0.85","v":4483.8265000000001},{"$f":"J455*0.85","v":3929.261},3263.8725000000004,2831.8430000000003,2156.5435000000002]
[19,null,{"$f":"C7*$K$4","v":4483.8265000000001},3929.261,3263.8724999999999,2831.8429999999998,2156.5435000000002,null,{"$f":"I7*$K$4","v":5275.09},4622.66,3839.8500000000004,3331.5800000000004,2537.11,null,{"$f":"I456*0.85","v":4483.8265000000001},{"$f":"J456*0.85","v":3929.261},{"$f":"K456*0.85","v":3263.8725000000004},{"$f":"L456*0.85","v":2831.8430000000003},2156.5435000000002]
[20,null,{"$f":"C8*$K$4","v":4483.8265000000001},3929.261,3263.8724999999999,2831.8429999999998,2156.5435000000002,null,5275.09,4622.66,3839.8500000000004,3331.5800000000004,2537.11,null,4483.8265000000001,3929.261,3263.8725000000004,2831.8430000000003,2156.5435000000002]
[21,null,{"$f":"C9*$K$4","v":4483.8265000000001},3929.261,3263.8724999999999,2831.8429999999998,2156.5435000000002,null,5275.09,4622.66,3839.8500000000004,3331.5800000000004,2537.11,null,4483.8265000000001,3929.261,3263.8725000000004,2831.8430000000003,2156.5435000000002]
[22,null,{"$f":"C10*$K$4","v":4483.8265000000001},3929.261,3263.8724999999999,2831.8429999999998,2156.5435000000002,null,5275.09,4622.66,3839.8500000000004,3331.5800000000004,2537.11,null,4483.8265000000001,3929.261,3263.8725000000004,2831.8430000000003,2156.5435000000002]
[23,null,{"$f":"C11*$K$4","v":4483.8265000000001},3929.261,3263.8724999999999,2831.8429999999998,2156.5435000000002,null,5275.09,4622.66,3839.8500000000004,3331.5800000000004,2537.11,null,4483.8265000000001,3929.261,3263.8725000000004,2831.8430000000003,2156.5435000000002]
[24,null,{"$f":"C12*$K$4","v":4483.8265000000001},3929.261,3263.8724999999999,2831.8429999999998,2156.5435000000002,null,5275.09,4622.66,3839.8500000000004,3331.5800000000004,2537.11,null,4483.8265000000001,3929.261,3263.8725000000004,2831.8430000000003,2156.5435000000002]
[25,null,{"$f":"C13*$K$4","v":4790.6170000000002},4198.66,3466.5975000000003,3005.7359999999999,2290.7925,null,5636.02,4939.6000000000004,4078.3500000000004,3536.1600000000003,2695.05,null,4790.6170000000002,4198.66,3466.5975000000003,3005.7360000000003,2290.7925]
[26,null,{"$f":"C14*$K$4","v":4790.6170000000002},4198.66,3466.5975000000003,3005.7359999999999,2290.7925,null,5636.02,4939.6000000000004,4078.3500000000004,3536.1600000000003,2695.05,null,4790.6170000000002,4198.66,3466.5975000000003,3005.7360000000003,2290.7925]
[27,null,{"$f":"C15*$K$4","v":4790.6170000000002},4198.66,3466.5975000000003,3005.7359999999999,2290.7925,null,5636.02,4939.6000000000004,4078.3500000000004,3536.1600000000003,2695.05,null,4790.6170000000002,4198.66,3466.5975000000003,3005.7360000000003,2290.7925]
[28,null,{"$f":"C16*$K$4","v":4790.6170000000002},4198.66,3466.5975000000003,3005.7359999999999,2290.7925,null,5636.02,4939.6000000000004,4078.3500000000004,3536.1600000000003,2695.05,null,4790.6170000000002,4198.66,3466.5975000000003,3005.7360000000003,2290.7925]
[29,null,{"$f":"C17*$K$4","v":4790.6170000000002},4198.66,3466.5975000000003,3005.7359999999999,2290.7925,null,5636.02,4939.6000000000004,4078.3500000000004,3536.1600000000003,2695.05,null,4790.6170000000002,4198.66,3466.5975000000003,3005.7360000000003,2290.7925]
[30,null,{"$f":"C18*$K$4","v":5327.1625000000004},4669.4324999999999,3826.547,3317.482,2526.8544999999999,null,6267.25,5493.4500000000007,4501.8200000000006,3902.92,2972.77,null,5327.1624999999995,4669.4325000000008,3826.5470000000005,3317.482,2526.8544999999999]
[31,null,{"$f":"C19*$K$4","v":5327.1625000000004},4669.4324999999999,3826.547,3317.482,2526.8544999999999,null,6267.25,5493.4500000000007,4501.8200000000006,3902.92,2972.77,null,5327.1624999999995,4669.4325000000008,3826.5470000000005,3317.482,2526.8544999999999]
[32,null,{"$f":"C20*$K$4","v":5327.1625000000004},4669.4324999999999,3826.547,3317.482,2526.8544999999999,null,6267.25,5493.4500000000007,4501.8200000000006,3902.92,2972.77,null,5327.1624999999995,4669.4325000000008,3826.5470000000005,3317.482,2526.8544999999999]
[33,null,{"$f":"C21*$K$4","v":5327.1625000000004},4669.4324999999999,3826.547,3317.482,2526.8544999999999,null,6267.25,5493.4500000000007,4501.8200000000006,3902.92,2972.77,null,5327.1624999999995,4669.4325000000008,3826.5470000000005,3317.482,2526.8544999999999]
[34,null,{"$f":"C22*$K$4","v":5327.1625000000004},4669.4324999999999,3826.547,3317.482,2526.8544999999999,null,6267.25,5493.4500000000007,4501.8200000000006,3902.92,2972.77,null,5327.1624999999995,4669.4325000000008,3826.5470000000005,3317.482,2526.8544999999999]
[35,null,{"$f":"C23*$K$4","v":5946.6},5210.9335000000001,4245.9625000000005,3682.3870000000002,2804.8129999999996,null,6996,6130.51,4995.25,4332.22,3299.78,null,5946.5999999999995,5210.9335000000001,4245.9624999999996,3682.3870000000002,2804.8130000000001]
[36,null,{"$f":"C24*$K$4","v":5946.6},5210.9335000000001,4245.9625000000005,3682.3870000000002,2804.8129999999996,null,6996,6130.51,4995.25,4332.22,3299.78,null,5946.5999999999995,5210.9335000000001,4245.9624999999996,3682.3870000000002,2804.8130000000001]
[37,null,{"$f":"C25*$K$4","v":5946.6},5210.9335000000001,4245.9625000000005,3682.3870000000002,2804.8129999999996,null,6996,6130.51,4995.25,4332.22,3299.78,null,5946.5999999999995,5210.9335000000001,4245.9624999999996,3682.3870000000002,2804.8130000000001]
[38,null,{"$f":"C26*$K$4","v":5946.6},5210.9335000000001,4245.9625000000005,3682.3870000000002,2804.8129999999996,null,6996,6130.51,4995.25,4332.22,3299.78,null,5946.5999999999995,5210.9335000000001,4245.9624999999996,3682.3870000000002,2804.8130000000001]
[39,null,{"$f":"C27*$K$4","v":5946.6},5210.9335000000001,4245.9625000000005,3682.3870000000002,2804.8129999999996,null,6996,6130.51,4995.25,4332.22,3299.78,null,5946.5999999999995,5210.9335000000001,4245.9624999999996,3682.3870000000002,2804.8130000000001]
[40,null,{"$f":"C28*$K$4","v":6882.2884999999997},6031.7444999999998,4892.43,4242.3585000000003,3232.3375000000001,null,8096.81,7096.17,5755.8,4991.01,3802.75,null,6882.2885000000006,6031.7444999999998,4892.43,4242.3585000000003,3232.3375000000001]
[41,null,{"$f":"C29*$K$4","v":6882.2884999999997},6031.7444999999998,4892.43,4242.3585000000003,3232.3375000000001,null,8096.81,7096.17,5755.8,4991.01,3802.75,null,6882.2885000000006,6031.7444999999998,4892.43,4242.3585000000003,3232.3375000000001]
[42,null,{"$f":"C30*$K$4","v":6882.2884999999997},6031.7444999999998,4892.43,4242.3585000000003,3232.3375000000001,null,8096.81,7096.17,5755.8,4991.01,3802.75,null,6882.2885000000006,6031.7444999999998,4892.43,4242.3585000000003,3232.3375000000001]
[43,null,{"$f":"C31*$K$4","v":6882.2884999999997},6031.7444999999998,4892.43,4242.3585000000003,3232.3375000000001,null,8096.81,7096.17,5755.8,4991.01,3802.75,null,6882.2885000000006,6031.7444999999998,4892.43,4242.3585000000003,3232.3375000000001]
[44,null,{"$f":"C32*$K$4","v":6882.2884999999997},6031.7444999999998,4892.43,4242.3585000000003,3232.3375000000001,null,8096.81,7096.17,5755.8,4991.01,3802.75,null,6882.2885000000006,6031.7444999999998,4892.43,4242.3585000000003,3232.3375000000001]
[45,null,{"$f":"C33*$K$4","v":7702.6490000000003},6750.7425000000003,5458.7084999999997,4732.9530000000004,3604.9010000000003,null,9061.94,7942.05,6422.01,5568.18,4241.0600000000004,null,7702.6490000000003,6750.7425000000003,5458.7084999999997,4732.9530000000004,3604.9010000000003]
[46,null,{"$f":"C34*$K$4","v":7702.6490000000003},6750.7425000000003,5458.7084999999997,4732.9530000000004,3604.9010000000003,null,9061.94,7942.05,6422.01,5568.18,4241.0600000000004,null,7702.6490000000003,6750.7425000000003,5458.7084999999997,4732.9530000000004,3604.9010000000003]
[47,null,{"$f":"C35*$K$4","v":7702.6490000000003},6750.7425000000003,5458.7084999999997,4732.9530000000004,3604.9010000000003,null,9061.94,7942.05,6422.01,5568.18,4241.0600000000004,null,7702.6490000000003,6750.7425000000003,5458.7084999999997,4732.9530000000004,3604.9010000000003]
[48,null,{"$f":"C36*$K$4","v":7702.6490000000003},6750.7425000000003,5458.7084999999997,4732.9530000000004,3604.9010000000003,null,9061.94,7942.05,6422.01,5568.18,4241.0600000000004,null,7702.6490000000003,6750.7425000000003,5458.7084999999997,4732.9530000000004,3604.9010000000003]
[49,null,{"$f":"C37*$K$4","v":7702.6490000000003},6750.7425000000003,5458.7084999999997,4732.9530000000004,3604.9010000000003,null,9061.94,7942.05,6422.01,5568.18,4241.0600000000004,null,7702.6490000000003,6750.7425000000003,5458.7084999999997,4732.9530000000004,3604.9010000000003]
[50,null,{"$f":"C38*$K$4","v":8901.880000000001},7803.1105000000007,6294.3859999999995,5458.7084999999997,4157.6644999999999,null,10472.800000000001,9180.130000000001,7405.1600000000008,6422.01,4891.37,null,8901.880000000001,7803.1105000000007,6294.3860000000004,5458.7084999999997,4157.6644999999999]
[51,null,{"$f":"C39*$K$4","v":8901.880000000001},7803.1105000000007,6294.3859999999995,5458.7084999999997,4157.6644999999999,null,10472.800000000001,9180.130000000001,7405.1600000000008,6422.01,4891.37,null,8901.880000000001,7803.1105000000007,6294.3860000000004,5458.7084999999997,4157.6644999999999]
[52,null,{"$f":"C40*$K$4","v":8901.880000000001},7803.1105000000007,6294.3859999999995,5458.7084999999997,4157.6644999999999,null,10472.800000000001,9180.130000000001,7405.1600000000008,6422.01,4891.37,null,8901.880000000001,7803.1105000000007,6294.3860000000004,5458.7084999999997,4157.6644999999999]
[53,null,{"$f":"C41*$K$4","v":8901.880000000001},7803.1105000000007,6294.3859999999995,5458.7084999999997,4157.6644999999999,null,10472.800000000001,9180.130000000001,7405.1600000000008,6422.01,4891.37,null,8901.880000000001,7803.1105000000007,6294.3860000000004,5458.7084999999997,4157.6644999999999]
[54,null,{"$f":"C42*$K$4","v":8901.880000000001},7803.1105000000007,6294.3859999999995,5458.7084999999997,4157.6644999999999,null,10472.800000000001,9180.130000000001,7405.1600000000008,6422.01,4891.37,null,8901.880000000001,7803.1105000000007,6294.3860000000004,5458.7084999999997,4157.6644999999999]
[55,null,{"$f":"C43*$K$4","v":9951.9954999999991},8723.482,7027.3495000000003,6094.3639999999996,4641.9520000000002,null,11708.230000000001,10262.92,8267.4700000000012,7169.84,5461.12,null,9951.9955000000009,8723.482,7027.3495000000012,6094.3639999999996,4641.9520000000002]
[56,null,{"$f":"C44*$K$4","v":9951.9954999999991},8723.482,7027.3495000000003,6094.3639999999996,4641.9520000000002,null,11708.230000000001,10262.92,8267.4700000000012,7169.84,5461.12,null,9951.9955000000009,8723.482,7027.3495000000012,6094.3639999999996,4641.9520000000002]
[57,null,{"$f":"C45*$K$4","v":9951.9954999999991},8723.482,7027.3495000000003,6094.3639999999996,4641.9520000000002,null,11708.230000000001,10262.92,8267.4700000000012,7169.84,5461.12,null,9951.9955000000009,8723.482,7027.3495000000012,6094.3639999999996,4641.9520000000002]
[58,null,{"$f":"C46*$K$4","v":9951.9954999999991},8723.482,7027.3495000000003,6094.3639999999996,4641.9520000000002,null,11708.230000000001,10262.92,8267.4700000000012,7169.84,5461.12,null,9951.9955000000009,8723.482,7027.3495000000012,6094.3639999999996,4641.9520000000002]
[59,null,{"$f":"C47*$K$4","v":9951.9954999999991},8723.482,7027.3495000000003,6094.3639999999996,4641.9520000000002,null,11708.230000000001,10262.92,8267.4700000000012,7169.84,5461.12,null,9951.9955000000009,8723.482,7027.3495000000012,6094.3639999999996,4641.9520000000002]
[60,null,{"$f":"C48*$K$4","v":10651.1715},9336.6125000000011,7514.790500000001,6516.0320000000002,4963.1584999999995,null,12530.79,10984.25,8840.93,7665.92,5839.01,null,10651.1715,9336.6124999999993,7514.7905000000001,6516.0320000000002,4963.1585000000005]
[61,null,{"$f":"C49*$K$4","v":12054.0285},10566.477500000001,8500.9350000000013,7372.4325000000008,5615.0320000000002,null,14181.210000000001,12431.150000000001,10001.1,8673.4500000000007,6605.92,null,12054.0285,10566.477500000001,8500.9349999999995,7372.4325000000008,5615.0320000000002]
[62,null,{"$f":"C50*$K$4","v":13392.464},11738.227999999999,9442.0294999999987,8186.4859999999999,6234.92,null,15755.84,13809.68,11108.27,9631.16,7335.2000000000007,null,13392.464,11738.227999999999,9442.0295000000006,8186.4859999999999,6234.92]
[63,null,{"$f":"C51*$K$4","v":14828.657999999999},12999.1775,10455.654499999999,9065.8619999999992,6905.7145,null,17445.48,15293.150000000001,12300.77,10665.720000000001,8124.3700000000008,null,14828.657999999999,12999.177500000002,10455.654500000001,9065.862000000001,6905.714500000001]
[64,null,{"$f":"C52*$K$4","v":16368.917500000001},14347.0735,11542.2605,10008.307999999999,7622.9105000000009,null,19257.55,16878.91,13579.130000000001,11774.480000000001,8968.130000000001,null,16368.9175,14347.073499999999,11542.2605,10008.308000000001,7622.9105000000009]
[65,null,{"$f":"C53*$K$4","v":18008.287},15785.970499999999,12702.748500000002,11015.626,8391.0130000000008,null,21186.22,18571.73,14944.41,12959.560000000001,9871.7800000000007,null,18008.287,15785.970499999999,12702.7485,11015.626,8391.0130000000008]
[66,null,{"$f":"C54*$K$4","v":19749.920000000002},17311.814000000002,13937.1185,12085.112999999999,9205.9675000000007,null,23235.200000000001,20366.84,16396.61,14217.78,{"$f":"M54*$K$4","v":10830.550000000001},null,19749.920000000002,17311.813999999998,13937.1185,12085.112999999999,9205.9675000000007]
[67,null,{"$f":"C55*$K$4","v":21592.014500000001},18925.505000000001,15245.821000000002,13219.472,10069.1255,null,25402.370000000003,22265.300000000003,17936.260000000002,15552.320000000002,11846.03,null,21592.014500000001,18925.505000000001,15245.821000000002,13219.472000000002,10069.1255]
[68,null,{"$f":"C56*$K$4","v":23534.120000000003},20628.395,16626.603500000001,14417.802,10982.289000000001,null,27687.200000000001,24268.7,19560.710000000003,16962.120000000003,12920.34,null,23534.12,20628.395,16626.603500000001,14417.802000000001,10982.289000000001]
[69,null,{"$f":"C57*$K$4","v":25578.9395},22420.033500000001,18082.619500000001,15680.553500000002,11943.2055,null,30092.870000000003,26376.510000000002,21273.670000000002,18447.71,14050.83,null,25578.9395,22420.033500000001,18082.619500000001,15680.553499999998,11943.2055]
[70,null,{"$f":"C58*$K$4","v":27723.319500000001},24299.97,19610.264999999999,17005.023500000003,12952.325499999999,null,32615.670000000002,28588.2,23070.9,20005.91,15238.03,null,27723.319500000001,24299.97,19610.264999999999,17005.023499999999,12952.325500000001]
[71,null,{"$f":"C59*$K$4","v":29968.611499999999},26268.204500000003,21213.144,18394.815999999999,14010.550000000001,null,35257.19,30903.77,24956.640000000003,21640.960000000003,16483,null,29968.611500000003,26268.2045,21213.144,18394.816000000003,14010.55]
[72,null,{"$f":"C60*$K$4","v":32315.266},28326.539000000001,22888.553499999998,19846.327000000001,15116.977999999999,null,38017.96,33325.340000000004,26927.710000000003,23348.620000000003,17784.68,null,32315.266,28326.539000000001,22888.553500000002,19846.327000000001,15116.977999999999]
[73,null,{"$f":"C61*$K$4","v":34763.282999999996},30470.918999999998,24639.196499999998,21364.0615,16272.5105,null,40897.980000000003,35848.14,28987.29,25134.190000000002,19144.13,null,34763.283000000003,30470.918999999998,24639.196500000002,21364.0615,16272.5105]
[74,null,{"$f":"C62*$K$4","v":37312.662499999999},32704.047500000001,26461.018499999998,22944.865999999998,17476.697,null,43897.25,38475.35,31130.61,26993.960000000003,20560.82,null,37312.662499999999,32704.047499999997,26461.018499999998,22944.866000000002,17476.697]
[75,null,{"$f":"C63*$K$4","v":39961.602500000001},35026.825499999999,28356.7225,24588.7405,18728.636499999997,null,47013.65,41208.03,33360.85,28927.93,22033.690000000002,null,39961.602500000001,35026.825499999999,28356.722499999996,24588.7405,18728.636500000001]
[76,null,{"$f":"C64*$K$4","v":39961.602500000001},35026.825499999999,28356.7225,24588.7405,18728.636499999997,null,47013.65,41208.03,33360.85,28927.93,22033.690000000002,null,39961.602500000001,35026.825499999999,28356.722499999996,24588.7405,18728.636500000001]
[77,null,{"$f":"C65*$K$4","v":39961.602500000001},35026.825499999999,28356.7225,24588.7405,18728.636499999997,null,47013.65,41208.03,33360.85,28927.93,22033.690000000002,null,39961.602500000001,35026.825499999999,28356.722499999996,24588.7405,18728.636500000001]
[78,null,{"$f":"C66*$K$4","v":39961.602500000001},35026.825499999999,28356.7225,24588.7405,18728.636499999997,null,47013.65,41208.03,33360.85,28927.93,22033.690000000002,null,39961.602500000001,35026.825499999999,28356.722499999996,24588.7405,18728.636500000001]
[79,null,{"$f":"C67*$K$4","v":39961.602500000001},35026.825499999999,28356.7225,24588.7405,18728.636499999997,null,47013.65,41208.03,33360.85,28927.93,22033.690000000002,null,39961.602500000001,35026.825499999999,28356.722499999996,24588.7405,18728.636500000001]
[80,null,{"$f":"C68*$K$4","v":39961.602500000001},35026.825499999999,28356.7225,24588.7405,18728.636499999997,null,47013.65,41208.03,33360.85,28927.93,22033.690000000002,null,39961.602500000001,35026.825499999999,28356.722499999996,24588.7405,18728.636500000001]
[81,null,{"$f":"C69*$K$4","v":39961.602500000001},35026.825499999999,28356.7225,24588.7405,18728.636499999997,null,47013.65,41208.03,33360.85,28927.93,22033.690000000002,null,39961.602500000001,35026.825499999999,28356.722499999996,24588.7405,18728.636500000001]
[82,null,{"$f":"C70*$K$4","v":39961.602500000001},35026.825499999999,28356.7225,24588.7405,18728.636499999997,null,47013.65,{"$f":"J70*$K$4","v":41208.03},33360.85,28927.93,22033.690000000002,null,39961.602500000001,35026.825499999999,28356.722499999996,24588.7405,18728.636500000001]
[83,null,{"$f":"C71*$K$4","v":39961.602500000001},35026.825499999999,28356.7225,24588.7405,18728.636499999997,null,{"$f":"I71*$K$4","v":47013.65},41208.03,33360.85,28927.93,22033.690000000002,null,{"$f":"I520*0.85","v":39961.602500000001},{"$f":"J520*0.85","v":35026.825499999999},{"$f":"K520*0.85","v":28356.722499999996},{"$f":"L520*0.85","v":24588.7405},18728.636500000001]
[84,"o más",{"$f":"C72*$K$4","v":39961.602500000001},35026.825499999999,28356.7225,24588.7405,18728.636499999997,null,47013.65,41208.03,33360.85,28927.93,22033.690000000002,null,{"$f":"I521*0.85","v":39961.602500000001},35026.825499999999,28356.722499999996,24588.7405,18728.636500000001]
[1,"Hijo",{"$f":"C73*$K$4","v":1895.704},1661.444,1389.3420000000001,1205.0875000000001,918.11900000000003,null,2230.2400000000002,1954.64,1634.52,1417.75,1080.1400000000001,null,{"$f":"I522*0.85","v":1895.7040000000002},1661.444,1389.3419999999999,1205.0874999999999,918.11900000000003]
[2,"Hijos",{"$f":"C74*$K$4","v":3220.6244999999999},2823.7340000000004,2361.5210000000002,2048.4234999999999,1560.5320000000002,null,3788.9700000000003,3322.04,2778.26,2409.9100000000003,1835.92,null,{"$f":"I523*0.85","v":3220.6245000000004},{"$f":"J523*0.85","v":2823.7339999999999},{"$f":"K523*0.85","v":2361.5210000000002},{"$f":"L523*0.85","v":2048.4235000000003},{"$f":"M523*0.85","v":1560.5319999999999}]
[3,"Hijos o más",{"$f":"C75*$K$4","v":4547.3469999999998},3985.5735,3333.7000000000003,2890.8584999999998,2202.4944999999998,null,5349.8200000000006,4688.91,3922,3401.01,2591.17,null,4547.3470000000007,3985.5735,3333.7,2890.8585000000003,2202.4944999999998]
[]
["BUPA GLOBAL PREMIER"]
["TARIFAS SEMESTRALES"]
["EDAD"]
[" "," ",2000,3500,5000]
[18,null,{"$f":"C155*$K$4","v":2947.1710000000003},{"$f":"D155*$K$4","v":2673.2669999999998},2011.0320000000002,1469.0805,0,null,{"$f":"I155*$K$4","v":3467.26},{"$f":"J155*$K$4","v":3145.02},2365.92,1728.3300000000002,null,{"$f":"I530*0.85","v":2947.1710000000003},{"$f":"J530*0.85","v":2673.2669999999998},2011.0319999999999,1469.0805]
[19,null,{"$f":"C156*$K$4","v":2947.1710000000003},2673.2669999999998,2011.0320000000002,1469.0805,0,null,{"$f":"I156*$K$4","v":3467.26},3145.02,2365.92,1728.3300000000002,null,{"$f":"I531*0.85","v":2947.1710000000003},{"$f":"J531*0.85","v":2673.2669999999998},{"$f":"K531*0.85","v":2011.0319999999999},{"$f":"L531*0.85","v":1469.0805}]
[20,null,{"$f":"C157*$K$4","v":2947.1710000000003},2673.2669999999998,2011.0320000000002,1469.0805,0,null,3467.26,3145.02,2365.92,1728.3300000000002,null,2947.1710000000003,2673.2669999999998,2011.0319999999999,1469.0805]
[21,null,{"$f":"C158*$K$4","v":2947.1710000000003},2673.2669999999998,2011.0320000000002,1469.0805,0,null,3467.26,3145.02,2365.92,1728.3300000000002,null,2947.1710000000003,2673.2669999999998,2011.0319999999999,1469.0805]
[22,null,{"$f":"C159*$K$4","v":2947.1710000000003},2673.2669999999998,2011.0320000000002,1469.0805,0,null,3467.26,3145.02,2365.92,1728.3300000000002,null,2947.1710000000003,2673.2669999999998,2011.0319999999999,1469.0805]
[23,null,{"$f":"C160*$K$4","v":2947.1710000000003},2673.2669999999998,2011.0320000000002,1469.0805,0,null,3467.26,3145.02,2365.92,1728.3300000000002,null,2947.1710000000003,2673.2669999999998,2011.0319999999999,1469.0805]
[24,null,{"$f":"C161*$K$4","v":2947.1710000000003},2673.2669999999998,2011.0320000000002,1469.0805,0,null,3467.26,3145.02,2365.92,1728.3300000000002,null,2947.1710000000003,2673.2669999999998,2011.0319999999999,1469.0805]
[25,null,{"$f":"C162*$K$4","v":3149.8960000000002},2856.6205,2126.36,1553.7745000000002,0,null,3705.76,3360.73,2501.6,1827.97,null,3149.8960000000002,2856.6205,2126.3599999999997,1553.7745]
[26,null,{"$f":"C163*$K$4","v":3149.8960000000002},2856.6205,2126.36,1553.7745000000002,0,null,3705.76,3360.73,2501.6,1827.97,null,3149.8960000000002,2856.6205,2126.3599999999997,1553.7745]
[27,null,{"$f":"C164*$K$4","v":3149.8960000000002},2856.6205,2126.36,1553.7745000000002,0,null,3705.76,3360.73,2501.6,1827.97,null,3149.8960000000002,2856.6205,2126.3599999999997,1553.7745]
[28,null,{"$f":"C165*$K$4","v":3149.8960000000002},2856.6205,2126.36,1553.7745000000002,0,null,3705.76,3360.73,2501.6,1827.97,null,3149.8960000000002,2856.6205,2126.3599999999997,1553.7745]
[29,null,{"$f":"C166*$K$4","v":3149.8960000000002},2856.6205,2126.36,1553.7745000000002,0,null,3705.76,3360.73,2501.6,1827.97,null,3149.8960000000002,2856.6205,2126.3599999999997,1553.7745]
[30,null,{"$f":"C167*$K$4","v":3502.1869999999999},3178.2775000000001,2334.491,1705.1425000000002,0,null,4120.22,3739.15,2746.46,2006.0500000000002,null,3502.1869999999999,3178.2775000000001,2334.491,1705.1425000000002]
[31,null,{"$f":"C168*$K$4","v":3502.1869999999999},3178.2775000000001,2334.491,1705.1425000000002,0,null,4120.22,3739.15,2746.46,2006.0500000000002,null,3502.1869999999999,3178.2775000000001,2334.491,1705.1425000000002]
[32,null,{"$f":"C169*$K$4","v":3502.1869999999999},3178.2775000000001,2334.491,1705.1425000000002,0,null,4120.22,3739.15,2746.46,2006.0500000000002,null,3502.1869999999999,3178.2775000000001,2334.491,1705.1425000000002]
[33,null,{"$f":"C170*$K$4","v":3502.1869999999999},3178.2775000000001,2334.491,1705.1425000000002,0,null,4120.22,3739.15,2746.46,2006.0500000000002,null,3502.1869999999999,3178.2775000000001,2334.491,1705.1425000000002]
[34,null,{"$f":"C171*$K$4","v":3502.1869999999999},3178.2775000000001,2334.491,1705.1425000000002,0,null,4120.22,3739.15,2746.46,2006.0500000000002,null,3502.1869999999999,3178.2775000000001,2334.491,1705.1425000000002]
[35,null,{"$f":"C172*$K$4","v":3908.0875000000001},3547.2370000000001,2580.4640000000004,1884.8920000000001,0,null,4597.75,4173.22,3035.84,2217.52,null,3908.0875000000001,3547.2370000000001,2580.4639999999999,1884.8919999999998]
[36,null,{"$f":"C173*$K$4","v":3908.0875000000001},3547.2370000000001,2580.4640000000004,1884.8920000000001,0,null,4597.75,4173.22,3035.84,2217.52,null,3908.0875000000001,3547.2370000000001,2580.4639999999999,1884.8919999999998]
[37,null,{"$f":"C174*$K$4","v":3908.0875000000001},3547.2370000000001,2580.4640000000004,1884.8920000000001,0,null,4597.75,4173.22,3035.84,2217.52,null,3908.0875000000001,3547.2370000000001,2580.4639999999999,1884.8919999999998]
[38,null,{"$f":"C175*$K$4","v":3908.0875000000001},3547.2370000000001,2580.4640000000004,1884.8920000000001,0,null,4597.75,4173.22,3035.84,2217.52,null,3908.0875000000001,3547.2370000000001,2580.4639999999999,1884.8919999999998]
[39,null,{"$f":"C176*$K$4","v":3908.0875000000001},3547.2370000000001,2580.4640000000004,1884.8920000000001,0,null,4597.75,4173.22,3035.84,2217.52,null,3908.0875000000001,3547.2370000000001,2580.4639999999999,1884.8919999999998]
[40,null,{"$f":"C177*$K$4","v":4523.4705000000004},4105.4065000000001,2962.9385000000002,2165.5535,0,null,5321.7300000000005,4829.8900000000003,3485.8100000000004,2547.71,null,4523.4705000000004,4105.4065000000001,2962.9385000000002,2165.5535]
[41,null,{"$f":"C178*$K$4","v":4523.4705000000004},4105.4065000000001,2962.9385000000002,2165.5535,0,null,5321.7300000000005,4829.8900000000003,3485.8100000000004,2547.71,null,4523.4705000000004,4105.4065000000001,2962.9385000000002,2165.5535]
[42,null,{"$f":"C179*$K$4","v":4523.4705000000004},4105.4065000000001,2962.9385000000002,2165.5535,0,null,5321.7300000000005,4829.8900000000003,3485.8100000000004,2547.71,null,4523.4705000000004,4105.4065000000001,2962.9385000000002,2165.5535]
[43,null,{"$f":"C180*$K$4","v":4523.4705000000004},4105.4065000000001,2962.9385000000002,2165.5535,0,null,5321.7300000000005,4829.8900000000003,3485.8100000000004,2547.71,null,4523.4705000000004,4105.4065000000001,2962.9385000000002,2165.5535]
[44,null,{"$f":"C181*$K$4","v":4523.4705000000004},4105.4065000000001,2962.9385000000002,2165.5535,0,null,5321.7300000000005,4829.8900000000003,3485.8100000000004,2547.71,null,4523.4705000000004,4105.4065000000001,2962.9385000000002,2165.5535]
[45,null,{"$f":"C182*$K$4","v":5061.8180000000002},4594.1989999999996,3297.6600000000003,2408.8235,0,null,5955.08,5404.9400000000005,3879.6000000000004,2833.9100000000003,null,5061.8180000000002,4594.1990000000005,3297.6600000000003,2408.8235000000004]
[46,null,{"$f":"C183*$K$4","v":5061.8180000000002},4594.1989999999996,3297.6600000000003,2408.8235,0,null,5955.08,5404.9400000000005,3879.6000000000004,2833.9100000000003,null,5061.8180000000002,4594.1990000000005,3297.6600000000003,2408.8235000000004]
[47,null,{"$f":"C184*$K$4","v":5061.8180000000002},4594.1989999999996,3297.6600000000003,2408.8235,0,null,5955.08,5404.9400000000005,3879.6000000000004,2833.9100000000003,null,5061.8180000000002,4594.1990000000005,3297.6600000000003,2408.8235000000004]
[48,null,{"$f":"C185*$K$4","v":5061.8180000000002},4594.1989999999996,3297.6600000000003,2408.8235,0,null,5955.08,5404.9400000000005,3879.6000000000004,2833.9100000000003,null,5061.8180000000002,4594.1990000000005,3297.6600000000003,2408.8235000000004]
[49,null,{"$f":"C186*$K$4","v":5061.8180000000002},4594.1989999999996,3297.6600000000003,2408.8235,0,null,5955.08,5404.9400000000005,3879.6000000000004,2833.9100000000003,null,5061.8180000000002,4594.1990000000005,3297.6600000000003,2408.8235000000004]
[50,null,{"$f":"C187*$K$4","v":5852.4455000000007},5310.4939999999997,3797.2644999999998,2775.08,0,null,6885.2300000000005,6247.64,4467.37,3264.8,null,5852.4454999999998,5310.4939999999997,3797.2644999999998,2775.08]
[51,null,{"$f":"C188*$K$4","v":5852.4455000000007},5310.4939999999997,3797.2644999999998,2775.08,0,null,6885.2300000000005,6247.64,4467.37,3264.8,null,5852.4454999999998,5310.4939999999997,3797.2644999999998,2775.08]
[52,null,{"$f":"C189*$K$4","v":5852.4455000000007},5310.4939999999997,3797.2644999999998,2775.08,0,null,6885.2300000000005,6247.64,4467.37,3264.8,null,5852.4454999999998,5310.4939999999997,3797.2644999999998,2775.08]
[53,null,{"$f":"C190*$K$4","v":5852.4455000000007},5310.4939999999997,3797.2644999999998,2775.08,0,null,6885.2300000000005,6247.64,4467.37,3264.8,null,5852.4454999999998,5310.4939999999997,3797.2644999999998,2775.08]
[54,null,{"$f":"C191*$K$4","v":5852.4455000000007},5310.4939999999997,3797.2644999999998,2775.08,0,null,6885.2300000000005,6247.64,4467.37,3264.8,null,5852.4454999999998,5310.4939999999997,3797.2644999999998,2775.08]
[55,null,{"$f":"C192*$K$4","v":6541.26},5937.1395000000002,4233.799,3094.0340000000001,0,null,7695.6,6984.8700000000008,4980.9400000000005,3640.04,null,6541.26,5937.1395000000002,4233.799,3094.0340000000001]
[56,null,{"$f":"C193*$K$4","v":6541.26},5937.1395000000002,4233.799,3094.0340000000001,0,null,7695.6,6984.8700000000008,4980.9400000000005,3640.04,null,6541.26,5937.1395000000002,4233.799,3094.0340000000001]
[57,null,{"$f":"C194*$K$4","v":6541.26},5937.1395000000002,4233.799,3094.0340000000001,0,null,7695.6,6984.8700000000008,4980.9400000000005,3640.04,null,6541.26,5937.1395000000002,4233.799,3094.0340000000001]
[58,null,{"$f":"C195*$K$4","v":6541.26},5937.1395000000002,4233.799,3094.0340000000001,0,null,7695.6,6984.8700000000008,4980.9400000000005,3640.04,null,6541.26,5937.1395000000002,4233.799,3094.0340000000001]
[59,null,{"$f":"C196*$K$4","v":6541.26},5937.1395000000002,4233.799,3094.0340000000001,0,null,7695.6,6984.8700000000008,4980.9400000000005,3640.04,null,6541.26,5937.1395000000002,4233.799,3094.0340000000001]
[60,null,{"$f":"C197*$K$4","v":7001.2205000000004},6352.5005000000001,4525.7230000000009,3306.2195000000002,0,null,8236.73,7473.5300000000007,5324.38,3889.67,null,7001.2204999999994,6352.5005000000001,4525.723,3306.2195000000002]
[61,null,{"$f":"C198*$K$4","v":7922.4930000000004},7189.0789999999997,5115.4275000000007,3737.7984999999999,0,null,9320.58,8457.74,6018.1500000000005,4397.41,null,7922.4929999999995,7189.0789999999997,5115.4275000000007,3737.7984999999999]
[62,null,{"$f":"C199*$K$4","v":8800.9679999999989},7987.8155000000006,5681.7060000000001,4151.3575000000001,0,null,10354.08,9397.43,6684.3600000000006,4883.95,null,8800.9679999999989,7987.8154999999997,5681.7060000000001,4151.3575000000001]
[63,null,{"$f":"C200*$K$4","v":9746.567500000001},8845.1170000000002,6291.2325000000001,4596.0009999999993,0,null,11466.550000000001,10406.02,7401.4500000000007,5407.06,null,9746.567500000001,8845.1170000000002,6291.2325000000001,4596.0010000000002]
[64,null,{"$f":"C201*$K$4","v":10757.94},9763.6864999999998,6946.71,5074.8825000000006,0,null,12656.400000000001,11486.69,8172.6,5970.4500000000007,null,10757.94,9763.6864999999998,6946.71,5074.8825000000006]
[65,null,{"$f":"C202*$K$4","v":11835.986500000001},10741.722,7647.2375000000002,5587.1009999999997,0,null,13924.69,12637.320000000002,8996.75,6573.06,null,11835.986500000001,10741.722000000002,7647.2375000000002,5587.1010000000006]
[66,null,{"$f":"C203*$K$4","v":12980.707},11778.772999999999,8393.2655000000013,6131.7555000000002,0,null,15271.42,13857.380000000001,9874.43,7213.83,null,12980.707,11778.773000000001,8393.2654999999995,6131.7555000000002]
[67,null,{"$f":"C204*$K$4","v":14191.200500000001},12878.443500000001,9184.7939999999999,6711.0985000000001,0,null,16695.530000000002,15151.11,10805.640000000001,7895.4100000000008,null,14191.200500000001,12878.443499999999,9184.7940000000017,6711.0985000000001]
[68,null,{"$f":"C205*$K$4","v":15467.0165},14036.679,10021.372500000001,7321.5259999999998,0,null,18196.490000000002,16513.740000000002,11789.85,8613.5600000000013,null,15467.016500000002,14036.679,10021.372499999999,7321.5260000000007]
[69,null,{"$f":"C206*$K$4","v":16811.308500000003},15257.083500000001,10903.451500000001,7966.1914999999999,0,null,19778.010000000002,17949.510000000002,12827.59,9371.99,null,16811.308500000003,15257.083500000001,10903.451499999999,7966.1914999999999]
[70,null,{"$f":"C207*$K$4","v":18220.922999999999},16536.503500000003,11829.6795,8642.8425000000007,0,null,21436.38,19454.710000000003,13917.27,10168.050000000001,null,18220.922999999999,16536.503500000003,11829.6795,8642.8425000000007]
[71,null,{"$f":"C208*$K$4","v":19697.211499999998},17874.938999999998,12803.210000000001,9353.7314999999999,0,null,23173.190000000002,21029.34,15062.6,11004.390000000001,null,19697.211500000001,17874.938999999998,12803.21,9353.7315000000017]
[72,null,{"$f":"C209*$K$4","v":21238.822500000002},19274.642500000002,13820.439,10097.507,0,null,24986.850000000002,22676.050000000003,16259.34,11879.42,null,21238.822500000002,19274.642500000002,13820.439,10097.507]
[73,null,{"$f":"C210*$K$4","v":22847.107500000002},20734.713,14883.168500000002,10873.268,0,null,26878.95,24393.780000000002,17509.61,12792.08,null,22847.107499999998,20734.713000000003,14883.1685,10873.268]
[74,null,{"$f":"C211*$K$4","v":24522.517000000003},22254.249500000002,15992.75,11683.717500000001,0,null,28850.02,26181.47,18815,13745.550000000001,null,24522.517,22254.249500000002,15992.75,11683.717500000001]
[75,null,{"$f":"C212*$K$4","v":26263.249},23835.054,17146.480500000001,12527.053500000002,0,null,30897.940000000002,28041.24,20172.330000000002,14737.710000000001,null,26263.249,23835.054,17146.480500000001,12527.0535]
[76,null,{"$f":"C213*$K$4","v":26263.249},23835.054,17146.480500000001,12527.053500000002,0,null,30897.940000000002,28041.24,20172.330000000002,14737.710000000001,null,26263.249,23835.054,17146.480500000001,12527.0535]
[77,null,{"$f":"C214*$K$4","v":26263.249},23835.054,17146.480500000001,12527.053500000002,0,null,30897.940000000002,28041.24,20172.330000000002,14737.710000000001,null,26263.249,23835.054,17146.480500000001,12527.0535]
[78,null,{"$f":"C215*$K$4","v":26263.249},23835.054,17146.480500000001,12527.053500000002,0,null,30897.940000000002,28041.24,20172.330000000002,14737.710000000001,null,26263.249,23835.054,17146.480500000001,12527.0535]
[79,null,{"$f":"C216*$K$4","v":26263.249},23835.054,17146.480500000001,12527.053500000002,0,null,30897.940000000002,28041.24,20172.330000000002,14737.710000000001,null,26263.249,23835.054,17146.480500000001,12527.0535]
[80,null,{"$f":"C217*$K$4","v":26263.249},23835.054,17146.480500000001,12527.053500000002,0,null,30897.940000000002,28041.24,20172.330000000002,14737.710000000001,null,26263.249,23835.054,17146.480500000001,12527.0535]
[81,null,{"$f":"C218*$K$4","v":26263.249},23835.054,17146.480500000001,12527.053500000002,0,null,30897.940000000002,28041.24,20172.330000000002,14737.710000000001,null,26263.249,23835.054,17146.480500000001,12527.0535]
[82,null,{"$f":"C219*$K$4","v":26263.249},23835.054,17146.480500000001,12527.053500000002,0,null,30897.940000000002,28041.24,20172.330000000002,{"$f":"L219*$K$4","v":14737.710000000001},null,26263.249,23835.054,17146.480500000001,12527.0535]
[83,null,{"$f":"C220*$K$4","v":26263.249},23835.054,17146.480500000001,12527.053500000002,0,null,{"$f":"I220*$K$4","v":30897.940000000002},28041.24,20172.330000000002,14737.710000000001,null,{"$f":"I595*0.85","v":26263.249},{"$f":"J595*0.85","v":23835.054},{"$f":"K595*0.85","v":17146.480500000001},{"$f":"L595*0.85","v":12527.0535}]
[84,"o más",{"$f":"C221*$K$4","v":26263.249},23835.054,17146.480500000001,12527.053500000002,0,null,30897.940000000002,28041.24,20172.330000000002,14737.710000000001,null,{"$f":"I596*0.85","v":26263.249},{"$f":"J596*0.85","v":23835.054},{"$f":"K596*0.85","v":17146.480500000001},{"$f":"L596*0.85","v":12527.0535}]
[1,"Hijo",{"$f":"C222*$K$4","v":1245.6325000000002},1129.8539999999998,861.35600000000011,628.89800000000002,0,null,1465.45,1329.24,1013.36,739.88,null,{"$f":"I597*0.85","v":1245.6324999999999},1129.854,861.35599999999999,628.89800000000002]
[2,"Hijos",{"$f":"C223*$K$4","v":2117.35},1921.8330000000001,1462.3230000000001,1069.0364999999999,0,null,2491,2260.98,1720.38,1257.69,null,{"$f":"I598*0.85","v":2117.35},{"$f":"J598*0.85","v":1921.8329999999999},{"$f":"K598*0.85","v":1462.3230000000001},{"$f":"L598*0.85","v":1069.0364999999999}]
[3,"Hijos o más",{"$f":"C224*$K$4","v":2988.1665000000003},2712.01,2064.6415000000002,1508.2739999999999,0,null,3515.4900000000002,3190.6000000000004,2428.9900000000002,1774.44,null,2988.1665000000003,2712.01,2064.6415000000002,1508.2740000000001]
[]
["BUPA GLOBAL SELECT"]
["TARIFAS SEMESTRALES"]
["EDAD"]
[" "," ",2000,3500,5000]
[18,null,{"$f":"C305*$K$4","v":1867.7730000000001},{"$f":"D305*$K$4","v":1791.6385},1353.3020000000001,988.39699999999993,0,null,{"$f":"I305*$K$4","v":2197.38},{"$f":"J305*$K$4","v":2107.81},1592.1200000000001,1162.8200000000002,null,{"$f":"I605*0.85","v":1867.7730000000001},{"$f":"J605*0.85","v":1791.6384999999998},1353.3020000000001,988.39700000000016]
[19,null,{"$f":"C306*$K$4","v":1867.7730000000001},1791.6385,1353.3020000000001,988.39699999999993,0,null,{"$f":"I306*$K$4","v":2197.38},2107.81,1592.1200000000001,1162.8200000000002,null,{"$f":"I606*0.85","v":1867.7730000000001},{"$f":"J606*0.85","v":1791.6384999999998},{"$f":"K606*0.85","v":1353.3020000000001},{"$f":"L606*0.85","v":988.39700000000016}]
[20,null,{"$f":"C307*$K$4","v":1867.7730000000001},1791.6385,1353.3020000000001,988.39699999999993,0,null,2197.38,2107.81,1592.1200000000001,1162.8200000000002,null,1867.7730000000001,1791.6384999999998,1353.3020000000001,988.39700000000016]
[21,null,{"$f":"C308*$K$4","v":1867.7730000000001},1791.6385,1353.3020000000001,988.39699999999993,0,null,2197.38,2107.81,1592.1200000000001,1162.8200000000002,null,1867.7730000000001,1791.6384999999998,1353.3020000000001,988.39700000000016]
[22,null,{"$f":"C309*$K$4","v":1867.7730000000001},1791.6385,1353.3020000000001,988.39699999999993,0,null,2197.38,2107.81,1592.1200000000001,1162.8200000000002,null,1867.7730000000001,1791.6384999999998,1353.3020000000001,988.39700000000016]
[23,null,{"$f":"C310*$K$4","v":1867.7730000000001},1791.6385,1353.3020000000001,988.39699999999993,0,null,2197.38,2107.81,1592.1200000000001,1162.8200000000002,null,1867.7730000000001,1791.6384999999998,1353.3020000000001,988.39700000000016]
[24,null,{"$f":"C311*$K$4","v":1867.7730000000001},1791.6385,1353.3020000000001,988.39699999999993,0,null,2197.38,2107.81,1592.1200000000001,1162.8200000000002,null,1867.7730000000001,1791.6384999999998,1353.3020000000001,988.39700000000016]
[25,null,{"$f":"C312*$K$4","v":2015.0864999999999},1933.546,1444.7535,1055.5215000000001,0,null,2370.69,2274.7600000000002,1699.71,1241.79,null,2015.0864999999999,1933.546,1444.7535,1055.5214999999998]
[26,null,{"$f":"C313*$K$4","v":2015.0864999999999},1933.546,1444.7535,1055.5215000000001,0,null,2370.69,2274.7600000000002,1699.71,1241.79,null,2015.0864999999999,1933.546,1444.7535,1055.5214999999998]
[27,null,{"$f":"C314*$K$4","v":2015.0864999999999},1933.546,1444.7535,1055.5215000000001,0,null,2370.69,2274.7600000000002,1699.71,1241.79,null,2015.0864999999999,1933.546,1444.7535,1055.5214999999998]
[28,null,{"$f":"C315*$K$4","v":2015.0864999999999},1933.546,1444.7535,1055.5215000000001,0,null,2370.69,2274.7600000000002,1699.71,1241.79,null,2015.0864999999999,1933.546,1444.7535,1055.5214999999998]
[29,null,{"$f":"C316*$K$4","v":2015.0864999999999},1933.546,1444.7535,1055.5215000000001,0,null,2370.69,2274.7600000000002,1699.71,1241.79,null,2015.0864999999999,1933.546,1444.7535,1055.5214999999998]
[30,null,{"$f":"C317*$K$4","v":2273.223},2180.42,1606.4829999999999,1172.6514999999999,0,null,2674.38,2565.2000000000003,1889.98,1379.5900000000001,null,2273.223,2180.42,1606.4829999999999,1172.6515000000002]
[31,null,{"$f":"C318*$K$4","v":2273.223},2180.42,1606.4829999999999,1172.6514999999999,0,null,2674.38,2565.2000000000003,1889.98,1379.5900000000001,null,2273.223,2180.42,1606.4829999999999,1172.6515000000002]
[32,null,{"$f":"C319*$K$4","v":2273.223},2180.42,1606.4829999999999,1172.6514999999999,0,null,2674.38,2565.2000000000003,1889.98,1379.5900000000001,null,2273.223,2180.42,1606.4829999999999,1172.6515000000002]
[33,null,{"$f":"C320*$K$4","v":2273.223},2180.42,1606.4829999999999,1172.6514999999999,0,null,2674.38,2565.2000000000003,1889.98,1379.5900000000001,null,2273.223,2180.42,1606.4829999999999,1172.6515000000002]
[34,null,{"$f":"C321*$K$4","v":2273.223},2180.42,1606.4829999999999,1172.6514999999999,0,null,2674.38,2565.2000000000003,1889.98,1379.5900000000001,null,2273.223,2180.42,1606.4829999999999,1172.6515000000002]
[35,null,{"$f":"C322*$K$4","v":2572.355},2467.8390000000004,1798.396,1313.6580000000001,0,null,3026.3,2903.34,2115.7600000000002,1545.48,null,2572.355,2467.8389999999999,1798.3960000000002,1313.6579999999999]
[36,null,{"$f":"C323*$K$4","v":2572.355},2467.8390000000004,1798.396,1313.6580000000001,0,null,3026.3,2903.34,2115.7600000000002,1545.48,null,2572.355,2467.8389999999999,1798.3960000000002,1313.6579999999999]
[37,null,{"$f":"C324*$K$4","v":2572.355},2467.8390000000004,1798.396,1313.6580000000001,0,null,3026.3,2903.34,2115.7600000000002,1545.48,null,2572.355,2467.8389999999999,1798.3960000000002,1313.6579999999999]
[38,null,{"$f":"C325*$K$4","v":2572.355},2467.8390000000004,1798.396,1313.6580000000001,0,null,3026.3,2903.34,2115.7600000000002,1545.48,null,2572.355,2467.8389999999999,1798.3960000000002,1313.6579999999999]
[39,null,{"$f":"C326*$K$4","v":2572.355},2467.8390000000004,1798.396,1313.6580000000001,0,null,3026.3,2903.34,2115.7600000000002,1545.48,null,2572.355,2467.8389999999999,1798.3960000000002,1313.6579999999999]
[40,null,{"$f":"C327*$K$4","v":3014.7460000000001},2892.6605,2089.8695000000002,1526.2939999999999,0,null,3546.76,3403.13,2458.67,1795.64,null,3014.7460000000001,2892.6605,2089.8694999999998,1526.2940000000001]
[41,null,{"$f":"C328*$K$4","v":3014.7460000000001},2892.6605,2089.8695000000002,1526.2939999999999,0,null,3546.76,3403.13,2458.67,1795.64,null,3014.7460000000001,2892.6605,2089.8694999999998,1526.2940000000001]
[42,null,{"$f":"C329*$K$4","v":3014.7460000000001},2892.6605,2089.8695000000002,1526.2939999999999,0,null,3546.76,3403.13,2458.67,1795.64,null,3014.7460000000001,2892.6605,2089.8694999999998,1526.2940000000001]
[43,null,{"$f":"C330*$K$4","v":3014.7460000000001},2892.6605,2089.8695000000002,1526.2939999999999,0,null,3546.76,3403.13,2458.67,1795.64,null,3014.7460000000001,2892.6605,2089.8694999999998,1526.2940000000001]
[44,null,{"$f":"C331*$K$4","v":3014.7460000000001},2892.6605,2089.8695000000002,1526.2939999999999,0,null,3546.76,3403.13,2458.67,1795.64,null,3014.7460000000001,2892.6605,2089.8694999999998,1526.2940000000001]
[45,null,{"$f":"C332*$K$4","v":3412.087},3273.3330000000001,2352.511,1718.6575,0,null,4014.2200000000003,3850.98,2767.6600000000003,2021.95,null,3412.087,3273.3330000000001,2352.5110000000004,1718.6575]
[46,null,{"$f":"C333*$K$4","v":3412.087},3273.3330000000001,2352.511,1718.6575,0,null,4014.2200000000003,3850.98,2767.6600000000003,2021.95,null,3412.087,3273.3330000000001,2352.5110000000004,1718.6575]
[47,null,{"$f":"C334*$K$4","v":3412.087},3273.3330000000001,2352.511,1718.6575,0,null,4014.2200000000003,3850.98,2767.6600000000003,2021.95,null,3412.087,3273.3330000000001,2352.5110000000004,1718.6575]
[48,null,{"$f":"C335*$K$4","v":3412.087},3273.3330000000001,2352.511,1718.6575,0,null,4014.2200000000003,3850.98,2767.6600000000003,2021.95,null,3412.087,3273.3330000000001,2352.5110000000004,1718.6575]
[49,null,{"$f":"C336*$K$4","v":3412.087},3273.3330000000001,2352.511,1718.6575,0,null,4014.2200000000003,3850.98,2767.6600000000003,2021.95,null,3412.087,3273.3330000000001,2352.5110000000004,1718.6575]
[50,null,{"$f":"C337*$K$4","v":3984.2220000000002},3822.0419999999999,2735.8865000000001,1998.4180000000001,0,null,4687.3200000000006,4496.5200000000004,3218.69,2351.08,null,3984.2220000000002,3822.0420000000004,2735.8865000000001,1998.4179999999999]
[51,null,{"$f":"C338*$K$4","v":3984.2220000000002},3822.0419999999999,2735.8865000000001,1998.4180000000001,0,null,4687.3200000000006,4496.5200000000004,3218.69,2351.08,null,3984.2220000000002,3822.0420000000004,2735.8865000000001,1998.4179999999999]
[52,null,{"$f":"C339*$K$4","v":3984.2220000000002},3822.0419999999999,2735.8865000000001,1998.4180000000001,0,null,4687.3200000000006,4496.5200000000004,3218.69,2351.08,null,3984.2220000000002,3822.0420000000004,2735.8865000000001,1998.4179999999999]
[53,null,{"$f":"C340*$K$4","v":3984.2220000000002},3822.0419999999999,2735.8865000000001,1998.4180000000001,0,null,4687.3200000000006,4496.5200000000004,3218.69,2351.08,null,3984.2220000000002,3822.0420000000004,2735.8865000000001,1998.4179999999999]
[54,null,{"$f":"C341*$K$4","v":3984.2220000000002},3822.0419999999999,2735.8865000000001,1998.4180000000001,0,null,4687.3200000000006,4496.5200000000004,3218.69,2351.08,null,3984.2220000000002,3822.0420000000004,2735.8865000000001,1998.4179999999999]
[55,null,{"$f":"C342*$K$4","v":4494.1880000000001},4311.7354999999998,3078.2665000000002,2248.4454999999998,0,null,5287.2800000000007,5072.63,3621.4900000000002,2645.23,null,4494.1880000000001,4311.7354999999998,3078.2665000000002,2248.4454999999998]
[56,null,{"$f":"C343*$K$4","v":4494.1880000000001},4311.7354999999998,3078.2665000000002,2248.4454999999998,0,null,5287.2800000000007,5072.63,3621.4900000000002,2645.23,null,4494.1880000000001,4311.7354999999998,3078.2665000000002,2248.4454999999998]
[57,null,{"$f":"C344*$K$4","v":4494.1880000000001},4311.7354999999998,3078.2665000000002,2248.4454999999998,0,null,5287.2800000000007,5072.63,3621.4900000000002,2645.23,null,4494.1880000000001,4311.7354999999998,3078.2665000000002,2248.4454999999998]
[58,null,{"$f":"C345*$K$4","v":4494.1880000000001},4311.7354999999998,3078.2665000000002,2248.4454999999998,0,null,5287.2800000000007,5072.63,3621.4900000000002,2645.23,null,4494.1880000000001,4311.7354999999998,3078.2665000000002,2248.4454999999998]
[59,null,{"$f":"C346*$K$4","v":4494.1880000000001},4311.7354999999998,3078.2665000000002,2248.4454999999998,0,null,5287.2800000000007,5072.63,3621.4900000000002,2645.23,null,4494.1880000000001,4311.7354999999998,3078.2665000000002,2248.4454999999998]
[60,null,{"$f":"C347*$K$4","v":4832.9639999999999},4636.9965000000002,3308.4719999999998,2415.1304999999998,0,null,5685.84,5455.29,3892.32,2841.33,null,4832.9639999999999,4636.9965000000002,3308.4720000000002,2415.1304999999998]
[61,null,{"$f":"C348*$K$4","v":5510.0655000000006},5286.1670000000004,3767.5315000000005,2751.6540000000005,0,null,6482.43,6219.02,4432.3900000000003,3237.2400000000002,null,5510.0654999999997,5286.1670000000004,3767.5315000000001,2751.654]
[62,null,{"$f":"C349*$K$4","v":6160.1369999999997},5910.56,4211.7245000000003,3074.6625000000004,0,null,7247.22,6953.6,4954.97,3617.25,null,6160.1369999999997,5910.56,4211.7245000000003,3074.6624999999999]
[63,null,{"$f":"C350*$K$4","v":6860.6644999999999},6582.7060000000001,4690.6059999999998,3425.1515000000004,0,null,8071.3700000000008,7744.3600000000006,5518.3600000000006,4029.59,null,6860.6645000000008,6582.7060000000001,4690.6060000000007,3425.1514999999999]
[64,null,{"$f":"C351*$K$4","v":7609.3955000000005},7302.1545000000006,5205.0770000000002,3800.8685,0,null,8952.23,8590.77,6123.62,4471.6100000000006,null,7609.3954999999996,7302.1545000000006,5205.0770000000002,3800.8685000000005]
[65,null,{"$f":"C352*$K$4","v":8409.4835000000003},8069.3559999999998,5756.4889999999996,4204.0659999999998,0,null,9893.51,9493.36,6772.34,4945.96,null,8409.4835000000003,8069.3560000000007,5756.4889999999996,4204.0659999999998]
[66,null,{"$f":"C353*$K$4","v":9258.2255000000005},8883.4094999999998,6342.5895,4631.5905000000002,0,null,10892.03,10451.07,7461.8700000000008,5448.93,null,9258.2255000000005,8883.4094999999998,6342.589500000001,4631.5905000000002]
[67,null,{"$f":"C354*$K$4","v":10156.973},9744.7654999999995,6964.2795000000006,5086.1450000000004,0,null,11949.380000000001,11464.43,8193.27,5983.7000000000007,null,10156.973,9744.7654999999995,6964.2795000000006,5086.1450000000004]
[68,null,{"$f":"C355*$K$4","v":11105.2755},10654.325000000001,7621.1084999999994,5565.4769999999999,0,null,13065.03,12534.5,8966.01,6547.62,null,11105.2755,10654.324999999999,7621.1085000000003,5565.4769999999999]
[69,null,{"$f":"C356*$K$4","v":12101.331},11611.187,8315.3289999999997,6072.2894999999999,0,null,14236.86,13660.220000000001,9782.74,7143.8700000000008,null,12101.331,11611.187,8315.3289999999997,6072.2895000000008]
[70,null,{"$f":"C357*$K$4","v":13148.7435},12615.802,9044.2379999999994,6603.8795,0,null,15469.11,14842.12,10640.28,7769.27,null,13148.7435,12615.802,9044.2380000000012,6603.8795]
[71,null,{"$f":"C358*$K$4","v":14244.359499999999},13666.818500000001,9810.5385000000006,7163.4005000000006,0,null,16758.07,16078.61,11541.810000000001,8427.5300000000007,null,14244.359499999999,13666.818499999999,9810.5385000000006,7163.4005000000006]
[72,null,{"$f":"C359*$K$4","v":15390.882},14766.9395,10609.7255,7748.1495000000004,0,null,18106.920000000002,17372.870000000003,12482.03,9115.4700000000012,null,15390.882000000001,14766.939500000002,10609.7255,7748.1495000000004]
[73,null,{"$f":"C360*$K$4","v":16585.608},15913.011500000001,11446.304,8358.1265000000003,0,null,19512.48,18721.190000000002,13466.24,9833.09,null,16585.608,15913.011500000002,11446.304,8358.1265000000003]
[74,null,{"$f":"C361*$K$4","v":17829.888999999999},17108.187999999998,12317.120499999999,8994.6829999999991,0,null,20976.34,20127.280000000002,14490.730000000001,10581.980000000001,null,17829.888999999999,17108.188000000002,12317.120500000001,8994.6830000000009]
[75,null,{"$f":"C362*$K$4","v":19124.175500000001},18349.766,13225.779,9658.2694999999985,0,null,22499.030000000002,21587.960000000003,15559.740000000002,11362.67,null,19124.175500000001,18349.766000000003,13225.779,9658.2695000000003]
[76,null,{"$f":"C363*$K$4","v":19124.175500000001},18349.766,13225.779,9658.2694999999985,0,null,22499.030000000002,21587.960000000003,15559.740000000002,11362.67,null,19124.175500000001,18349.766000000003,13225.779,9658.2695000000003]
[77,null,{"$f":"C364*$K$4","v":19124.175500000001},18349.766,13225.779,9658.2694999999985,0,null,22499.030000000002,21587.960000000003,15559.740000000002,11362.67,null,19124.175500000001,18349.766000000003,13225.779,9658.2695000000003]
[78,null,{"$f":"C365*$K$4","v":19124.175500000001},18349.766,13225.779,9658.2694999999985,0,null,22499.030000000002,21587.960000000003,15559.740000000002,11362.67,null,19124.175500000001,18349.766000000003,13225.779,9658.2695000000003]
[79,null,{"$f":"C366*$K$4","v":19124.175500000001},18349.766,13225.779,9658.2694999999985,0,null,22499.030000000002,21587.960000000003,15559.740000000002,11362.67,null,19124.175500000001,18349.766000000003,13225.779,9658.2695000000003]
[80,null,{"$f":"C367*$K$4","v":19124.175500000001},18349.766,13225.779,9658.2694999999985,0,null,22499.030000000002,21587.960000000003,15559.740000000002,11362.67,null,19124.175500000001,18349.766000000003,13225.779,9658.2695000000003]
[81,null,{"$f":"C368*$K$4","v":19124.175500000001},18349.766,13225.779,9658.2694999999985,0,null,22499.030000000002,21587.960000000003,15559.740000000002,11362.67,null,19124.175500000001,18349.766000000003,13225.779,9658.2695000000003]
[82,null,{"$f":"C369*$K$4","v":19124.175500000001},18349.766,13225.779,9658.2694999999985,0,null,22499.030000000002,21587.960000000003,15559.740000000002,{"$f":"L369*$K$4","v":11362.67},null,19124.175500000001,18349.766000000003,13225.779,9658.2695000000003]
[83,null,{"$f":"C370*$K$4","v":19124.175500000001},18349.766,13225.779,9658.2694999999985,0,null,{"$f":"I370*$K$4","v":22499.030000000002},21587.960000000003,15559.740000000002,11362.67,null,{"$f":"I670*0.85","v":19124.175500000001},{"$f":"J670*0.85","v":18349.766000000003},{"$f":"K670*0.85","v":13225.779},{"$f":"L670*0.85","v":9658.2695000000003}]
[84,"o más",{"$f":"C371*$K$4","v":19124.175500000001},18349.766,13225.779,9658.2694999999985,0,null,22499.030000000002,21587.960000000003,15559.740000000002,11362.67,null,19124.175500000001,18349.766000000003,13225.779,9658.2695000000003]
[1,"Hijo",{"$f":"C372*$K$4","v":871.71750000000009},836.57850000000008,640.6110000000001,468.52000000000004,0,null,1025.55,984.21,753.66000000000008,551.20000000000005,null,{"$f":"I672*0.85","v":871.71749999999997},836.57849999999996,640.6110000000001,468.52000000000004]
[2,"Hijos",{"$f":"C373*$K$4","v":1480.3430000000001},1420.4265,1087.9575,794.68200000000002,0,null,1741.5800000000002,1671.0900000000001,1279.95,934.92000000000007,null,{"$f":"I673*0.85","v":1480.3430000000001},{"$f":"J673*0.85","v":1420.4265},{"$f":"K673*0.85","v":1087.9575},{"$f":"L673*0.85","v":794.68200000000002}]
[3,"Hijos o más",{"$f":"C374*$K$4","v":2090.3200000000002},2004.7250000000001,1535.3039999999999,1121.2945000000002,0,null,2459.2000000000003,2358.5,1806.24,1319.17,null,2090.3200000000002,2004.7249999999999,1535.3039999999999,1121.2945]
[]
["BUPA GLOBAL ELITE"]
["TARIFAS TRIMESTRALES"]
["EDAD"]
[" "," ",1000,2000,3500]
[18,null,{"$f":"C6*$K$3","v":2326.5137500000001},{"$f":"D6*$K$3","v":2038.7675000000002},1693.5187500000002,1469.3525,1118.9612500000001,null,{"$f":"I6*$K$3","v":2737.0750000000003},{"$f":"J6*$K$3","v":2398.5500000000002},1992.3750000000002,1728.65,1316.4250000000002,null,{"$f":"I680*0.85","v":2326.5137500000001},{"$f":"J680*0.85","v":2038.7675000000002},1693.5187500000002,1469.3525,1118.9612500000001]
[19,null,{"$f":"C7*$K$3","v":2326.5137500000001},2038.7675000000002,1693.5187500000002,1469.3525,1118.9612500000001,null,{"$f":"I7*$K$3","v":2737.0750000000003},2398.5500000000002,1992.3750000000002,1728.65,1316.4250000000002,null,{"$f":"I681*0.85","v":2326.5137500000001},{"$f":"J681*0.85","v":2038.7675000000002},{"$f":"K681*0.85","v":1693.5187500000002},{"$f":"L681*0.85","v":1469.3525},{"$f":"M681*0.85","v":1118.9612500000001}]
[20,null,{"$f":"C8*$K$3","v":2326.5137500000001},2038.7675000000002,1693.5187500000002,1469.3525,1118.9612500000001,null,2737.0750000000003,2398.5500000000002,1992.3750000000002,1728.65,1316.4250000000002,null,2326.5137500000001,2038.7675000000002,1693.5187500000002,1469.3525,1118.9612500000001]
[21,null,{"$f":"C9*$K$3","v":2326.5137500000001},2038.7675000000002,1693.5187500000002,1469.3525,1118.9612500000001,null,2737.0750000000003,2398.5500000000002,1992.3750000000002,1728.65,1316.4250000000002,null,2326.5137500000001,2038.7675000000002,1693.5187500000002,1469.3525,1118.9612500000001]
[22,null,{"$f":"C10*$K$3","v":2326.5137500000001},2038.7675000000002,1693.5187500000002,1469.3525,1118.9612500000001,null,2737.0750000000003,2398.5500000000002,1992.3750000000002,1728.65,1316.4250000000002,null,2326.5137500000001,2038.7675000000002,1693.5187500000002,1469.3525,1118.9612500000001]
[23,null,{"$f":"C11*$K$3","v":2326.5137500000001},2038.7675000000002,1693.5187500000002,1469.3525,1118.9612500000001,null,2737.0750000000003,2398.5500000000002,1992.3750000000002,1728.65,1316.4250000000002,null,2326.5137500000001,2038.7675000000002,1693.5187500000002,1469.3525,1118.9612500000001]
[24,null,{"$f":"C12*$K$3","v":2326.5137500000001},2038.7675000000002,1693.5187500000002,1469.3525,1118.9612500000001,null,2737.0750000000003,2398.5500000000002,1992.3750000000002,1728.65,1316.4250000000002,null,2326.5137500000001,2038.7675000000002,1693.5187500000002,1469.3525,1118.9612500000001]
[25,null,{"$f":"C13*$K$3","v":2485.6975000000002},2178.5500000000002,1798.7062500000002,1559.5800000000002,1188.6187500000001,null,2924.3500000000004,2563,2116.125,1834.8000000000002,1398.375,null,2485.6975000000002,2178.5499999999997,1798.70625,1559.5800000000002,1188.6187499999999]
[26,null,{"$f":"C14*$K$3","v":2485.6975000000002},2178.5500000000002,1798.7062500000002,1559.5800000000002,1188.6187500000001,null,2924.3500000000004,2563,2116.125,1834.8000000000002,1398.375,null,2485.6975000000002,2178.5499999999997,1798.70625,1559.5800000000002,1188.6187499999999]
[27,null,{"$f":"C15*$K$3","v":2485.6975000000002},2178.5500000000002,1798.7062500000002,1559.5800000000002,1188.6187500000001,null,2924.3500000000004,2563,2116.125,1834.8000000000002,1398.375,null,2485.6975000000002,2178.5499999999997,1798.70625,1559.5800000000002,1188.6187499999999]
[28,null,{"$f":"C16*$K$3","v":2485.6975000000002},2178.5500000000002,1798.7062500000002,1559.5800000000002,1188.6187500000001,null,2924.3500000000004,2563,2116.125,1834.8000000000002,1398.375,null,2485.6975000000002,2178.5499999999997,1798.70625,1559.5800000000002,1188.6187499999999]
[29,null,{"$f":"C17*$K$3","v":2485.6975000000002},2178.5500000000002,1798.7062500000002,1559.5800000000002,1188.6187500000001,null,2924.3500000000004,2563,2116.125,1834.8000000000002,1398.375,null,2485.6975000000002,2178.5499999999997,1798.70625,1559.5800000000002,1188.6187499999999]
[30,null,{"$f":"C18*$K$3","v":2764.09375},2422.8187500000004,1985.4725000000001,1721.335,1311.10375,null,3251.8750000000005,2850.3750000000005,2335.8500000000004,2025.1000000000001,1542.4750000000001,null,2764.0937500000005,2422.8187500000004,1985.4725000000003,1721.335,1311.10375]
[31,null,{"$f":"C19*$K$3","v":2764.09375},2422.8187500000004,1985.4725000000001,1721.335,1311.10375,null,3251.8750000000005,2850.3750000000005,2335.8500000000004,2025.1000000000001,1542.4750000000001,null,2764.0937500000005,2422.8187500000004,1985.4725000000003,1721.335,1311.10375]
[32,null,{"$f":"C20*$K$3","v":2764.09375},2422.8187500000004,1985.4725000000001,1721.335,1311.10375,null,3251.8750000000005,2850.3750000000005,2335.8500000000004,2025.1000000000001,1542.4750000000001,null,2764.0937500000005,2422.8187500000004,1985.4725000000003,1721.335,1311.10375]
[33,null,{"$f":"C21*$K$3","v":2764.09375},2422.8187500000004,1985.4725000000001,1721.335,1311.10375,null,3251.8750000000005,2850.3750000000005,2335.8500000000004,2025.1000000000001,1542.4750000000001,null,2764.0937500000005,2422.8187500000004,1985.4725000000003,1721.335,1311.10375]
[34,null,{"$f":"C22*$K$3","v":2764.09375},2422.8187500000004,1985.4725000000001,1721.335,1311.10375,null,3251.8750000000005,2850.3750000000005,2335.8500000000004,2025.1000000000001,1542.4750000000001,null,2764.0937500000005,2422.8187500000004,1985.4725000000003,1721.335,1311.10375]
[35,null,{"$f":"C23*$K$3","v":3085.5000000000005},2703.7862500000001,2203.09375,1910.6725000000001,1455.3274999999999,null,3630.0000000000005,3180.9250000000002,2591.875,2247.8500000000004,1712.15,null,3085.5000000000005,2703.7862500000001,2203.09375,1910.6725000000004,1455.3275000000001]
[36,null,{"$f":"C24*$K$3","v":3085.5000000000005},2703.7862500000001,2203.09375,1910.6725000000001,1455.3274999999999,null,3630.0000000000005,3180.9250000000002,2591.875,2247.8500000000004,1712.15,null,3085.5000000000005,2703.7862500000001,2203.09375,1910.6725000000004,1455.3275000000001]
[37,null,{"$f":"C25*$K$3","v":3085.5000000000005},2703.7862500000001,2203.09375,1910.6725000000001,1455.3274999999999,null,3630.0000000000005,3180.9250000000002,2591.875,2247.8500000000004,1712.15,null,3085.5000000000005,2703.7862500000001,2203.09375,1910.6725000000004,1455.3275000000001]
[38,null,{"$f":"C26*$K$3","v":3085.5000000000005},2703.7862500000001,2203.09375,1910.6725000000001,1455.3274999999999,null,3630.0000000000005,3180.9250000000002,2591.875,2247.8500000000004,1712.15,null,3085.5000000000005,2703.7862500000001,2203.09375,1910.6725000000004,1455.3275000000001]
[39,null,{"$f":"C27*$K$3","v":3085.5000000000005},2703.7862500000001,2203.09375,1910.6725000000001,1455.3274999999999,null,3630.0000000000005,3180.9250000000002,2591.875,2247.8500000000004,1712.15,null,3085.5000000000005,2703.7862500000001,2203.09375,1910.6725000000004,1455.3275000000001]
[40,null,{"$f":"C28*$K$3","v":3570.9987500000002},3129.67875,2538.5250000000001,2201.2237500000001,1677.1562500000002,null,4201.1750000000002,3681.9750000000004,2986.5000000000005,2589.6750000000002,1973.1250000000002,null,3570.9987500000002,3129.67875,2538.5250000000005,2201.2237500000001,1677.1562500000002]
[41,null,{"$f":"C29*$K$3","v":3570.9987500000002},3129.67875,2538.5250000000001,2201.2237500000001,1677.1562500000002,null,4201.1750000000002,3681.9750000000004,2986.5000000000005,2589.6750000000002,1973.1250000000002,null,3570.9987500000002,3129.67875,2538.5250000000005,2201.2237500000001,1677.1562500000002]
[42,null,{"$f":"C30*$K$3","v":3570.9987500000002},3129.67875,2538.5250000000001,2201.2237500000001,1677.1562500000002,null,4201.1750000000002,3681.9750000000004,2986.5000000000005,2589.6750000000002,1973.1250000000002,null,3570.9987500000002,3129.67875,2538.5250000000005,2201.2237500000001,1677.1562500000002]
[43,null,{"$f":"C31*$K$3","v":3570.9987500000002},3129.67875,2538.5250000000001,2201.2237500000001,1677.1562500000002,null,4201.1750000000002,3681.9750000000004,2986.5000000000005,2589.6750000000002,1973.1250000000002,null,3570.9987500000002,3129.67875,2538.5250000000005,2201.2237500000001,1677.1562500000002]
[44,null,{"$f":"C32*$K$3","v":3570.9987500000002},3129.67875,2538.5250000000001,2201.2237500000001,1677.1562500000002,null,4201.1750000000002,3681.9750000000004,2986.5000000000005,2589.6750000000002,1973.1250000000002,null,3570.9987500000002,3129.67875,2538.5250000000005,2201.2237500000001,1677.1562500000002]
[45,null,{"$f":"C33*$K$3","v":3996.6575000000003},3502.7437500000001,2832.3487500000001,2455.7775000000001,1870.4675000000002,null,4701.9500000000007,4120.875,3332.1750000000002,2889.15,2200.5500000000002,null,3996.6575000000007,3502.7437500000001,2832.3487500000001,2455.7775000000001,1870.4675000000002]
[46,null,{"$f":"C34*$K$3","v":3996.6575000000003},3502.7437500000001,2832.3487500000001,2455.7775000000001,1870.4675000000002,null,4701.9500000000007,4120.875,3332.1750000000002,2889.15,2200.5500000000002,null,3996.6575000000007,3502.7437500000001,2832.3487500000001,2455.7775000000001,1870.4675000000002]
[47,null,{"$f":"C35*$K$3","v":3996.6575000000003},3502.7437500000001,2832.3487500000001,2455.7775000000001,1870.4675000000002,null,4701.9500000000007,4120.875,3332.1750000000002,2889.15,2200.5500000000002,null,3996.6575000000007,3502.7437500000001,2832.3487500000001,2455.7775000000001,1870.4675000000002]
[48,null,{"$f":"C36*$K$3","v":3996.6575000000003},3502.7437500000001,2832.3487500000001,2455.7775000000001,1870.4675000000002,null,4701.9500000000007,4120.875,3332.1750000000002,2889.15,2200.5500000000002,null,3996.6575000000007,3502.7437500000001,2832.3487500000001,2455.7775000000001,1870.4675000000002]
[49,null,{"$f":"C37*$K$3","v":3996.6575000000003},3502.7437500000001,2832.3487500000001,2455.7775000000001,1870.4675000000002,null,4701.9500000000007,4120.875,3332.1750000000002,2889.15,2200.5500000000002,null,3996.6575000000007,3502.7437500000001,2832.3487500000001,2455.7775000000001,1870.4675000000002]
[50,null,{"$f":"C38*$K$3","v":4618.9000000000005},4048.7837500000005,3265.9549999999999,2832.3487500000001,2157.2787499999999,null,5434,4763.2750000000005,3842.3,3332.1750000000002,2537.9750000000004,null,4618.8999999999996,4048.7837500000005,3265.9549999999999,2832.3487500000001,2157.2787500000004]
[51,null,{"$f":"C39*$K$3","v":4618.9000000000005},4048.7837500000005,3265.9549999999999,2832.3487500000001,2157.2787499999999,null,5434,4763.2750000000005,3842.3,3332.1750000000002,2537.9750000000004,null,4618.8999999999996,4048.7837500000005,3265.9549999999999,2832.3487500000001,2157.2787500000004]
[52,null,{"$f":"C40*$K$3","v":4618.9000000000005},4048.7837500000005,3265.9549999999999,2832.3487500000001,2157.2787499999999,null,5434,4763.2750000000005,3842.3,3332.1750000000002,2537.9750000000004,null,4618.8999999999996,4048.7837500000005,3265.9549999999999,2832.3487500000001,2157.2787500000004]
[53,null,{"$f":"C41*$K$3","v":4618.9000000000005},4048.7837500000005,3265.9549999999999,2832.3487500000001,2157.2787499999999,null,5434,4763.2750000000005,3842.3,3332.1750000000002,2537.9750000000004,null,4618.8999999999996,4048.7837500000005,3265.9549999999999,2832.3487500000001,2157.2787500000004]
[54,null,{"$f":"C42*$K$3","v":4618.9000000000005},4048.7837500000005,3265.9549999999999,2832.3487500000001,2157.2787499999999,null,5434,4763.2750000000005,3842.3,3332.1750000000002,2537.9750000000004,null,4618.8999999999996,4048.7837500000005,3265.9549999999999,2832.3487500000001,2157.2787500000004]
[55,null,{"$f":"C43*$K$3","v":5163.7712499999998},4526.335,3646.2662500000001,3162.17,2408.56,null,6075.0250000000005,5325.1,4289.7250000000004,3720.2000000000003,2833.6000000000004,null,5163.7712500000007,4526.335,3646.2662500000001,3162.17,2408.5600000000004]
[56,null,{"$f":"C44*$K$3","v":5163.7712499999998},4526.335,3646.2662500000001,3162.17,2408.56,null,6075.0250000000005,5325.1,4289.7250000000004,3720.2000000000003,2833.6000000000004,null,5163.7712500000007,4526.335,3646.2662500000001,3162.17,2408.5600000000004]
[57,null,{"$f":"C45*$K$3","v":5163.7712499999998},4526.335,3646.2662500000001,3162.17,2408.56,null,6075.0250000000005,5325.1,4289.7250000000004,3720.2000000000003,2833.6000000000004,null,5163.7712500000007,4526.335,3646.2662500000001,3162.17,2408.5600000000004]
[58,null,{"$f":"C46*$K$3","v":5163.7712499999998},4526.335,3646.2662500000001,3162.17,2408.56,null,6075.0250000000005,5325.1,4289.7250000000004,3720.2000000000003,2833.6000000000004,null,5163.7712500000007,4526.335,3646.2662500000001,3162.17,2408.5600000000004]
[59,null,{"$f":"C47*$K$3","v":5163.7712499999998},4526.335,3646.2662500000001,3162.17,2408.56,null,6075.0250000000005,5325.1,4289.7250000000004,3720.2000000000003,2833.6000000000004,null,5163.7712500000007,4526.335,3646.2662500000001,3162.17,2408.5600000000004]
[60,null,{"$f":"C48*$K$3","v":5526.5512500000004},4844.46875,3899.1837500000006,3380.96,2575.2237500000001,null,6501.8250000000007,5699.3750000000009,4587.2750000000005,3977.6000000000004,3029.6750000000002,null,5526.5512500000004,4844.4687500000009,3899.1837500000001,3380.96,2575.2237500000001]
[61,null,{"$f":"C49*$K$3","v":6254.4487500000005},5482.6062500000007,4410.8625000000002,3825.3187500000004,2913.46,null,7358.1750000000002,6450.1250000000009,5189.25,4500.375,3427.6000000000004,null,6254.4487499999996,5482.6062500000007,4410.8625000000002,3825.3187499999999,2913.46]
[62,null,{"$f":"C50*$K$3","v":6948.92},6090.59,4899.1662500000002,4247.7049999999999,3235.1000000000004,null,8175.2000000000007,7165.4000000000005,5763.7250000000004,4997.3,3806.0000000000005,null,6948.92,6090.59,4899.1662500000002,4247.7049999999999,3235.1000000000004]
[63,null,{"$f":"C51*$K$3","v":7694.1149999999998},6744.8562500000007,5425.1037500000002,4703.9849999999997,3583.1537500000004,null,9051.9000000000015,7935.1250000000009,6382.4750000000004,5534.1,4215.4750000000004,null,7694.1150000000007,6744.8562500000007,5425.1037500000002,4703.9850000000006,3583.1537500000004]
[64,null,{"$f":"C52*$K$3","v":8493.3062500000015},7444.2362500000008,5988.9087500000005,5192.99,3955.2837500000005,null,9992.125,8757.9250000000011,7045.7750000000005,6109.4000000000005,4653.2750000000005,null,8493.3062499999996,7444.2362500000008,5988.9087500000005,5192.9900000000007,3955.2837500000005]
[65,null,{"$f":"C53*$K$3","v":9343.9225000000006},8190.8337500000007,6591.0487500000008,5715.6550000000007,4353.8275000000003,null,10992.85,9636.2750000000015,7754.1750000000002,6724.3,5122.1500000000005,null,9343.9225000000006,8190.8337500000007,6591.0487499999999,5715.6549999999997,4353.8275000000003]
[66,null,{"$f":"C54*$K$3","v":10247.6},8982.5450000000001,7231.5237500000012,6270.5775000000003,4776.6812500000005,null,12056.000000000002,10567.7,8507.6750000000011,7377.1500000000005,{"$f":"M54*$K$3","v":5619.625},null,10247.600000000002,8982.5450000000001,7231.5237500000003,6270.5775000000003,4776.6812499999996]
[67,null,{"$f":"C55*$K$3","v":11203.403750000001},9819.8375000000015,7910.567500000001,6859.16,5224.5462500000003,null,13180.475,11552.750000000002,9306.5500000000011,8069.6,6146.5250000000005,null,11203.403749999999,9819.8375000000015,7910.567500000001,6859.16,5224.5462500000003]
[68,null,{"$f":"C56*$K$3","v":12211.1},10703.4125,8627.0112500000014,7480.9350000000004,5698.3575000000001,null,14366.000000000002,12592.250000000002,10149.425000000001,8801.1,6703.9500000000007,null,12211.1,10703.4125,8627.0112500000014,7480.9350000000004,5698.3575000000001]
[69,null,{"$f":"C57*$K$3","v":13272.091250000001},11633.036250000001,9382.4912500000009,8136.1362500000005,6196.94625,null,15614.225,13685.925000000001,11038.225,9571.9250000000011,7290.5250000000005,null,13272.091249999999,11633.036250000001,9382.4912500000009,8136.1362500000005,6196.94625]
[70,null,{"$f":"C58*$K$3","v":14384.741250000001},12608.475,10175.137500000001,8823.3612500000017,6720.5462500000003,null,16923.225000000002,14833.500000000002,11970.750000000002,10380.425000000001,7906.5250000000005,null,14384.741250000001,12608.475,10175.137500000001,8823.3612499999999,6720.5462500000003]
[71,null,{"$f":"C59*$K$3","v":15549.751249999999},13629.728750000002,11006.82,9544.48,7269.6250000000009,null,18293.825000000001,16034.975000000002,12949.2,11228.800000000001,8552.5,null,15549.751249999999,13629.728750000002,11006.82,9544.4800000000014,7269.625]
[72,null,{"$f":"C60*$K$3","v":16767.355},14697.7325,11876.13625,10297.622500000001,7843.7150000000001,null,19726.300000000003,17291.45,13971.925000000001,12114.85,9227.9000000000015,null,16767.355000000003,14697.7325,11876.136250000001,10297.622499999999,7843.7150000000011]
[73,null,{"$f":"C61*$K$3","v":18037.552499999998},15810.3825,12784.48875,11085.126249999999,8443.2837500000005,null,21220.65,18600.45,15040.575000000001,13041.325000000001,9933.2750000000015,null,18037.552500000002,15810.3825,12784.48875,11085.126250000001,8443.2837500000005]
[74,null,{"$f":"C62*$K$3","v":19360.34375},16969.081250000003,13729.77375,11905.355,9068.0975000000017,null,22776.875000000004,19963.625,16152.675000000001,14006.300000000001,10668.35,null,19360.343750000004,16969.081249999999,13729.77375,11905.355000000001,9068.0974999999999]
[75,null,{"$f":"C63*$K$3","v":20734.793750000001},18174.296249999999,14713.393750000001,12758.30875,9717.6887499999993,null,24393.875000000004,21381.525000000001,17309.875,15009.775000000001,11432.575000000001,null,20734.793750000004,18174.296249999999,14713.393749999999,12758.30875,9717.6887500000012]
[76,null,{"$f":"C64*$K$3","v":20734.793750000001},18174.296249999999,14713.393750000001,12758.30875,9717.6887499999993,null,24393.875000000004,21381.525000000001,17309.875,15009.775000000001,11432.575000000001,null,20734.793750000004,18174.296249999999,14713.393749999999,12758.30875,9717.6887500000012]
[77,null,{"$f":"C65*$K$3","v":20734.793750000001},18174.296249999999,14713.393750000001,12758.30875,9717.6887499999993,null,24393.875000000004,21381.525000000001,17309.875,15009.775000000001,11432.575000000001,null,20734.793750000004,18174.296249999999,14713.393749999999,12758.30875,9717.6887500000012]
[78,null,{"$f":"C66*$K$3","v":20734.793750000001},18174.296249999999,14713.393750000001,12758.30875,9717.6887499999993,null,24393.875000000004,21381.525000000001,17309.875,15009.775000000001,11432.575000000001,null,20734.793750000004,18174.296249999999,14713.393749999999,12758.30875,9717.6887500000012]
[79,null,{"$f":"C67*$K$3","v":20734.793750000001},18174.296249999999,14713.393750000001,12758.30875,9717.6887499999993,null,24393.875000000004,21381.525000000001,17309.875,15009.775000000001,11432.575000000001,null,20734.793750000004,18174.296249999999,14713.393749999999,12758.30875,9717.6887500000012]
[80,null,{"$f":"C68*$K$3","v":20734.793750000001},18174.296249999999,14713.393750000001,12758.30875,9717.6887499999993,null,24393.875000000004,21381.525000000001,17309.875,15009.775000000001,11432.575000000001,null,20734.793750000004,18174.296249999999,14713.393749999999,12758.30875,9717.6887500000012]
[81,null,{"$f":"C69*$K$3","v":20734.793750000001},18174.296249999999,14713.393750000001,12758.30875,9717.6887499999993,null,24393.875000000004,21381.525000000001,17309.875,15009.775000000001,11432.575000000001,null,20734.793750000004,18174.296249999999,14713.393749999999,12758.30875,9717.6887500000012]
[82,null,{"$f":"C70*$K$3","v":20734.793750000001},18174.296249999999,14713.393750000001,12758.30875,9717.6887499999993,null,24393.875000000004,{"$f":"J70*$K$3","v":21381.525000000001},17309.875,15009.775000000001,11432.575000000001,null,20734.793750000004,18174.296249999999,14713.393749999999,12758.30875,9717.6887500000012]
[83,null,{"$f":"C71*$K$3","v":20734.793750000001},18174.296249999999,14713.393750000001,12758.30875,9717.6887499999993,null,{"$f":"I71*$K$3","v":24393.875000000004},21381.525000000001,17309.875,15009.775000000001,11432.575000000001,null,{"$f":"I745*0.85","v":20734.793750000004},{"$f":"J745*0.85","v":18174.296249999999},{"$f":"K745*0.85","v":14713.393749999999},{"$f":"L745*0.85","v":12758.30875},{"$f":"M745*0.85","v":9717.6887500000012}]
[84,"o más",{"$f":"C72*$K$3","v":20734.793750000001},18174.296249999999,14713.393750000001,12758.30875,9717.6887499999993,null,24393.875000000004,21381.525000000001,17309.875,15009.775000000001,11432.575000000001,null,20734.793750000004,18174.296249999999,14713.393749999999,12758.30875,9717.6887500000012]
[1,"Hijo",{"$f":"C73*$K$3","v":983.62},862.07,720.8850000000001,625.28125,476.38250000000005,null,1157.2,1014.2,848.1,735.62500000000011,560.45000000000005,null,{"$f":"I747*0.85","v":983.62},862.07,720.88499999999999,625.28125000000011,476.38250000000005]
[2,"Hijos",{"$f":"C74*$K$3","v":1671.0787500000001},1465.1450000000002,1225.3175000000001,1062.8612499999999,809.71,null,1965.9750000000001,1723.7,1441.5500000000002,1250.4250000000002,952.6,null,{"$f":"I748*0.85","v":1671.0787500000001},{"$f":"J748*0.85","v":1465.145},{"$f":"K748*0.85","v":1225.3175000000001},{"$f":"L748*0.85","v":1062.8612500000002},{"$f":"M748*0.85","v":809.71}]
[3,"Hijos o más",{"$f":"C75*$K$3","v":2359.4725000000003},2067.9862499999999,1729.7500000000002,1499.9737500000001,1142.80375,null,2775.8500000000004,2432.9250000000002,2035.0000000000002,1764.6750000000002,1344.4750000000001,null,2359.4725000000003,2067.9862499999999,1729.7500000000002,1499.9737500000001,1142.80375]
[]
["BUPA GLOBAL PREMIER"]
["TARIFAS TRIMESTRALES"]
["EDAD"]
[" "," ",2000,3500,5000]
[18,null,{"$f":"C155*$K$3","v":1529.1925000000001},{"$f":"D155*$K$3","v":1387.0725},1043.46,762.25875000000008,0,null,{"$f":"I155*$K$3","v":1799.0500000000002},{"$f":"J155*$K$3","v":1631.8500000000001},1227.6000000000001,896.77500000000009,null,{"$f":"I755*0.85","v":1529.1925000000001},{"$f":"J755*0.85","v":1387.0725},1043.46,762.25875000000008]
[19,null,{"$f":"C156*$K$3","v":1529.1925000000001},1387.0725,1043.46,762.25875000000008,0,null,{"$f":"I156*$K$3","v":1799.0500000000002},1631.8500000000001,1227.6000000000001,896.77500000000009,null,{"$f":"I756*0.85","v":1529.1925000000001},{"$f":"J756*0.85","v":1387.0725},{"$f":"K756*0.85","v":1043.46},{"$f":"L756*0.85","v":762.25875000000008}]
[20,null,{"$f":"C157*$K$3","v":1529.1925000000001},1387.0725,1043.46,762.25875000000008,0,null,1799.0500000000002,1631.8500000000001,1227.6000000000001,896.77500000000009,null,1529.1925000000001,1387.0725,1043.46,762.25875000000008]
[21,null,{"$f":"C158*$K$3","v":1529.1925000000001},1387.0725,1043.46,762.25875000000008,0,null,1799.0500000000002,1631.8500000000001,1227.6000000000001,896.77500000000009,null,1529.1925000000001,1387.0725,1043.46,762.25875000000008]
[22,null,{"$f":"C159*$K$3","v":1529.1925000000001},1387.0725,1043.46,762.25875000000008,0,null,1799.0500000000002,1631.8500000000001,1227.6000000000001,896.77500000000009,null,1529.1925000000001,1387.0725,1043.46,762.25875000000008]
[23,null,{"$f":"C160*$K$3","v":1529.1925000000001},1387.0725,1043.46,762.25875000000008,0,null,1799.0500000000002,1631.8500000000001,1227.6000000000001,896.77500000000009,null,1529.1925000000001,1387.0725,1043.46,762.25875000000008]
[24,null,{"$f":"C161*$K$3","v":1529.1925000000001},1387.0725,1043.46,762.25875000000008,0,null,1799.0500000000002,1631.8500000000001,1227.6000000000001,896.77500000000009,null,1529.1925000000001,1387.0725,1043.46,762.25875000000008]
[25,null,{"$f":"C162*$K$3","v":1634.38},1482.20875,1103.3000000000002,806.20375000000013,0,null,1922.8000000000002,1743.7750000000001,1298,948.47500000000002,null,1634.38,1482.20875,1103.3,806.20375000000001]
[26,null,{"$f":"C163*$K$3","v":1634.38},1482.20875,1103.3000000000002,806.20375000000013,0,null,1922.8000000000002,1743.7750000000001,1298,948.47500000000002,null,1634.38,1482.20875,1103.3,806.20375000000001]
[27,null,{"$f":"C164*$K$3","v":1634.38},1482.20875,1103.3000000000002,806.20375000000013,0,null,1922.8000000000002,1743.7750000000001,1298,948.47500000000002,null,1634.38,1482.20875,1103.3,806.20375000000001]
[28,null,{"$f":"C165*$K$3","v":1634.38},1482.20875,1103.3000000000002,806.20375000000013,0,null,1922.8000000000002,1743.7750000000001,1298,948.47500000000002,null,1634.38,1482.20875,1103.3,806.20375000000001]
[29,null,{"$f":"C166*$K$3","v":1634.38},1482.20875,1103.3000000000002,806.20375000000013,0,null,1922.8000000000002,1743.7750000000001,1298,948.47500000000002,null,1634.38,1482.20875,1103.3,806.20375000000001]
[30,null,{"$f":"C167*$K$3","v":1817.1725000000001},1649.10625,1211.2925,884.74375000000009,0,null,2137.8500000000004,1940.1250000000002,1425.0500000000002,1040.875,null,1817.1725000000004,1649.10625,1211.2925,884.74374999999998]
[31,null,{"$f":"C168*$K$3","v":1817.1725000000001},1649.10625,1211.2925,884.74375000000009,0,null,2137.8500000000004,1940.1250000000002,1425.0500000000002,1040.875,null,1817.1725000000004,1649.10625,1211.2925,884.74374999999998]
[32,null,{"$f":"C169*$K$3","v":1817.1725000000001},1649.10625,1211.2925,884.74375000000009,0,null,2137.8500000000004,1940.1250000000002,1425.0500000000002,1040.875,null,1817.1725000000004,1649.10625,1211.2925,884.74374999999998]
[33,null,{"$f":"C170*$K$3","v":1817.1725000000001},1649.10625,1211.2925,884.74375000000009,0,null,2137.8500000000004,1940.1250000000002,1425.0500000000002,1040.875,null,1817.1725000000004,1649.10625,1211.2925,884.74374999999998]
[34,null,{"$f":"C171*$K$3","v":1817.1725000000001},1649.10625,1211.2925,884.74375000000009,0,null,2137.8500000000004,1940.1250000000002,1425.0500000000002,1040.875,null,1817.1725000000004,1649.10625,1211.2925,884.74374999999998]
[35,null,{"$f":"C172*$K$3","v":2027.7812500000002},1840.5475000000001,1338.92,978.0100000000001,0,null,2385.625,2165.3500000000004,1575.2,1150.6000000000001,null,2027.78125,1840.5475000000004,1338.92,978.0100000000001]
[36,null,{"$f":"C173*$K$3","v":2027.7812500000002},1840.5475000000001,1338.92,978.0100000000001,0,null,2385.625,2165.3500000000004,1575.2,1150.6000000000001,null,2027.78125,1840.5475000000004,1338.92,978.0100000000001]
[37,null,{"$f":"C174*$K$3","v":2027.7812500000002},1840.5475000000001,1338.92,978.0100000000001,0,null,2385.625,2165.3500000000004,1575.2,1150.6000000000001,null,2027.78125,1840.5475000000004,1338.92,978.0100000000001]
[38,null,{"$f":"C175*$K$3","v":2027.7812500000002},1840.5475000000001,1338.92,978.0100000000001,0,null,2385.625,2165.3500000000004,1575.2,1150.6000000000001,null,2027.78125,1840.5475000000004,1338.92,978.0100000000001]
[39,null,{"$f":"C176*$K$3","v":2027.7812500000002},1840.5475000000001,1338.92,978.0100000000001,0,null,2385.625,2165.3500000000004,1575.2,1150.6000000000001,null,2027.78125,1840.5475000000004,1338.92,978.0100000000001]
[40,null,{"$f":"C177*$K$3","v":2347.0837500000002},2130.1637500000002,1537.37375,1123.63625,0,null,2761.2750000000001,2506.0750000000003,1808.6750000000002,1321.9250000000002,null,2347.0837500000002,2130.1637500000002,1537.3737500000002,1123.63625]
[41,null,{"$f":"C178*$K$3","v":2347.0837500000002},2130.1637500000002,1537.37375,1123.63625,0,null,2761.2750000000001,2506.0750000000003,1808.6750000000002,1321.9250000000002,null,2347.0837500000002,2130.1637500000002,1537.3737500000002,1123.63625]
[42,null,{"$f":"C179*$K$3","v":2347.0837500000002},2130.1637500000002,1537.37375,1123.63625,0,null,2761.2750000000001,2506.0750000000003,1808.6750000000002,1321.9250000000002,null,2347.0837500000002,2130.1637500000002,1537.3737500000002,1123.63625]
[43,null,{"$f":"C180*$K$3","v":2347.0837500000002},2130.1637500000002,1537.37375,1123.63625,0,null,2761.2750000000001,2506.0750000000003,1808.6750000000002,1321.9250000000002,null,2347.0837500000002,2130.1637500000002,1537.3737500000002,1123.63625]
[44,null,{"$f":"C181*$K$3","v":2347.0837500000002},2130.1637500000002,1537.37375,1123.63625,0,null,2761.2750000000001,2506.0750000000003,1808.6750000000002,1321.9250000000002,null,2347.0837500000002,2130.1637500000002,1537.3737500000002,1123.63625]
[45,null,{"$f":"C182*$K$3","v":2626.4150000000004},2383.7824999999998,1711.0500000000002,1249.8612500000002,0,null,3089.9,2804.4500000000003,2013.0000000000002,1470.4250000000002,null,2626.415,2383.7825000000003,1711.0500000000002,1249.8612500000002]
[46,null,{"$f":"C183*$K$3","v":2626.4150000000004},2383.7824999999998,1711.0500000000002,1249.8612500000002,0,null,3089.9,2804.4500000000003,2013.0000000000002,1470.4250000000002,null,2626.415,2383.7825000000003,1711.0500000000002,1249.8612500000002]
[47,null,{"$f":"C184*$K$3","v":2626.4150000000004},2383.7824999999998,1711.0500000000002,1249.8612500000002,0,null,3089.9,2804.4500000000003,2013.0000000000002,1470.4250000000002,null,2626.415,2383.7825000000003,1711.0500000000002,1249.8612500000002]
[48,null,{"$f":"C185*$K$3","v":2626.4150000000004},2383.7824999999998,1711.0500000000002,1249.8612500000002,0,null,3089.9,2804.4500000000003,2013.0000000000002,1470.4250000000002,null,2626.415,2383.7825000000003,1711.0500000000002,1249.8612500000002]
[49,null,{"$f":"C186*$K$3","v":2626.4150000000004},2383.7824999999998,1711.0500000000002,1249.8612500000002,0,null,3089.9,2804.4500000000003,2013.0000000000002,1470.4250000000002,null,2626.415,2383.7825000000003,1711.0500000000002,1249.8612500000002]
[50,null,{"$f":"C187*$K$3","v":3036.6462500000002},2755.4450000000002,1970.2787499999999,1439.9,0,null,3572.5250000000001,3241.7000000000003,2317.9750000000004,1694.0000000000002,null,3036.6462499999998,2755.4450000000002,1970.2787500000002,1439.9]
[51,null,{"$f":"C188*$K$3","v":3036.6462500000002},2755.4450000000002,1970.2787499999999,1439.9,0,null,3572.5250000000001,3241.7000000000003,2317.9750000000004,1694.0000000000002,null,3036.6462499999998,2755.4450000000002,1970.2787500000002,1439.9]
[52,null,{"$f":"C189*$K$3","v":3036.6462500000002},2755.4450000000002,1970.2787499999999,1439.9,0,null,3572.5250000000001,3241.7000000000003,2317.9750000000004,1694.0000000000002,null,3036.6462499999998,2755.4450000000002,1970.2787500000002,1439.9]
[53,null,{"$f":"C190*$K$3","v":3036.6462500000002},2755.4450000000002,1970.2787499999999,1439.9,0,null,3572.5250000000001,3241.7000000000003,2317.9750000000004,1694.0000000000002,null,3036.6462499999998,2755.4450000000002,1970.2787500000002,1439.9]
[54,null,{"$f":"C191*$K$3","v":3036.6462500000002},2755.4450000000002,1970.2787499999999,1439.9,0,null,3572.5250000000001,3241.7000000000003,2317.9750000000004,1694.0000000000002,null,3036.6462499999998,2755.4450000000002,1970.2787500000002,1439.9]
[55,null,{"$f":"C192*$K$3","v":3394.05},3080.5912499999999,2196.7825000000003,1605.3950000000002,0,null,3993.0000000000005,3624.2250000000004,2584.4500000000003,1888.7,null,3394.05,3080.5912500000004,2196.7825000000003,1605.395]
[56,null,{"$f":"C193*$K$3","v":3394.05},3080.5912499999999,2196.7825000000003,1605.3950000000002,0,null,3993.0000000000005,3624.2250000000004,2584.4500000000003,1888.7,null,3394.05,3080.5912500000004,2196.7825000000003,1605.395]
[57,null,{"$f":"C194*$K$3","v":3394.05},3080.5912499999999,2196.7825000000003,1605.3950000000002,0,null,3993.0000000000005,3624.2250000000004,2584.4500000000003,1888.7,null,3394.05,3080.5912500000004,2196.7825000000003,1605.395]
[58,null,{"$f":"C195*$K$3","v":3394.05},3080.5912499999999,2196.7825000000003,1605.3950000000002,0,null,3993.0000000000005,3624.2250000000004,2584.4500000000003,1888.7,null,3394.05,3080.5912500000004,2196.7825000000003,1605.395]
[59,null,{"$f":"C196*$K$3","v":3394.05},3080.5912499999999,2196.7825000000003,1605.3950000000002,0,null,3993.0000000000005,3624.2250000000004,2584.4500000000003,1888.7,null,3394.05,3080.5912500000004,2196.7825000000003,1605.395]
[60,null,{"$f":"C197*$K$3","v":3632.7087500000002},3296.1087500000003,2348.2525000000005,1715.49125,0,null,4273.7750000000005,3877.7750000000001,2762.65,2018.2250000000001,null,3632.7087500000002,3296.1087499999999,2348.2525000000001,1715.49125]
[61,null,{"$f":"C198*$K$3","v":4110.7275000000009},3730.1824999999999,2654.2312500000003,1939.4237500000002,0,null,4836.1500000000005,4388.4500000000007,3122.6250000000005,2281.6750000000002,null,4110.7275,3730.1825000000003,2654.2312500000003,1939.4237500000002]
[62,null,{"$f":"C199*$K$3","v":4566.54},4144.6212500000001,2948.0549999999998,2154.0062500000004,0,null,5372.4000000000005,4876.0250000000005,3468.3,2534.125,null,4566.54,4144.6212500000001,2948.0550000000003,2154.0062499999999]
[63,null,{"$f":"C200*$K$3","v":5057.1812500000005},4589.4475000000002,3264.3187500000004,2384.7174999999997,0,null,5949.6250000000009,5399.35,3840.3750000000005,2805.55,null,5057.1812500000005,4589.4475000000002,3264.3187500000004,2384.7175000000002]
[64,null,{"$f":"C201*$K$3","v":5581.9500000000007},5066.0637500000003,3604.4250000000002,2633.1937500000004,0,null,6567.0000000000009,5960.0750000000007,4240.5,3097.8750000000005,null,5581.9500000000007,5066.0637500000003,3604.4249999999997,2633.1937500000004]
[65,null,{"$f":"C202*$K$3","v":6141.3137500000003},5573.5349999999999,3967.9062500000005,2898.9674999999997,0,null,7225.0750000000007,6557.1,4668.125,3410.55,null,6141.3137500000003,5573.5349999999999,3967.90625,2898.9675000000002]
[66,null,{"$f":"C203*$K$3","v":6735.2725},6111.6275000000005,4354.9962500000001,3181.5712500000004,0,null,7923.85,7190.1500000000005,5123.5250000000005,3743.0250000000001,null,6735.2725,6111.6275000000005,4354.9962500000001,3181.57125]
[67,null,{"$f":"C204*$K$3","v":7363.3587500000003},6682.2112500000003,4765.6950000000006,3482.1737499999999,0,null,8662.7750000000015,7861.4250000000002,5606.7000000000007,4096.6750000000002,null,7363.3587500000012,6682.2112500000003,4765.6950000000006,3482.1737499999999]
[68,null,{"$f":"C205*$K$3","v":8025.3387500000008},7283.1825000000008,5199.7687500000002,3798.9050000000002,0,null,9441.5750000000007,8568.4500000000007,6117.3750000000009,4469.3,null,8025.3387500000008,7283.1825000000008,5199.7687500000011,3798.9050000000002]
[69,null,{"$f":"C206*$K$3","v":8722.848750000001},7916.411250000001,5657.4512500000001,4133.4012499999999,0,null,10262.175000000001,9313.4250000000011,6655.8250000000007,4862.8250000000007,null,8722.848750000001,7916.411250000001,5657.4512500000001,4133.4012500000008]
[70,null,{"$f":"C207*$K$3","v":9454.2525000000005},8580.2612500000014,6138.0412500000002,4484.4937500000005,0,null,11122.650000000001,10094.425000000001,7221.2250000000004,5275.875,null,9454.2525000000005,8580.2612500000014,6138.0412500000002,4484.4937499999996]
[71,null,{"$f":"C208*$K$3","v":10220.251249999999},9274.7325000000001,6643.1750000000002,4853.3512500000006,0,null,12023.825000000001,10911.45,7815.5000000000009,5709.8250000000007,null,10220.251250000001,9274.7325000000001,6643.1750000000002,4853.3512500000006]
[72,null,{"$f":"C209*$K$3","v":11020.143750000001},10000.993750000001,7170.9825000000001,5239.2725,0,null,12964.875000000002,11765.875000000002,8436.4500000000007,6163.85,null,11020.143750000001,10000.993750000001,7170.9825000000001,5239.2725]
[73,null,{"$f":"C210*$K$3","v":11854.63125},10758.577500000001,7722.3987500000012,5641.79,0,null,13946.625000000002,12657.150000000001,9085.1750000000011,6637.4000000000005,null,11854.63125,10758.577500000001,7722.3987500000003,5641.79]
[74,null,{"$f":"C211*$K$3","v":12723.947500000002},11547.016250000001,8298.125,6062.3062500000005,0,null,14969.35,13584.725,9762.5,7132.1250000000009,null,12723.9475,11547.016250000001,8298.125,6062.3062500000005]
[75,null,{"$f":"C212*$K$3","v":13627.157499999999},12367.244999999999,8896.7587500000009,6499.8862500000005,0,null,16031.95,14549.7,10466.775000000001,7646.9250000000002,null,13627.157500000001,12367.245000000001,8896.7587500000009,6499.8862499999996]
[76,null,{"$f":"C213*$K$3","v":13627.157499999999},12367.244999999999,8896.7587500000009,6499.8862500000005,0,null,16031.95,14549.7,10466.775000000001,7646.9250000000002,null,13627.157500000001,12367.245000000001,8896.7587500000009,6499.8862499999996]
[77,null,{"$f":"C214*$K$3","v":13627.157499999999},12367.244999999999,8896.7587500000009,6499.8862500000005,0,null,16031.95,14549.7,10466.775000000001,7646.9250000000002,null,13627.157500000001,12367.245000000001,8896.7587500000009,6499.8862499999996]
[78,null,{"$f":"C215*$K$3","v":13627.157499999999},12367.244999999999,8896.7587500000009,6499.8862500000005,0,null,16031.95,14549.7,10466.775000000001,7646.9250000000002,null,13627.157500000001,12367.245000000001,8896.7587500000009,6499.8862499999996]
[79,null,{"$f":"C216*$K$3","v":13627.157499999999},12367.244999999999,8896.7587500000009,6499.8862500000005,0,null,16031.95,14549.7,10466.775000000001,7646.9250000000002,null,13627.157500000001,12367.245000000001,8896.7587500000009,6499.8862499999996]
[80,null,{"$f":"C217*$K$3","v":13627.157499999999},12367.244999999999,8896.7587500000009,6499.8862500000005,0,null,16031.95,14549.7,10466.775000000001,7646.9250000000002,null,13627.157500000001,12367.245000000001,8896.7587500000009,6499.8862499999996]
[81,null,{"$f":"C218*$K$3","v":13627.157499999999},12367.244999999999,8896.7587500000009,6499.8862500000005,0,null,16031.95,14549.7,10466.775000000001,7646.9250000000002,null,13627.157500000001,12367.245000000001,8896.7587500000009,6499.8862499999996]
[82,null,{"$f":"C219*$K$3","v":13627.157499999999},12367.244999999999,8896.7587500000009,6499.8862500000005,0,null,16031.95,14549.7,10466.775000000001,{"$f":"L219*$K$3","v":7646.9250000000002},null,13627.157500000001,12367.245000000001,8896.7587500000009,6499.8862499999996]
[83,null,{"$f":"C220*$K$3","v":13627.157499999999},12367.244999999999,8896.7587500000009,6499.8862500000005,0,null,{"$f":"I220*$K$3","v":16031.95},14549.7,10466.775000000001,7646.9250000000002,null,{"$f":"I820*0.85","v":13627.157500000001},{"$f":"J820*0.85","v":12367.245000000001},{"$f":"K820*0.85","v":8896.7587500000009},{"$f":"L820*0.85","v":6499.8862499999996}]
[84,"o más",{"$f":"C221*$K$3","v":13627.157499999999},12367.244999999999,8896.7587500000009,6499.8862500000005,0,null,16031.95,14549.7,10466.775000000001,7646.9250000000002,null,13627.157500000001,12367.245000000001,8896.7587500000009,6499.8862499999996]
[1,"Hijo",{"$f":"C222*$K$3","v":646.31875000000002},586.245,446.93000000000006,326.315,0,null,760.37500000000011,689.7,525.80000000000007,383.90000000000003,null,{"$f":"I822*0.85","v":646.31875000000014},586.245,446.93000000000006,326.315]
[2,"Hijos",{"$f":"C223*$K$3","v":1098.625},997.17750000000001,758.75250000000005,554.68875000000003,0,null,1292.5,1173.1500000000001,892.65000000000009,652.57500000000005,null,{"$f":"I823*0.85","v":1098.625},{"$f":"J823*0.85","v":997.17750000000001},{"$f":"K823*0.85","v":758.75250000000005},{"$f":"L823*0.85","v":554.68875000000003}]
[3,"Hijos o más",{"$f":"C224*$K$3","v":1550.4637500000001},1407.1750000000002,1071.2762500000001,782.59500000000003,0,null,1824.075,1655.5000000000002,1260.325,920.7,null,1550.4637499999999,1407.1750000000002,1071.2762500000001,782.59500000000003]
[]
["BUPA GLOBAL SELECT"]
["TARIFAS TRIMESTRALES"]
["EDAD"]
[" "," ",2000,3500,5000]
[18,null,{"$f":"C305*$K$3","v":969.12750000000005},{"$f":"D305*$K$3","v":929.62374999999997},702.18500000000006,512.84749999999997,0,null,{"$f":"I305*$K$3","v":1140.1500000000001},{"$f":"J305*$K$3","v":1093.6750000000002},826.1,603.35,null,{"$f":"I830*0.85","v":969.12750000000005},{"$f":"J830*0.85","v":929.62375000000009},702.18499999999995,512.84749999999997]
[19,null,{"$f":"C306*$K$3","v":969.12750000000005},929.62374999999997,702.18500000000006,512.84749999999997,0,null,{"$f":"I306*$K$3","v":1140.1500000000001},1093.6750000000002,826.1,603.35,null,{"$f":"I831*0.85","v":969.12750000000005},{"$f":"J831*0.85","v":929.62375000000009},{"$f":"K831*0.85","v":702.18499999999995},{"$f":"L831*0.85","v":512.84749999999997}]
[20,null,{"$f":"C307*$K$3","v":969.12750000000005},929.62374999999997,702.18500000000006,512.84749999999997,0,null,1140.1500000000001,1093.6750000000002,826.1,603.35,null,969.12750000000005,929.62375000000009,702.18499999999995,512.84749999999997]
[21,null,{"$f":"C308*$K$3","v":969.12750000000005},929.62374999999997,702.18500000000006,512.84749999999997,0,null,1140.1500000000001,1093.6750000000002,826.1,603.35,null,969.12750000000005,929.62375000000009,702.18499999999995,512.84749999999997]
[22,null,{"$f":"C309*$K$3","v":969.12750000000005},929.62374999999997,702.18500000000006,512.84749999999997,0,null,1140.1500000000001,1093.6750000000002,826.1,603.35,null,969.12750000000005,929.62375000000009,702.18499999999995,512.84749999999997]
[23,null,{"$f":"C310*$K$3","v":969.12750000000005},929.62374999999997,702.18500000000006,512.84749999999997,0,null,1140.1500000000001,1093.6750000000002,826.1,603.35,null,969.12750000000005,929.62375000000009,702.18499999999995,512.84749999999997]
[24,null,{"$f":"C311*$K$3","v":969.12750000000005},929.62374999999997,702.18500000000006,512.84749999999997,0,null,1140.1500000000001,1093.6750000000002,826.1,603.35,null,969.12750000000005,929.62375000000009,702.18499999999995,512.84749999999997]
[25,null,{"$f":"C312*$K$3","v":1045.56375},1003.255,749.63625000000002,547.67624999999998,0,null,1230.075,1180.3000000000002,881.92500000000007,644.32500000000005,null,1045.56375,1003.2550000000001,749.63625000000002,547.67624999999998]
[26,null,{"$f":"C313*$K$3","v":1045.56375},1003.255,749.63625000000002,547.67624999999998,0,null,1230.075,1180.3000000000002,881.92500000000007,644.32500000000005,null,1045.56375,1003.2550000000001,749.63625000000002,547.67624999999998]
[27,null,{"$f":"C314*$K$3","v":1045.56375},1003.255,749.63625000000002,547.67624999999998,0,null,1230.075,1180.3000000000002,881.92500000000007,644.32500000000005,null,1045.56375,1003.2550000000001,749.63625000000002,547.67624999999998]
[28,null,{"$f":"C315*$K$3","v":1045.56375},1003.255,749.63625000000002,547.67624999999998,0,null,1230.075,1180.3000000000002,881.92500000000007,644.32500000000005,null,1045.56375,1003.2550000000001,749.63625000000002,547.67624999999998]
[29,null,{"$f":"C316*$K$3","v":1045.56375},1003.255,749.63625000000002,547.67624999999998,0,null,1230.075,1180.3000000000002,881.92500000000007,644.32500000000005,null,1045.56375,1003.2550000000001,749.63625000000002,547.67624999999998]
[30,null,{"$f":"C317*$K$3","v":1179.5025000000001},1131.3500000000001,833.55250000000001,608.45124999999996,0,null,1387.65,1331,980.65000000000009,715.82500000000005,null,1179.5025000000001,1131.3499999999999,833.55250000000001,608.45125000000007]
[31,null,{"$f":"C318*$K$3","v":1179.5025000000001},1131.3500000000001,833.55250000000001,608.45124999999996,0,null,1387.65,1331,980.65000000000009,715.82500000000005,null,1179.5025000000001,1131.3499999999999,833.55250000000001,608.45125000000007]
[32,null,{"$f":"C319*$K$3","v":1179.5025000000001},1131.3500000000001,833.55250000000001,608.45124999999996,0,null,1387.65,1331,980.65000000000009,715.82500000000005,null,1179.5025000000001,1131.3499999999999,833.55250000000001,608.45125000000007]
[33,null,{"$f":"C320*$K$3","v":1179.5025000000001},1131.3500000000001,833.55250000000001,608.45124999999996,0,null,1387.65,1331,980.65000000000009,715.82500000000005,null,1179.5025000000001,1131.3499999999999,833.55250000000001,608.45125000000007]
[34,null,{"$f":"C321*$K$3","v":1179.5025000000001},1131.3500000000001,833.55250000000001,608.45124999999996,0,null,1387.65,1331,980.65000000000009,715.82500000000005,null,1179.5025000000001,1131.3499999999999,833.55250000000001,608.45125000000007]
[35,null,{"$f":"C322*$K$3","v":1334.7125000000001},1280.4825000000001,933.13,681.61500000000001,0,null,1570.2500000000002,1506.45,1097.8000000000002,801.90000000000009,null,1334.7125000000001,1280.4825000000001,933.13000000000011,681.61500000000001]
[36,null,{"$f":"C323*$K$3","v":1334.7125000000001},1280.4825000000001,933.13,681.61500000000001,0,null,1570.2500000000002,1506.45,1097.8000000000002,801.90000000000009,null,1334.7125000000001,1280.4825000000001,933.13000000000011,681.61500000000001]
[37,null,{"$f":"C324*$K$3","v":1334.7125000000001},1280.4825000000001,933.13,681.61500000000001,0,null,1570.2500000000002,1506.45,1097.8000000000002,801.90000000000009,null,1334.7125000000001,1280.4825000000001,933.13000000000011,681.61500000000001]
[38,null,{"$f":"C325*$K$3","v":1334.7125000000001},1280.4825000000001,933.13,681.61500000000001,0,null,1570.2500000000002,1506.45,1097.8000000000002,801.90000000000009,null,1334.7125000000001,1280.4825000000001,933.13000000000011,681.61500000000001]
[39,null,{"$f":"C326*$K$3","v":1334.7125000000001},1280.4825000000001,933.13,681.61500000000001,0,null,1570.2500000000002,1506.45,1097.8000000000002,801.90000000000009,null,1334.7125000000001,1280.4825000000001,933.13000000000011,681.61500000000001]
[40,null,{"$f":"C327*$K$3","v":1564.2550000000001},1500.9087500000001,1084.36625,791.94499999999994,0,null,1840.3000000000002,1765.7750000000001,1275.7250000000001,931.7,null,1564.2550000000001,1500.9087500000001,1084.36625,791.94500000000005]
[41,null,{"$f":"C328*$K$3","v":1564.2550000000001},1500.9087500000001,1084.36625,791.94499999999994,0,null,1840.3000000000002,1765.7750000000001,1275.7250000000001,931.7,null,1564.2550000000001,1500.9087500000001,1084.36625,791.94500000000005]
[42,null,{"$f":"C329*$K$3","v":1564.2550000000001},1500.9087500000001,1084.36625,791.94499999999994,0,null,1840.3000000000002,1765.7750000000001,1275.7250000000001,931.7,null,1564.2550000000001,1500.9087500000001,1084.36625,791.94500000000005]
[43,null,{"$f":"C330*$K$3","v":1564.2550000000001},1500.9087500000001,1084.36625,791.94499999999994,0,null,1840.3000000000002,1765.7750000000001,1275.7250000000001,931.7,null,1564.2550000000001,1500.9087500000001,1084.36625,791.94500000000005]
[44,null,{"$f":"C331*$K$3","v":1564.2550000000001},1500.9087500000001,1084.36625,791.94499999999994,0,null,1840.3000000000002,1765.7750000000001,1275.7250000000001,931.7,null,1564.2550000000001,1500.9087500000001,1084.36625,791.94500000000005]
[45,null,{"$f":"C332*$K$3","v":1770.4225000000001},1698.4275,1220.6425000000002,891.75625000000002,0,null,2082.8500000000004,1998.15,1436.0500000000002,1049.125,null,1770.4225000000004,1698.4275,1220.6425000000002,891.75625000000002]
[46,null,{"$f":"C333*$K$3","v":1770.4225000000001},1698.4275,1220.6425000000002,891.75625000000002,0,null,2082.8500000000004,1998.15,1436.0500000000002,1049.125,null,1770.4225000000004,1698.4275,1220.6425000000002,891.75625000000002]
[47,null,{"$f":"C334*$K$3","v":1770.4225000000001},1698.4275,1220.6425000000002,891.75625000000002,0,null,2082.8500000000004,1998.15,1436.0500000000002,1049.125,null,1770.4225000000004,1698.4275,1220.6425000000002,891.75625000000002]
[48,null,{"$f":"C335*$K$3","v":1770.4225000000001},1698.4275,1220.6425000000002,891.75625000000002,0,null,2082.8500000000004,1998.15,1436.0500000000002,1049.125,null,1770.4225000000004,1698.4275,1220.6425000000002,891.75625000000002]
[49,null,{"$f":"C336*$K$3","v":1770.4225000000001},1698.4275,1220.6425000000002,891.75625000000002,0,null,2082.8500000000004,1998.15,1436.0500000000002,1049.125,null,1770.4225000000004,1698.4275,1220.6425000000002,891.75625000000002]
[50,null,{"$f":"C337*$K$3","v":2067.2849999999999},1983.135,1419.5637500000003,1036.915,0,null,2432.1000000000004,2333.1000000000004,1670.075,1219.9000000000001,null,2067.2850000000003,1983.1350000000002,1419.56375,1036.915]
[51,null,{"$f":"C338*$K$3","v":2067.2849999999999},1983.135,1419.5637500000003,1036.915,0,null,2432.1000000000004,2333.1000000000004,1670.075,1219.9000000000001,null,2067.2850000000003,1983.1350000000002,1419.56375,1036.915]
[52,null,{"$f":"C339*$K$3","v":2067.2849999999999},1983.135,1419.5637500000003,1036.915,0,null,2432.1000000000004,2333.1000000000004,1670.075,1219.9000000000001,null,2067.2850000000003,1983.1350000000002,1419.56375,1036.915]
[53,null,{"$f":"C340*$K$3","v":2067.2849999999999},1983.135,1419.5637500000003,1036.915,0,null,2432.1000000000004,2333.1000000000004,1670.075,1219.9000000000001,null,2067.2850000000003,1983.1350000000002,1419.56375,1036.915]
[54,null,{"$f":"C341*$K$3","v":2067.2849999999999},1983.135,1419.5637500000003,1036.915,0,null,2432.1000000000004,2333.1000000000004,1670.075,1219.9000000000001,null,2067.2850000000003,1983.1350000000002,1419.56375,1036.915]
[55,null,{"$f":"C342*$K$3","v":2331.8900000000003},2237.2212500000001,1597.2137500000001,1166.64625,0,null,2743.4,2632.0250000000001,1879.075,1372.5250000000001,null,2331.89,2237.2212500000001,1597.2137499999999,1166.64625]
[56,null,{"$f":"C343*$K$3","v":2331.8900000000003},2237.2212500000001,1597.2137500000001,1166.64625,0,null,2743.4,2632.0250000000001,1879.075,1372.5250000000001,null,2331.89,2237.2212500000001,1597.2137499999999,1166.64625]
[57,null,{"$f":"C344*$K$3","v":2331.8900000000003},2237.2212500000001,1597.2137500000001,1166.64625,0,null,2743.4,2632.0250000000001,1879.075,1372.5250000000001,null,2331.89,2237.2212500000001,1597.2137499999999,1166.64625]
[58,null,{"$f":"C345*$K$3","v":2331.8900000000003},2237.2212500000001,1597.2137500000001,1166.64625,0,null,2743.4,2632.0250000000001,1879.075,1372.5250000000001,null,2331.89,2237.2212500000001,1597.2137499999999,1166.64625]
[59,null,{"$f":"C346*$K$3","v":2331.8900000000003},2237.2212500000001,1597.2137500000001,1166.64625,0,null,2743.4,2632.0250000000001,1879.075,1372.5250000000001,null,2331.89,2237.2212500000001,1597.2137499999999,1166.64625]
[60,null,{"$f":"C347*$K$3","v":2507.67},2405.98875,1716.66,1253.13375,0,null,2950.2000000000003,2830.5750000000003,2019.6000000000001,1474.2750000000001,null,2507.67,2405.98875,1716.66,1253.13375]
[61,null,{"$f":"C348*$K$3","v":2858.9962500000001},2742.8225000000002,1954.8512500000002,1427.7450000000001,0,null,3363.5250000000001,3226.8500000000004,2299.8250000000003,1679.7,null,2858.9962500000001,2742.8225000000002,1954.8512500000002,1427.7449999999999]
[62,null,{"$f":"C349*$K$3","v":3196.2975000000001},3066.8,2185.3287500000001,1595.3437500000002,0,null,3760.3500000000004,3608.0000000000005,2570.9750000000004,1876.8750000000002,null,3196.2975000000001,3066.8,2185.3287500000001,1595.3437500000002]
[63,null,{"$f":"C350*$K$3","v":3559.7787500000004},3415.5549999999998,2433.8049999999998,1777.2012500000003,0,null,4187.9750000000004,4018.3,2863.3,2090.8250000000003,null,3559.7787500000004,3415.5550000000003,2433.8050000000003,1777.2012500000001]
[64,null,{"$f":"C351*$K$3","v":3948.2712500000002},3788.8537500000002,2700.7474999999999,1972.1487500000001,0,null,4645.0250000000005,4457.4750000000004,3177.3500000000004,2320.1750000000002,null,3948.2712500000002,3788.8537500000002,2700.7475000000004,1972.1487500000001]
[65,null,{"$f":"C352*$K$3","v":4363.4112500000001},4186.93,2986.8575000000001,2181.355,0,null,5133.4250000000002,4925.8,3513.9500000000003,2566.3000000000002,null,4363.4112500000001,4186.93,2986.8575000000001,2181.355]
[66,null,{"$f":"C353*$K$3","v":4803.7962500000003},4609.3162499999999,3290.9662499999999,2403.1837500000001,0,null,5651.5250000000005,5422.7250000000004,3871.7250000000004,2827.2750000000001,null,4803.7962500000003,4609.3162499999999,3290.9662500000004,2403.1837500000001]
[67,null,{"$f":"C354*$K$3","v":5270.1274999999996},5056.2462500000001,3613.5412500000002,2639.0375000000004,0,null,6200.1500000000005,5948.5250000000005,4251.2250000000004,3104.7500000000005,null,5270.1275000000005,5056.2462500000001,3613.5412500000002,2639.0375000000004]
[68,null,{"$f":"C355*$K$3","v":5762.1712500000003},5528.1875,3954.3487500000001,2887.7474999999999,0,null,6779.0250000000005,6503.7500000000009,4652.1750000000002,3397.3500000000004,null,5762.1712500000003,5528.1875000000009,3954.3487500000001,2887.7475000000004]
[69,null,{"$f":"C356*$K$3","v":6278.9925000000003},6024.6724999999997,4314.5574999999999,3150.7162499999999,0,null,7387.05,7087.85,5075.9500000000007,3706.7250000000004,null,6278.9925000000003,6024.6725000000006,4314.5575000000008,3150.7162500000004]
[70,null,{"$f":"C357*$K$3","v":6822.4612500000012},6545.9349999999995,4692.7650000000003,3426.5412500000002,0,null,8026.4250000000011,7701.1,5520.9000000000005,4031.2250000000004,null,6822.4612500000012,6545.9350000000004,4692.7650000000003,3426.5412500000002]
[71,null,{"$f":"C358*$K$3","v":7390.9412499999999},7091.2737500000012,5090.3737500000007,3716.8587500000003,0,null,8695.2250000000004,8342.6750000000011,5988.6750000000002,4372.7750000000005,null,7390.9412499999999,7091.2737500000003,5090.3737499999997,3716.8587500000003]
[72,null,{"$f":"C359*$K$3","v":7985.835},7662.0912500000004,5505.0462500000003,4020.2662500000001,0,null,9395.1,9014.2250000000004,6476.5250000000005,4729.7250000000004,null,7985.835,7662.0912500000004,5505.0462500000003,4020.2662500000001]
[73,null,{"$f":"C360*$K$3","v":8605.74},8256.7512500000012,5939.12,4336.7637500000001,0,null,10124.400000000001,9713.8250000000007,6987.2000000000007,5102.0750000000007,null,8605.7400000000016,8256.7512500000012,5939.1200000000008,4336.7637500000001]
[74,null,{"$f":"C361*$K$3","v":9251.3575000000001},8876.89,6390.9587499999998,4667.0524999999998,0,null,10883.95,10443.400000000001,7518.7750000000005,5490.6500000000005,null,9251.3575000000001,8876.8900000000012,6390.9587500000007,4667.0525000000007]
[75,null,{"$f":"C362*$K$3","v":9922.9212500000012},9521.1049999999996,6862.4325000000008,5011.36625,0,null,11674.025000000001,11201.300000000001,8073.4500000000007,5895.7250000000004,null,9922.9212500000012,9521.1050000000014,6862.4325000000008,5011.36625]
[76,null,{"$f":"C363*$K$3","v":9922.9212500000012},9521.1049999999996,6862.4325000000008,5011.36625,0,null,11674.025000000001,11201.300000000001,8073.4500000000007,5895.7250000000004,null,9922.9212500000012,9521.1050000000014,6862.4325000000008,5011.36625]
[77,null,{"$f":"C364*$K$3","v":9922.9212500000012},9521.1049999999996,6862.4325000000008,5011.36625,0,null,11674.025000000001,11201.300000000001,8073.4500000000007,5895.7250000000004,null,9922.9212500000012,9521.1050000000014,6862.4325000000008,5011.36625]
[78,null,{"$f":"C365*$K$3","v":9922.9212500000012},9521.1049999999996,6862.4325000000008,5011.36625,0,null,11674.025000000001,11201.300000000001,8073.4500000000007,5895.7250000000004,null,9922.9212500000012,9521.1050000000014,6862.4325000000008,5011.36625]
[79,null,{"$f":"C366*$K$3","v":9922.9212500000012},9521.1049999999996,6862.4325000000008,5011.36625,0,null,11674.025000000001,11201.300000000001,8073.4500000000007,5895.7250000000004,null,9922.9212500000012,9521.1050000000014,6862.4325000000008,5011.36625]
[80,null,{"$f":"C367*$K$3","v":9922.9212500000012},9521.1049999999996,6862.4325000000008,5011.36625,0,null,11674.025000000001,11201.300000000001,8073.4500000000007,5895.7250000000004,null,9922.9212500000012,9521.1050000000014,6862.4325000000008,5011.36625]
[81,null,{"$f":"C368*$K$3","v":9922.9212500000012},9521.1049999999996,6862.4325000000008,5011.36625,0,null,11674.025000000001,11201.300000000001,8073.4500000000007,5895.7250000000004,null,9922.9212500000012,9521.1050000000014,6862.4325000000008,5011.36625]
[82,null,{"$f":"C369*$K$3","v":9922.9212500000012},9521.1049999999996,6862.4325000000008,5011.36625,0,null,11674.025000000001,11201.300000000001,8073.4500000000007,{"$f":"L369*$K$3","v":5895.7250000000004},null,9922.9212500000012,9521.1050000000014,6862.4325000000008,5011.36625]
[83,null,{"$f":"C370*$K$3","v":9922.9212500000012},9521.1049999999996,6862.4325000000008,5011.36625,0,null,{"$f":"I370*$K$3","v":11674.025000000001},11201.300000000001,8073.4500000000007,5895.7250000000004,null,{"$f":"I895*0.85","v":9922.9212500000012},{"$f":"J895*0.85","v":9521.1050000000014},{"$f":"K895*0.85","v":6862.4325000000008},{"$f":"L895*0.85","v":5011.36625}]
[84,"o más",{"$f":"C371*$K$3","v":9922.9212500000012},9521.1049999999996,6862.4325000000008,5011.36625,0,null,11674.025000000001,11201.300000000001,8073.4500000000007,5895.7250000000004,null,9922.9212500000012,9521.1050000000014,6862.4325000000008,5011.36625]
[1,"Hijo",{"$f":"C372*$K$3","v":452.30625000000003},434.07375000000008,332.39250000000004,243.10000000000002,0,null,532.125,510.67500000000007,391.05,286,null,{"$f":"I897*0.85","v":452.30624999999998},434.07375000000008,332.39249999999998,243.1]
[2,"Hijos",{"$f":"C373*$K$3","v":768.10250000000008},737.01374999999996,564.50625000000002,412.33499999999998,0,null,903.65000000000009,867.07500000000005,664.125,485.1,null,{"$f":"I898*0.85","v":768.10250000000008},{"$f":"J898*0.85","v":737.01375000000007},{"$f":"K898*0.85","v":564.50625000000002},{"$f":"L898*0.85","v":412.33500000000004}]
[3,"Hijos o más",{"$f":"C374*$K$3","v":1084.6000000000001},1040.1875,796.62,581.80375000000004,0,null,1276,1223.75,937.2,684.47500000000002,null,1084.5999999999999,1040.1875,796.62,581.80375000000004]
[]
["BUPA GLOBAL ULTIMATE"]
["TARIFAS ANUALES"]
["EDAD"]
[" "," ",0,1000,2000,null,null,null,null,null,null,null,null,null,null,null,null,null,null,null,2,6]
[18,18,23080,14891,null,null,null,null,null,null,null,null,null,null,0,0,null,null,null,null,0,0]
[19,18,23080,14891,null,null,null,null,null,null,null,null,null,null,0,0,null,null,null,null,0,0]
[20,18,23080,14891,null,null,null,null,null,null,null,null,null,null,0,0,null,null,null,null,0,0]
[21,18,23080,14891,null,null,null,null,null,null,null,null,null,null,0,0,null,null,null,null,0,0]
[22,18,23080,14891,null,null,null,null,null,null,null,null,null,null,0,0,null,null,null,null,0,0]
[23,18,23080,14891,null,null,null,null,null,null,null,null,null,null,0,0,null,null,null,null,0,0]
[24,18,23080,14891,null,null,null,null,null,null,null,null,null,null,0,0,null,null,null,null,0,0]
[25,25,24743,15964,null,null,null,null,null,null,null,null,null,null,0,0,null,null,null,null,0,0]
[26,25,24743,15964,null,null,null,null,null,null,null,null,null,null,0,0,null,null,null,null,0,0]
[27,25,24743,15964,null,null,null,null,null,null,null,null,null,null,0,0,null,null,null,null,0,0]
[28,25,24743,15964,null,null,null,null,null,null,null,null,null,null,0,0,null,null,null,null,0,0]
[29,25,24743,15964,null,null,null,null,null,null,null,null,null,null,0,0,null,null,null,null,0,0]
[30,30,27612,17818,null,null,null,null,null,null,null,null,null,null,0,0,null,null,null,null,0,0]
[31,30,27612,17818,null,null,null,null,null,null,null,null,null,null,0,0,null,null,null,null,0,0]
[32,30,27612,17818,null,null,null,null,null,null,null,null,null,null,0,0,null,null,null,null,0,0]
[33,30,27612,17818,null,null,null,null,null,null,null,null,null,null,0,0,null,null,null,null,0,0]
[34,30,27612,17818,null,null,null,null,null,null,null,null,null,null,0,0,null,null,null,null,0,0]
[35,35,30886,19928,null,null,null,null,null,null,null,null,null,null,0,0,null,null,null,null,0,0]
[36,35,30886,19928,null,null,null,null,null,null,null,null,null,null,0,0,null,null,null,null,0,0]
[37,35,30886,19928,null,null,null,null,null,null,null,null,null,null,0,0,null,null,null,null,0,0]
[38,35,30886,19928,null,null,null,null,null,null,null,null,null,null,0,0,null,null,null,null,0,0]
[39,35,30886,19928,null,null,null,null,null,null,null,null,null,null,0,0,null,null,null,null,0,0]
[40,40,35774,23084,null,null,null,null,null,null,null,null,null,null,0,0,null,null,null,null,0,0]
[41,40,35774,23084,null,null,null,null,null,null,null,null,null,null,0,0,null,null,null,null,0,0]
[42,40,35774,23084,null,null,null,null,null,null,null,null,null,null,0,0,null,null,null,null,0,0]
[43,40,35774,23084,null,null,null,null,null,null,null,null,null,null,0,0,null,null,null,null,0,0]
[44,40,35774,23084,null,null,null,null,null,null,null,null,null,null,0,0,null,null,null,null,0,0]
[45,45,40038,25833,null,null,null,null,null,null,null,null,null,null,0,0,null,null,null,null,0,0]
[46,45,40038,25833,null,null,null,null,null,null,null,null,null,null,0,0,null,null,null,null,0,0]
[47,45,40038,25833,null,null,null,null,null,null,null,null,null,null,0,0,null,null,null,null,0,0]
[48,45,40038,25833,null,null,null,null,null,null,null,null,null,null,0,0,null,null,null,null,0,0]
[49,45,40038,25833,null,null,null,null,null,null,null,null,null,null,0,0,null,null,null,null,0,0]
[50,50,46251,29840,null,null,null,null,null,null,null,null,null,null,0,0,null,null,null,null,0,0]
[51,50,46251,29840,null,null,null,null,null,null,null,null,null,null,0,0,null,null,null,null,0,0]
[52,50,46251,29840,null,null,null,null,null,null,null,null,null,null,0,0,null,null,null,null,0,0]
[53,50,46251,29840,null,null,null,null,null,null,null,null,null,null,0,0,null,null,null,null,0,0]
[54,50,46251,29840,null,null,null,null,null,null,null,null,null,null,0,0,null,null,null,null,0,0]
[55,55,51651,33328,null,null,null,null,null,null,null,null,null,null,0,0,null,null,null,null,0,0]
[56,55,51651,33328,null,null,null,null,null,null,null,null,null,null,0,0,null,null,null,null,0,0]
[57,55,51651,33328,null,null,null,null,null,null,null,null,null,null,0,0,null,null,null,null,0,0]
[58,55,51651,33328,null,null,null,null,null,null,null,null,null,null,0,0,null,null,null,null,0,0]
[59,55,51651,33328,null,null,null,null,null,null,null,null,null,null,0,0,null,null,null,null,0,0]
[60,60,55236,35640,null,null,null,null,null,null,null,null,null,null,0,0,null,null,null,null,0,0]
[61,61,62420,40274,null,null,null,null,null,null,null,null,null,null,0,0,null,null,null,null,0,0]
[62,62,69238,44674,null,null,null,null,null,null,null,null,null,null,0,0,null,null,null,null,0,0]
[63,63,76555,49393,null,null,null,null,null,null,null,null,null,null,0,0,null,null,null,null,0,0]
[64,64,84367,54430,null,null,null,null,null,null,null,null,null,null,0,0,null,null,null,null,0,0]
[65,65,92675,59793,null,null,null,null,null,null,null,null,null,null,0,0,null,null,null,null,0,0]
[66,66,101478,65468,null,null,null,null,null,null,null,null,null,null,0,0,null,null,null,null,0,0]
[67,67,110777,71472,null,null,null,null,null,null,null,null,null,null,0,0,null,null,null,null,0,0]
[68,68,120570,77790,null,null,null,null,null,null,null,null,null,null,0,0,null,null,null,null,0,0]
[69,69,130860,84428,null,null,null,null,null,null,null,null,null,null,0,0,null,null,null,null,0,0]
[70,70,141647,91389,null,null,null,null,null,null,null,null,null,null,0,0,null,null,null,null,0,0]
[71,71,152931,98668,null,null,null,null,null,null,null,null,null,null,0,0,null,null,null,null,0,0]
[72,72,164709,106265,null,null,null,null,null,null,null,null,null,null,0,0,null,null,null,null,0,0]
[73,73,176988,114185,null,null,null,null,null,null,null,null,null,null,0,0,null,null,null,null,0,0]
[74,74,189752,122421,null,null,null,null,null,null,null,null,null,null,0,0,null,null,null,null,0,0]
[75,75,203019,130985,null,null,null,null,null,null,null,null,null,null,0,0,null,null,null,null,0,0]
[76,75,203019,130985,null,null,null,null,null,null,null,null,null,null,0,0,null,null,null,null,0,0]
[77,75,203019,130985,null,null,null,null,null,null,null,null,null,null,0,0,null,null,null,null,0,0]
[78,75,203019,130985,null,null,null,null,null,null,null,null,null,null,0,0,null,null,null,null,0,0]
[79,75,203019,130985,null,null,null,null,null,null,null,null,null,null,0,0,null,null,null,null,0,0]
[80,75,203019,130985,null,null,null,null,null,null,null,null,null,null,0,0,null,null,null,null,0,0]
[81,75,203019,130985,null,null,null,null,null,null,null,null,null,null,0,0,null,null,null,null,0,0]
[82,75,203019,130985,null,null,null,null,null,null,null,null,null,null,0,0,null,null,null,null,0,0]
[83,75,203019,130985,null,null,null,null,null,null,null,null,null,null,0,0,null,null,null,null,0,0]
[84,75,203019,130985,null,null,null,null,null,null,null,null,null,null,0,0,null,null,null,null,0,0]
[1,"1 Child",9708,6266,null,null,null,null,null,null,null,null,null,null,0,0,null,null,null,null,0,0]
[2,"2 Children",16503,10649,null,null,null,null,null,null,null,null,null,null,0,0,null,null,null,null,0,0]
[3,"3+ Children",23295,15034,null,null,null,null,null,null,null,null,null,null,0,0,null,null,null,null,0,0]
[]
["BUPA GLOBAL ULTIMATE - MENSUALES"]
["EDAD"]
[" "," ",0,1000,2000]
[18,null,{"$f":"C905*$K$2","v":2154.1333333333332},{"$f":"D905*$K$2","v":1389.8266666666668},0,0,0,null,null,null,null,null,null,null,0,0]
[19,null,{"$f":"C906*$K$2","v":2154.1333333333332},1389.8266666666668,0,0,0,null,null,null,null,null,null,null,0,0]
[20,null,2154.1333333333332,1389.8266666666668,0,0,0,null,null,null,null,null,null,null,0,0]
[21,null,2154.1333333333332,1389.8266666666668,0,0,0,null,null,null,null,null,null,null,0,0]
[22,null,2154.1333333333332,1389.8266666666668,0,0,0,null,null,null,null,null,null,null,0,0]
[23,null,2154.1333333333332,1389.8266666666668,0,0,0,null,null,null,null,null,null,null,0,0]
[24,null,2154.1333333333332,1389.8266666666668,0,0,0,null,null,null,null,null,null,null,0,0]
[25,null,2309.3466666666668,1489.9733333333334,0,0,0,null,null,null,null,null,null,null,0,0]
[26,null,2309.3466666666668,1489.9733333333334,0,0,0,null,null,null,null,null,null,null,0,0]
[27,null,2309.3466666666668,1489.9733333333334,0,0,0,null,null,null,null,null,null,null,0,0]
[28,null,2309.3466666666668,1489.9733333333334,0,0,0,null,null,null,null,null,null,null,0,0]
[29,null,2309.3466666666668,1489.9733333333334,0,0,0,null,null,null,null,null,null,null,0,0]
[30,null,2577.12,1663.0133333333333,0,0,0,null,null,null,null,null,null,null,0,0]
[31,null,2577.12,1663.0133333333333,0,0,0,null,null,null,null,null,null,null,0,0]
[32,null,2577.12,1663.0133333333333,0,0,0,null,null,null,null,null,null,null,0,0]
[33,null,2577.12,1663.0133333333333,0,0,0,null,null,null,null,null,null,null,0,0]
[34,null,2577.12,1663.0133333333333,0,0,0,null,null,null,null,null,null,null,0,0]
[35,null,2882.6933333333336,1859.9466666666667,0,0,0,null,null,null,null,null,null,null,0,0]
[36,null,2882.6933333333336,1859.9466666666667,0,0,0,null,null,null,null,null,null,null,0,0]
[37,null,2882.6933333333336,1859.9466666666667,0,0,0,null,null,null,null,null,null,null,0,0]
[38,null,2882.6933333333336,1859.9466666666667,0,0,0,null,null,null,null,null,null,null,0,0]
[39,null,2882.6933333333336,1859.9466666666667,0,0,0,null,null,null,null,null,null,null,0,0]
[40,null,3338.9066666666668,2154.5066666666667,0,0,0,null,null,null,null,null,null,null,0,0]
[41,null,3338.9066666666668,2154.5066666666667,0,0,0,null,null,null,null,null,null,null,0,0]
[42,null,3338.9066666666668,2154.5066666666667,0,0,0,null,null,null,null,null,null,null,0,0]
[43,null,3338.9066666666668,2154.5066666666667,0,0,0,null,null,null,null,null,null,null,0,0]
[44,null,3338.9066666666668,2154.5066666666667,0,0,0,null,null,null,null,null,null,null,0,0]
[45,null,3736.88,2411.08,0,0,0,null,null,null,null,null,null,null,0,0]
[46,null,3736.88,2411.08,0,0,0,null,null,null,null,null,null,null,0,0]
[47,null,3736.88,2411.08,0,0,0,null,null,null,null,null,null,null,0,0]
[48,null,3736.88,2411.08,0,0,0,null,null,null,null,null,null,null,0,0]
[49,null,3736.88,2411.08,0,0,0,null,null,null,null,null,null,null,0,0]
[50,null,4316.76,2785.0666666666666,0,0,0,null,null,null,null,null,null,null,0,0]
[51,null,4316.76,2785.0666666666666,0,0,0,null,null,null,null,null,null,null,0,0]
[52,null,4316.76,2785.0666666666666,0,0,0,null,null,null,null,null,null,null,0,0]
[53,null,4316.76,2785.0666666666666,0,0,0,null,null,null,null,null,null,null,0,0]
[54,null,4316.76,2785.0666666666666,0,0,0,null,null,null,null,null,null,null,0,0]
[55,null,4820.76,3110.6133333333337,0,0,0,null,null,null,null,null,null,null,0,0]
[56,null,4820.76,3110.6133333333337,0,0,0,null,null,null,null,null,null,null,0,0]
[57,null,4820.76,3110.6133333333337,0,0,0,null,null,null,null,null,null,null,0,0]
[58,null,4820.76,3110.6133333333337,0,0,0,null,null,null,null,null,null,null,0,0]
[59,null,4820.76,3110.6133333333337,0,0,0,null,null,null,null,null,null,null,0,0]
[60,null,5155.3600000000006,3326.4,0,0,0,null,null,null,null,null,null,null,0,0]
[61,null,5825.8666666666668,3758.9066666666668,0,0,0,null,null,null,null,null,null,null,0,0]
[62,null,6462.213333333334,4169.5733333333337,0,0,0,null,null,null,null,null,null,null,0,0]
[63,null,7145.1333333333332,4610.0133333333333,0,0,0,null,null,null,null,null,null,null,0,0]
[64,null,7874.253333333334,5080.1333333333332,0,0,0,null,null,null,null,null,null,null,0,0]
[65,null,8649.6666666666679,5580.68,0,0,0,null,null,null,null,null,null,null,0,0]
[66,null,9471.2800000000007,6110.3466666666673,0,0,0,null,null,null,null,null,null,null,0,0]
[67,null,10339.186666666666,6670.72,0,0,0,null,null,null,null,null,null,null,0,0]
[68,null,11253.2,7260.4000000000005,0,0,0,null,null,null,null,null,null,null,0,0]
[69,null,12213.6,7879.9466666666667,0,0,0,null,null,null,null,null,null,null,0,0]
[70,null,13220.386666666667,8529.6400000000012,0,0,0,null,null,null,null,null,null,null,0,0]
[71,null,14273.560000000001,9209.0133333333342,0,0,0,null,null,null,null,null,null,null,0,0]
[72,null,15372.84,9918.0666666666675,0,0,0,null,null,null,null,null,null,null,0,0]
[73,null,16518.88,10657.266666666666,0,0,0,null,null,null,null,null,null,null,0,0]
[74,null,17710.186666666668,11425.960000000001,0,0,0,null,null,null,null,null,null,null,0,0]
[75,null,18948.440000000002,12225.266666666666,0,0,0,null,null,null,null,null,null,null,0,0]
[76,null,18948.440000000002,12225.266666666666,0,0,0,null,null,null,null,null,null,null,0,0]
[77,null,18948.440000000002,12225.266666666666,0,0,0,null,null,null,null,null,null,null,0,0]
[78,null,18948.440000000002,12225.266666666666,0,0,0,null,null,null,null,null,null,null,0,0]
[79,null,18948.440000000002,12225.266666666666,0,0,0,null,null,null,null,null,null,null,0,0]
[80,null,18948.440000000002,12225.266666666666,0,null,null,null,null,null,null,null,null,null,0,0]
[81,null,18948.440000000002,12225.266666666666,0,null,null,null,null,null,null,null,null,null,0,0]
[82,null,18948.440000000002,12225.266666666666,0,null,null,null,null,null,null,null,null,null,0,0]
[83,null,{"$f":"C970*$K$2","v":18948.440000000002},12225.266666666666,0,null,null,null,null,null,null,null,null,null,0,0]
[84,"o más",18948.440000000002,12225.266666666666,0,0,0,null,null,null,null,null,null,null,0,0]
[1,"Hijo",906.08,584.82666666666671,0,0,0,null,null,null,null,null,null,null,0,0]
[2,"Hijos",1540.28,993.90666666666675,0,0,0,null,null,null,null,null,null,null,0,0]
[3,"Hijos o más",2174.2000000000003,1403.1733333333334,0,0,0,null,null,null,null,null,null,null,0,0]
[]
["BUPA GLOBAL ULTIMATE"]
["TARIFAS TRIMESTRALES"]
["EDAD"]
[" "," ",0,1000,2000]
[18,null,{"$f":"C905*$K$3","v":6347.0000000000009},{"$f":"D905*$K$3","v":4095.0250000000005},0,36.172033333333339,0,null,null,null,null,null,null,null,0,0]
[19,null,{"$f":"C906*$K$3","v":6347.0000000000009},4095.0250000000005,0,36.172033333333339,0,null,null,null,null,null,null,null,0,0]
[20,null,6347.0000000000009,4095.0250000000005,0,36.172033333333339,0,null,null,null,null,null,null,null,0,0]
[21,null,6347.0000000000009,4095.0250000000005,0,36.172033333333339,0,null,null,null,null,null,null,null,0,0]
[22,null,6347.0000000000009,4095.0250000000005,0,36.172033333333339,0,null,null,null,null,null,null,null,0,0]
[23,null,6347.0000000000009,4095.0250000000005,0,36.172033333333339,0,null,null,null,null,null,null,null,0,0]
[24,null,6347.0000000000009,4095.0250000000005,0,38.615500000000004,0,null,null,null,null,null,null,null,0,0]
[25,null,6804.3250000000007,4390.1000000000004,0,38.615500000000004,0,null,null,null,null,null,null,null,0,0]
[26,null,6804.3250000000007,4390.1000000000004,0,38.615500000000004,0,null,null,null,null,null,null,null,0,0]
[27,null,6804.3250000000007,4390.1000000000004,0,38.615500000000004,0,null,null,null,null,null,null,null,0,0]
[28,null,6804.3250000000007,4390.1000000000004,0,38.615500000000004,0,null,null,null,null,null,null,null,0,0]
[29,null,6804.3250000000007,4390.1000000000004,0,42.913383333333343,0,null,null,null,null,null,null,null,0,0]
[30,null,7593.3,4899.9500000000007,0,42.913383333333343,0,null,null,null,null,null,null,null,0,0]
[31,null,7593.3,4899.9500000000007,0,42.913383333333343,0,null,null,null,null,null,null,null,0,0]
[32,null,7593.3,4899.9500000000007,0,42.913383333333343,0,null,null,null,null,null,null,null,0,0]
[33,null,7593.3,4899.9500000000007,0,42.913383333333343,0,null,null,null,null,null,null,null,0,0]
[34,null,7593.3,4899.9500000000007,0,48.083933333333334,0,null,null,null,null,null,null,null,0,0]
[35,null,8493.6500000000015,5480.2000000000007,0,48.083933333333334,0,null,null,null,null,null,null,null,0,0]
[36,null,8493.6500000000015,5480.2000000000007,0,48.083933333333334,0,null,null,null,null,null,null,null,0,0]
[37,null,8493.6500000000015,5480.2000000000007,0,48.083933333333334,0,null,null,null,null,null,null,null,0,0]
[38,null,8493.6500000000015,5480.2000000000007,0,48.083933333333334,0,null,null,null,null,null,null,null,0,0]
[39,null,8493.6500000000015,5480.2000000000007,0,54.061700000000002,0,null,null,null,null,null,null,null,0,0]
[40,null,9837.85,6348.1,0,54.061700000000002,0,null,null,null,null,null,null,null,0,0]
[41,null,9837.85,6348.1,0,54.061700000000002,0,null,null,null,null,null,null,null,0,0]
[42,null,9837.85,6348.1,0,54.061700000000002,0,null,null,null,null,null,null,null,0,0]
[43,null,9837.85,6348.1,0,54.061700000000002,0,null,null,null,null,null,null,null,0,0]
[44,null,9837.85,6348.1,0,60.868500000000004,0,null,null,null,null,null,null,null,0,0]
[45,null,11010.45,7104.0750000000007,0,60.868500000000004,0,null,null,null,null,null,null,null,0,0]
[46,null,11010.45,7104.0750000000007,0,60.868500000000004,0,null,null,null,null,null,null,null,0,0]
[47,null,11010.45,7104.0750000000007,0,60.868500000000004,0,null,null,null,null,null,null,null,0,0]
[48,null,11010.45,7104.0750000000007,0,60.868500000000004,0,null,null,null,null,null,null,null,0,0]
[49,null,11010.45,7104.0750000000007,0,68.569783333333334,0,null,null,null,null,null,null,null,0,0]
[50,null,12719.025000000001,8206,0,68.569783333333334,0,null,null,null,null,null,null,null,0,0]
[51,null,12719.025000000001,8206,0,68.569783333333334,0,null,null,null,null,null,null,null,0,0]
[52,null,12719.025000000001,8206,0,68.569783333333334,0,null,null,null,null,null,null,null,0,0]
[53,null,12719.025000000001,8206,0,68.569783333333334,0,null,null,null,null,null,null,null,0,0]
[54,null,12719.025000000001,8206,0,77.143733333333344,0,null,null,null,null,null,null,null,0,0]
[55,null,14204.025000000001,9165.2000000000007,0,77.143733333333344,0,null,null,null,null,null,null,null,0,0]
[56,null,14204.025000000001,9165.2000000000007,0,77.143733333333344,0,null,null,null,null,null,null,null,0,0]
[57,null,14204.025000000001,9165.2000000000007,0,77.143733333333344,0,null,null,null,null,null,null,null,0,0]
[58,null,14204.025000000001,9165.2000000000007,0,77.143733333333344,0,null,null,null,null,null,null,null,0,0]
[59,null,14204.025000000001,9165.2000000000007,0,82.90333333333335,0,null,null,null,null,null,null,null,0,0]
[60,null,15189.900000000001,9801,0,92.982633333333339,0,null,null,null,null,null,null,null,0,0]
[61,null,17165.5,11075.35,0,103.91278333333334,0,null,null,null,null,null,null,null,0,0]
[62,null,19040.45,12285.35,0,115.73741666666668,0,null,null,null,null,null,null,null,0,0]
[63,null,21052.625,13583.075000000001,0,128.45653333333337,0,null,null,null,null,null,null,null,0,0]
[64,null,23200.925000000003,14968.250000000002,0,142.07013333333333,0,null,null,null,null,null,null,null,0,0]
[65,null,25485.625000000004,16443.075000000001,0,156.51276666666669,0,null,null,null,null,null,null,null,0,0]
[66,null,27906.45,18003.7,0,171.87170000000003,0,null,null,null,null,null,null,null,0,0]
[67,null,30463.675000000003,19654.800000000003,0,188.10330000000002,0,null,null,null,null,null,null,null,0,0]
[68,null,33156.75,21392.25,0,205.20756666666668,0,null,null,null,null,null,null,null,0,0]
[69,null,35986.5,23217.7,0,223.20631666666671,0,null,null,null,null,null,null,null,0,0]
[70,null,38952.925000000003,25131.975000000002,0,242.09955000000002,0,null,null,null,null,null,null,null,0,0]
[71,null,42056.025000000001,27133.7,0,261.86545000000001,0,null,null,null,null,null,null,null,0,0]
[72,null,45294.975000000006,29222.875000000004,0,282.48220000000003,0,null,null,null,null,null,null,null,0,0]
[73,null,48671.700000000004,31400.875000000004,0,303.99343333333337,0,null,null,null,null,null,null,null,0,0]
[74,null,52181.8,33665.775000000001,0,326.44278333333335,0,null,null,null,null,null,null,null,0,0]
[75,null,55830.225000000006,36020.875,0,326.44278333333335,0,null,null,null,null,null,null,null,0,0]
[76,null,55830.225000000006,36020.875,0,326.44278333333335,0,null,null,null,null,null,null,null,0,0]
[77,null,55830.225000000006,36020.875,0,326.44278333333335,0,null,null,null,null,null,null,null,0,0]
[78,null,55830.225000000006,36020.875,0,326.44278333333335,0,null,null,null,null,null,null,null,0,0]
[79,null,55830.225000000006,36020.875,0,326.44278333333335,0,null,null,null,null,null,null,null,0,0]
[80,null,55830.225000000006,36020.875,0,326.44278333333335,0,null,null,null,null,null,null,null,0,0]
[81,null,55830.225000000006,36020.875,0,326.44278333333335,0,null,null,null,null,null,null,null,0,0]
[82,null,55830.225000000006,36020.875,0,326.44278333333335,0,null,null,null,null,null,null,null,0,0]
[83,null,{"$f":"C970*$K$3","v":55830.225000000006},36020.875,0,326.44278333333335,0,null,null,null,null,null,null,null,0,0]
[84,"o más",55830.225000000006,36020.875,0,17.126083333333337,0,null,null,null,null,null,null,null,0,0]
[1,"Hijo",2669.7000000000003,1723.15,0,29.081616666666669,0,null,null,null,null,null,null,null,0,0]
[2,"Hijos",4538.3250000000007,2928.4750000000004,0,41.037150000000004,0,null,null,null,null,null,null,null,0,0]
[3,"Hijos o más",6406.1250000000009,4134.3500000000004,0,0,0]
[]
["BUPA GLOBAL MM"]
["TARIFAS ANUALES"]
["EDAD"]
[" "," ",10000,20000]
[18,null,{"$f":"L1129","v":2286.5},{"$f":"M1129","v":1772.25},0,0,0,null,2690,2085,null,{"$f":"I1129*0.85","v":2286.5},{"$f":"J1129*0.85","v":1772.25}]
[19,null,{"$f":"L1130","v":2286.5},{"$f":"M1130","v":1772.25},{"$f":"N1130","v":0},{"$f":"O1130","v":0},{"$f":"P1130","v":0},null,2690,2085,null,{"$f":"I1130*0.85","v":2286.5},{"$f":"J1130*0.85","v":1772.25}]
[20,null,2286.5,1772.25,0,0,0,null,2690,2085,null,2286.5,1772.25]
[21,null,2286.5,1772.25,0,0,0,null,2690,2085,null,2286.5,1772.25]
[22,null,2286.5,1772.25,0,0,0,null,2690,2085,null,2286.5,1772.25]
[23,null,2286.5,1772.25,0,0,0,null,2690,2085,null,2286.5,1772.25]
[24,null,2286.5,1772.25,0,0,0,null,2690,2085,null,2286.5,1772.25]
[25,null,2446.2999999999997,1881.05,0,0,0,null,2878,2213,null,2446.2999999999997,1881.05]
[26,null,2446.2999999999997,1881.05,0,0,0,null,2878,2213,null,2446.2999999999997,1881.05]
[27,null,2446.2999999999997,1881.05,0,0,0,null,2878,2213,null,2446.2999999999997,1881.05]
[28,null,2446.2999999999997,1881.05,0,0,0,null,2878,2213,null,2446.2999999999997,1881.05]
[29,null,2446.2999999999997,1881.05,0,0,0,null,2878,2213,null,2446.2999999999997,1881.05]
[30,null,2725.1,2078.25,0,0,0,null,3206,2445,null,2725.1,2078.25]
[31,null,2725.1,2078.25,0,0,0,null,3206,2445,null,2725.1,2078.25]
[32,null,2725.1,2078.25,0,0,0,null,3206,2445,null,2725.1,2078.25]
[33,null,2725.1,2078.25,0,0,0,null,3206,2445,null,2725.1,2078.25]
[34,null,2725.1,2078.25,0,0,0,null,3206,2445,null,2725.1,2078.25]
[35,null,3047.25,2314.5499999999997,0,0,0,null,3585,2723,null,3047.25,2314.5499999999997]
[36,null,3047.25,2314.5499999999997,0,0,0,null,3585,2723,null,3047.25,2314.5499999999997]
[37,null,3047.25,2314.5499999999997,0,0,0,null,3585,2723,null,3047.25,2314.5499999999997]
[38,null,3047.25,2314.5499999999997,0,0,0,null,3585,2723,null,3047.25,2314.5499999999997]
[39,null,3047.25,2314.5499999999997,0,0,0,null,3585,2723,null,3047.25,2314.5499999999997]
[40,null,3527.5,2676.65,0,0,0,null,4150,3149,null,3527.5,2676.65]
[41,null,3527.5,2676.65,0,0,0,null,4150,3149,null,3527.5,2676.65]
[42,null,3527.5,2676.65,0,0,0,null,4150,3149,null,3527.5,2676.65]
[43,null,3527.5,2676.65,0,0,0,null,4150,3149,null,3527.5,2676.65]
[44,null,3527.5,2676.65,0,0,0,null,4150,3149,null,3527.5,2676.65]
[45,null,3949.95,3002.2,0,0,0,null,4647,3532,null,3949.95,3002.2]
[46,null,3949.95,3002.2,0,0,0,null,4647,3532,null,3949.95,3002.2]
[47,null,3949.95,3002.2,0,0,0,null,4647,3532,null,3949.95,3002.2]
[48,null,3949.95,3002.2,0,0,0,null,4647,3532,null,3949.95,3002.2]
[49,null,3949.95,3002.2,0,0,0,null,4647,3532,null,3949.95,3002.2]
[50,null,4567.05,3477.35,0,0,0,null,5373,4091,null,4567.05,3477.35]
[51,null,4567.05,3477.35,0,0,0,null,5373,4091,null,4567.05,3477.35]
[52,null,4567.05,3477.35,0,0,0,null,5373,4091,null,4567.05,3477.35]
[53,null,4567.05,3477.35,0,0,0,null,5373,4091,null,4567.05,3477.35]
[54,null,4567.05,3477.35,0,0,0,null,5373,4091,null,4567.05,3477.35]
[55,null,5104.25,3904.0499999999997,0,0,0,null,6005,4593,null,5104.25,3904.0499999999997]
[56,null,5104.25,3904.0499999999997,0,0,0,null,6005,4593,null,5104.25,3904.0499999999997]
[57,null,5104.25,3904.0499999999997,0,0,0,null,6005,4593,null,5104.25,3904.0499999999997]
[58,null,5104.25,3904.0499999999997,0,0,0,null,6005,4593,null,5104.25,3904.0499999999997]
[59,null,5104.25,3904.0499999999997,0,0,0,null,6005,4593,null,5104.25,3904.0499999999997]
[60,null,5460.4,4187.0999999999995,0,0,0,null,6424,4926,null,5460.4,4187.0999999999995]
[61,null,6176.95,4762.55,0,0,0,null,7267,5603,null,6176.95,4762.55]
[62,null,6860.3499999999995,5316.75,0,0,0,null,8071,6255,null,6860.3499999999995,5316.75]
[63,null,7593.05,5913.45,0,0,0,null,8933,6957,null,7593.05,5913.45]
[64,null,8377.6,6558.5999999999995,0,0,0,null,9856,7716,null,8377.6,6558.5999999999995]
[65,null,9211.4499999999989,7247.0999999999995,0,0,0,null,10837,8526,null,9211.4499999999989,7247.0999999999995]
[66,null,10098,7983.2,0,0,0,null,11880,9392,null,10098,7983.2]
[67,null,11034.699999999999,8761.7999999999993,0,0,0,null,12982,10308,null,11034.699999999999,8761.7999999999993]
[68,null,12021.55,9588.85,0,0,0,null,14143,11281,null,12021.55,9588.85]
[69,null,13058.55,10458.4,0,0,0,null,15363,12304,null,13058.55,10458.4]
[70,null,14144,11373,0,0,0,null,16640,13380,null,14144,11373]
[71,null,15287.25,12334.35,0,0,0,null,17985,14511,null,15287.25,12334.35]
[72,null,16477.25,13342.449999999999,0,0,0,null,19385,15697,null,16477.25,13342.449999999999]
[73,null,17718.25,14393.9,0,0,0,null,20845,16934,null,17718.25,14393.9]
[74,null,19008.55,15491.25,0,0,0,null,22363,18225,null,19008.55,15491.25]
[75,null,20351.55,16635.349999999999,0,0,0,null,23943,19571,null,20351.55,16635.349999999999]
[76,null,20351.55,16635.349999999999,0,0,0,null,23943,19571,null,20351.55,16635.349999999999]
[77,null,20351.55,16635.349999999999,0,0,0,null,23943,19571,null,20351.55,16635.349999999999]
[78,null,20351.55,16635.349999999999,0,0,0,null,23943,19571,null,20351.55,16635.349999999999]
[79,null,20351.55,16635.349999999999,0,0,0,null,23943,19571,null,20351.55,16635.349999999999]
[80,null,20351.55,16635.349999999999,0,0,0,null,23943,19571,null,20351.55,16635.349999999999]
[81,null,20351.55,16635.349999999999,0,0,0,null,23943,19571,null,20351.55,16635.349999999999]
[82,null,20351.55,16635.349999999999,0,0,0,null,23943,19571,null,20351.55,16635.349999999999]
[83,null,{"$f":"L1194","v":20351.55},{"$f":"M1194","v":16635.349999999999},{"$f":"N1194","v":0},{"$f":"O1194","v":0},{"$f":"P1194","v":0},null,23943,19571,null,{"$f":"I1194*0.85","v":20351.55},{"$f":"J1194*0.85","v":16635.349999999999}]
[84,"o más",20351.55,16635.349999999999,0,0,0,null,23943,19571,null,20351.55,16635.349999999999]
[1,"Hijo",965.6,758.19999999999993,0,0,0,null,1136,892,null,{"$f":"I1196*0.85","v":965.6},{"$f":"J1196*0.85","v":758.19999999999993}]
[2,"Hijos",1638.8,1287.75,0,0,0,null,1928,1515,null,{"$f":"I1197*0.85","v":1638.8},{"$f":"J1197*0.85","v":1287.75}]
[3,"Hijos o más",2314.5499999999997,1815.6,0,0,0,null,2723,2136,null,2314.5499999999997,1815.6]
[]
["BUPA GLOBAL MM - MENSUALES"]
["EDAD"]
[" "," ",10000,20000]
[18,null,{"$f":"C1129*$K$2","v":213.40666666666667},{"$f":"D1129*$K$2","v":165.41},0,0,0,null,{"$f":"I1129*$K$2","v":251.06666666666669},{"$f":"J1129*$K$2","v":194.60000000000002},null,{"$f":"I1203*0.85","v":213.40666666666669},{"$f":"J1203*0.85","v":165.41000000000003}]
[19,null,{"$f":"C1130*$K$2","v":213.40666666666667},165.41,0,0,0,null,{"$f":"I1130*$K$2","v":251.06666666666669},194.60000000000002,null,{"$f":"I1204*0.85","v":213.40666666666669},{"$f":"J1204*0.85","v":165.41000000000003}]
[20,null,{"$f":"C1131*$K$2","v":213.40666666666667},165.41,0,0,0,null,251.06666666666669,194.60000000000002,null,213.40666666666669,165.41000000000003]
[21,null,{"$f":"C1132*$K$2","v":213.40666666666667},165.41,0,0,0,null,251.06666666666669,194.60000000000002,null,213.40666666666669,165.41000000000003]
[22,null,{"$f":"C1133*$K$2","v":213.40666666666667},165.41,0,0,0,null,251.06666666666669,194.60000000000002,null,213.40666666666669,165.41000000000003]
[23,null,{"$f":"C1134*$K$2","v":213.40666666666667},165.41,0,0,0,null,251.06666666666669,194.60000000000002,null,213.40666666666669,165.41000000000003]
[24,null,{"$f":"C1135*$K$2","v":213.40666666666667},165.41,0,0,0,null,251.06666666666669,194.60000000000002,null,213.40666666666669,165.41000000000003]
[25,null,{"$f":"C1136*$K$2","v":228.32133333333331},175.56466666666668,0,0,0,null,268.61333333333334,206.54666666666668,null,228.32133333333334,175.56466666666668]
[26,null,{"$f":"C1137*$K$2","v":228.32133333333331},175.56466666666668,0,0,0,null,268.61333333333334,206.54666666666668,null,228.32133333333334,175.56466666666668]
[27,null,{"$f":"C1138*$K$2","v":228.32133333333331},175.56466666666668,0,0,0,null,268.61333333333334,206.54666666666668,null,228.32133333333334,175.56466666666668]
[28,null,{"$f":"C1139*$K$2","v":228.32133333333331},175.56466666666668,0,0,0,null,268.61333333333334,206.54666666666668,null,228.32133333333334,175.56466666666668]
[29,null,{"$f":"C1140*$K$2","v":228.32133333333331},175.56466666666668,0,0,0,null,268.61333333333334,206.54666666666668,null,228.32133333333334,175.56466666666668]
[30,null,{"$f":"C1141*$K$2","v":254.34266666666667},193.97,0,0,0,null,299.22666666666669,228.20000000000002,null,254.34266666666667,193.97]
[31,null,{"$f":"C1142*$K$2","v":254.34266666666667},193.97,0,0,0,null,299.22666666666669,228.20000000000002,null,254.34266666666667,193.97]
[32,null,{"$f":"C1143*$K$2","v":254.34266666666667},193.97,0,0,0,null,299.22666666666669,228.20000000000002,null,254.34266666666667,193.97]
[33,null,{"$f":"C1144*$K$2","v":254.34266666666667},193.97,0,0,0,null,299.22666666666669,228.20000000000002,null,254.34266666666667,193.97]
[34,null,{"$f":"C1145*$K$2","v":254.34266666666667},193.97,0,0,0,null,299.22666666666669,228.20000000000002,null,254.34266666666667,193.97]
[35,null,{"$f":"C1146*$K$2","v":284.41000000000003},216.02466666666666,0,0,0,null,334.6,254.14666666666668,null,284.41000000000003,216.02466666666666]
[36,null,{"$f":"C1147*$K$2","v":284.41000000000003},216.02466666666666,0,0,0,null,334.6,254.14666666666668,null,284.41000000000003,216.02466666666666]
[37,null,{"$f":"C1148*$K$2","v":284.41000000000003},216.02466666666666,0,0,0,null,334.6,254.14666666666668,null,284.41000000000003,216.02466666666666]
[38,null,{"$f":"C1149*$K$2","v":284.41000000000003},216.02466666666666,0,0,0,null,334.6,254.14666666666668,null,284.41000000000003,216.02466666666666]
[39,null,{"$f":"C1150*$K$2","v":284.41000000000003},216.02466666666666,0,0,0,null,334.6,254.14666666666668,null,284.41000000000003,216.02466666666666]
[40,null,{"$f":"C1151*$K$2","v":329.23333333333335},249.82066666666668,0,0,0,null,387.33333333333337,293.90666666666669,null,329.23333333333335,249.82066666666668]
[41,null,{"$f":"C1152*$K$2","v":329.23333333333335},249.82066666666668,0,0,0,null,387.33333333333337,293.90666666666669,null,329.23333333333335,249.82066666666668]
[42,null,{"$f":"C1153*$K$2","v":329.23333333333335},249.82066666666668,0,0,0,null,387.33333333333337,293.90666666666669,null,329.23333333333335,249.82066666666668]
[43,null,{"$f":"C1154*$K$2","v":329.23333333333335},249.82066666666668,0,0,0,null,387.33333333333337,293.90666666666669,null,329.23333333333335,249.82066666666668]
[44,null,{"$f":"C1155*$K$2","v":329.23333333333335},249.82066666666668,0,0,0,null,387.33333333333337,293.90666666666669,null,329.23333333333335,249.82066666666668]
[45,null,{"$f":"C1156*$K$2","v":368.66199999999998},280.20533333333333,0,0,0,null,433.72,329.65333333333336,null,368.66200000000003,280.20533333333333]
[46,null,{"$f":"C1157*$K$2","v":368.66199999999998},280.20533333333333,0,0,0,null,433.72,329.65333333333336,null,368.66200000000003,280.20533333333333]
[47,null,{"$f":"C1158*$K$2","v":368.66199999999998},280.20533333333333,0,0,0,null,433.72,329.65333333333336,null,368.66200000000003,280.20533333333333]
[48,null,{"$f":"C1159*$K$2","v":368.66199999999998},280.20533333333333,0,0,0,null,433.72,329.65333333333336,null,368.66200000000003,280.20533333333333]
[49,null,{"$f":"C1160*$K$2","v":368.66199999999998},280.20533333333333,0,0,0,null,433.72,329.65333333333336,null,368.66200000000003,280.20533333333333]
[50,null,{"$f":"C1161*$K$2","v":426.25800000000004},324.55266666666665,0,0,0,null,501.48,381.82666666666671,null,426.25799999999998,324.55266666666671]
[51,null,{"$f":"C1162*$K$2","v":426.25800000000004},324.55266666666665,0,0,0,null,501.48,381.82666666666671,null,426.25799999999998,324.55266666666671]
[52,null,{"$f":"C1163*$K$2","v":426.25800000000004},324.55266666666665,0,0,0,null,501.48,381.82666666666671,null,426.25799999999998,324.55266666666671]
[53,null,{"$f":"C1164*$K$2","v":426.25800000000004},324.55266666666665,0,0,0,null,501.48,381.82666666666671,null,426.25799999999998,324.55266666666671]
[54,null,{"$f":"C1165*$K$2","v":426.25800000000004},324.55266666666665,0,0,0,null,501.48,381.82666666666671,null,426.25799999999998,324.55266666666671]
[55,null,{"$f":"C1166*$K$2","v":476.3966666666667},364.37799999999999,0,0,0,null,560.4666666666667,428.68,null,476.3966666666667,364.37799999999999]
[56,null,{"$f":"C1167*$K$2","v":476.3966666666667},364.37799999999999,0,0,0,null,560.4666666666667,428.68,null,476.3966666666667,364.37799999999999]
[57,null,{"$f":"C1168*$K$2","v":476.3966666666667},364.37799999999999,0,0,0,null,560.4666666666667,428.68,null,476.3966666666667,364.37799999999999]
[58,null,{"$f":"C1169*$K$2","v":476.3966666666667},364.37799999999999,0,0,0,null,560.4666666666667,428.68,null,476.3966666666667,364.37799999999999]
[59,null,{"$f":"C1170*$K$2","v":476.3966666666667},364.37799999999999,0,0,0,null,560.4666666666667,428.68,null,476.3966666666667,364.37799999999999]
[60,null,{"$f":"C1171*$K$2","v":509.63733333333334},390.79599999999999,0,0,0,null,599.57333333333338,459.76000000000005,null,509.63733333333334,390.79600000000005]
[61,null,{"$f":"C1172*$K$2","v":576.51533333333339},444.50466666666671,0,0,0,null,678.25333333333333,522.94666666666672,null,576.51533333333327,444.50466666666671]
[62,null,{"$f":"C1173*$K$2","v":640.29933333333327},496.23,0,0,0,null,753.29333333333341,583.80000000000007,null,640.29933333333338,496.23]
[63,null,{"$f":"C1174*$K$2","v":708.68466666666677},551.92200000000003,0,0,0,null,833.74666666666667,649.32000000000005,null,708.68466666666666,551.92200000000003]
[64,null,{"$f":"C1175*$K$2","v":781.90933333333339},612.13599999999997,0,0,0,null,919.89333333333343,720.16000000000008,null,781.90933333333339,612.13600000000008]
[65,null,{"$f":"C1176*$K$2","v":859.7353333333333},676.39599999999996,0,0,0,null,1011.4533333333334,795.76,null,859.7353333333333,676.39599999999996]
[66,null,{"$f":"C1177*$K$2","v":942.48},745.09866666666665,0,0,0,null,1108.8,876.5866666666667,null,942.4799999999999,745.09866666666665]
[67,null,{"$f":"C1178*$K$2","v":1029.9053333333334},817.76799999999992,0,0,0,null,1211.6533333333334,962.08,null,1029.9053333333334,817.76800000000003]
[68,null,{"$f":"C1179*$K$2","v":1122.0113333333334},894.95933333333346,0,0,0,null,1320.0133333333333,1052.8933333333334,null,1122.0113333333334,894.95933333333335]
[69,null,{"$f":"C1180*$K$2","v":1218.798},976.11733333333336,0,0,0,null,1433.88,1148.3733333333334,null,1218.798,976.11733333333336]
[70,null,{"$f":"C1181*$K$2","v":1320.1066666666668},1061.48,0,0,0,null,1553.0666666666668,1248.8,null,1320.1066666666668,1061.48]
[71,null,{"$f":"C1182*$K$2","v":1426.8100000000002},1151.2060000000001,0,0,0,null,1678.6000000000001,1354.3600000000001,null,1426.8100000000002,1151.2060000000001]
[72,null,{"$f":"C1183*$K$2","v":1537.8766666666668},1245.2953333333332,0,0,0,null,1809.2666666666667,1465.0533333333335,null,1537.8766666666666,1245.2953333333335]
[73,null,{"$f":"C1184*$K$2","v":1653.7033333333334},1343.4306666666666,0,0,0,null,1945.5333333333335,1580.5066666666667,null,1653.7033333333334,1343.4306666666666]
[74,null,{"$f":"C1185*$K$2","v":1774.1313333333333},1445.8500000000001,0,0,0,null,2087.2133333333336,1701,null,1774.1313333333335,1445.85]
[75,null,{"$f":"C1186*$K$2","v":1899.4780000000001},1552.6326666666666,0,0,0,null,2234.6800000000003,1826.6266666666668,null,1899.4780000000003,1552.6326666666666]
[76,null,{"$f":"C1187*$K$2","v":1899.4780000000001},1552.6326666666666,0,0,0,null,2234.6800000000003,1826.6266666666668,null,1899.4780000000003,1552.6326666666666]
[77,null,{"$f":"C1188*$K$2","v":1899.4780000000001},1552.6326666666666,0,0,0,null,2234.6800000000003,1826.6266666666668,null,1899.4780000000003,1552.6326666666666]
[78,null,{"$f":"C1189*$K$2","v":1899.4780000000001},1552.6326666666666,0,0,0,null,2234.6800000000003,1826.6266666666668,null,1899.4780000000003,1552.6326666666666]
[79,null,{"$f":"C1190*$K$2","v":1899.4780000000001},1552.6326666666666,0,0,0,null,2234.6800000000003,1826.6266666666668,null,1899.4780000000003,1552.6326666666666]
[80,null,{"$f":"C1191*$K$2","v":1899.4780000000001},1552.6326666666666,0,null,null,null,2234.6800000000003,1826.6266666666668,null,1899.4780000000003,1552.6326666666666]
[81,null,{"$f":"C1192*$K$2","v":1899.4780000000001},1552.6326666666666,0,null,null,null,2234.6800000000003,1826.6266666666668,null,1899.4780000000003,1552.6326666666666]
[82,null,{"$f":"C1193*$K$2","v":1899.4780000000001},1552.6326666666666,0,null,null,null,2234.6800000000003,1826.6266666666668,null,1899.4780000000003,1552.6326666666666]
[83,null,{"$f":"C1194*$K$2","v":1899.4780000000001},1552.6326666666666,0,null,null,null,{"$f":"I1194*$K$2","v":2234.6800000000003},1826.6266666666668,null,{"$f":"I1268*0.85","v":1899.4780000000003},{"$f":"J1268*0.85","v":1552.6326666666666}]
[84,"o más",{"$f":"C1195*$K$2","v":1899.4780000000001},1552.6326666666666,0,0,0,null,2234.6800000000003,1826.6266666666668,null,1899.4780000000003,1552.6326666666666]
[1,"Hijo",{"$f":"C1196*$K$2","v":90.122666666666674},70.765333333333331,0,0,0,null,106.02666666666667,83.25333333333333,null,{"$f":"I1270*0.85","v":90.122666666666674},{"$f":"J1270*0.85","v":70.765333333333331}]
[2,"Hijos",{"$f":"C1197*$K$2","v":152.95466666666667},120.19000000000001,0,0,0,null,179.94666666666669,141.4,null,{"$f":"I1271*0.85","v":152.95466666666667},{"$f":"J1271*0.85","v":120.19}]
[3,"Hijos o más",{"$f":"C1198*$K$2","v":216.02466666666666},169.45599999999999,0,0,0,null,254.14666666666668,199.36,null,216.02466666666666,169.45600000000002]
[]
["BUPA GLOBAL MM"]
["TARIFAS TRIMESTRALES"]
["EDAD"]
[" "," ",10000,20000]
[18,null,{"$f":"C1129*$K$3","v":628.78750000000002},{"$f":"D1129*$K$3","v":487.36875000000003},0,0,0,null,{"$f":"I1129*$K$3","v":739.75000000000011},{"$f":"J1129*$K$3","v":573.375},null,{"$f":"I1278*0.85","v":628.78750000000014},{"$f":"J1278*0.85","v":487.36874999999998}]
[19,null,{"$f":"C1130*$K$3","v":628.78750000000002},487.36875000000003,0,0,0,null,{"$f":"I1130*$K$3","v":739.75000000000011},573.375,null,{"$f":"I1279*0.85","v":628.78750000000014},{"$f":"J1279*0.85","v":487.36874999999998}]
[20,null,{"$f":"C1131*$K$3","v":628.78750000000002},487.36875000000003,0,0,0,null,739.75000000000011,573.375,null,628.78750000000014,487.36874999999998]
[21,null,{"$f":"C1132*$K$3","v":628.78750000000002},487.36875000000003,0,0,0,null,739.75000000000011,573.375,null,628.78750000000014,487.36874999999998]
[22,null,{"$f":"C1133*$K$3","v":628.78750000000002},487.36875000000003,0,0,0,null,739.75000000000011,573.375,null,628.78750000000014,487.36874999999998]
[23,null,{"$f":"C1134*$K$3","v":628.78750000000002},487.36875000000003,0,0,0,null,739.75000000000011,573.375,null,628.78750000000014,487.36874999999998]
[24,null,{"$f":"C1135*$K$3","v":628.78750000000002},487.36875000000003,0,0,0,null,739.75000000000011,573.375,null,628.78750000000014,487.36874999999998]
[25,null,{"$f":"C1136*$K$3","v":672.73249999999996},517.28875000000005,0,0,0,null,791.45,608.57500000000005,null,672.73250000000007,517.28875000000005]
[26,null,{"$f":"C1137*$K$3","v":672.73249999999996},517.28875000000005,0,0,0,null,791.45,608.57500000000005,null,672.73250000000007,517.28875000000005]
[27,null,{"$f":"C1138*$K$3","v":672.73249999999996},517.28875000000005,0,0,0,null,791.45,608.57500000000005,null,672.73250000000007,517.28875000000005]
[28,null,{"$f":"C1139*$K$3","v":672.73249999999996},517.28875000000005,0,0,0,null,791.45,608.57500000000005,null,672.73250000000007,517.28875000000005]
[29,null,{"$f":"C1140*$K$3","v":672.73249999999996},517.28875000000005,0,0,0,null,791.45,608.57500000000005,null,672.73250000000007,517.28875000000005]
[30,null,{"$f":"C1141*$K$3","v":749.40250000000003},571.51875000000007,0,0,0,null,881.65000000000009,672.375,null,749.40250000000003,571.51874999999995]
[31,null,{"$f":"C1142*$K$3","v":749.40250000000003},571.51875000000007,0,0,0,null,881.65000000000009,672.375,null,749.40250000000003,571.51874999999995]
[32,null,{"$f":"C1143*$K$3","v":749.40250000000003},571.51875000000007,0,0,0,null,881.65000000000009,672.375,null,749.40250000000003,571.51874999999995]
[33,null,{"$f":"C1144*$K$3","v":749.40250000000003},571.51875000000007,0,0,0,null,881.65000000000009,672.375,null,749.40250000000003,571.51874999999995]
[34,null,{"$f":"C1145*$K$3","v":749.40250000000003},571.51875000000007,0,0,0,null,881.65000000000009,672.375,null,749.40250000000003,571.51874999999995]
[35,null,{"$f":"C1146*$K$3","v":837.99375000000009},636.50125000000003,0,0,0,null,985.87500000000011,748.82500000000005,null,837.99375000000009,636.50125000000003]
[36,null,{"$f":"C1147*$K$3","v":837.99375000000009},636.50125000000003,0,0,0,null,985.87500000000011,748.82500000000005,null,837.99375000000009,636.50125000000003]
[37,null,{"$f":"C1148*$K$3","v":837.99375000000009},636.50125000000003,0,0,0,null,985.87500000000011,748.82500000000005,null,837.99375000000009,636.50125000000003]
[38,null,{"$f":"C1149*$K$3","v":837.99375000000009},636.50125000000003,0,0,0,null,985.87500000000011,748.82500000000005,null,837.99375000000009,636.50125000000003]
[39,null,{"$f":"C1150*$K$3","v":837.99375000000009},636.50125000000003,0,0,0,null,985.87500000000011,748.82500000000005,null,837.99375000000009,636.50125000000003]
[40,null,{"$f":"C1151*$K$3","v":970.06250000000011},736.07875000000013,0,0,0,null,1141.25,865.97500000000002,null,970.0625,736.07875000000001]
[41,null,{"$f":"C1152*$K$3","v":970.06250000000011},736.07875000000013,0,0,0,null,1141.25,865.97500000000002,null,970.0625,736.07875000000001]
[42,null,{"$f":"C1153*$K$3","v":970.06250000000011},736.07875000000013,0,0,0,null,1141.25,865.97500000000002,null,970.0625,736.07875000000001]
[43,null,{"$f":"C1154*$K$3","v":970.06250000000011},736.07875000000013,0,0,0,null,1141.25,865.97500000000002,null,970.0625,736.07875000000001]
[44,null,{"$f":"C1155*$K$3","v":970.06250000000011},736.07875000000013,0,0,0,null,1141.25,865.97500000000002,null,970.0625,736.07875000000001]
[45,null,{"$f":"C1156*$K$3","v":1086.2362499999999},825.60500000000002,0,0,0,null,1277.9250000000002,971.30000000000007,null,1086.2362500000002,825.60500000000002]
[46,null,{"$f":"C1157*$K$3","v":1086.2362499999999},825.60500000000002,0,0,0,null,1277.9250000000002,971.30000000000007,null,1086.2362500000002,825.60500000000002]
[47,null,{"$f":"C1158*$K$3","v":1086.2362499999999},825.60500000000002,0,0,0,null,1277.9250000000002,971.30000000000007,null,1086.2362500000002,825.60500000000002]
[48,null,{"$f":"C1159*$K$3","v":1086.2362499999999},825.60500000000002,0,0,0,null,1277.9250000000002,971.30000000000007,null,1086.2362500000002,825.60500000000002]
[49,null,{"$f":"C1160*$K$3","v":1086.2362499999999},825.60500000000002,0,0,0,null,1277.9250000000002,971.30000000000007,null,1086.2362500000002,825.60500000000002]
[50,null,{"$f":"C1161*$K$3","v":1255.9387500000003},956.27125000000001,0,0,0,null,1477.575,1125.0250000000001,null,1255.93875,956.27125000000001]
[51,null,{"$f":"C1162*$K$3","v":1255.9387500000003},956.27125000000001,0,0,0,null,1477.575,1125.0250000000001,null,1255.93875,956.27125000000001]
[52,null,{"$f":"C1163*$K$3","v":1255.9387500000003},956.27125000000001,0,0,0,null,1477.575,1125.0250000000001,null,1255.93875,956.27125000000001]
[53,null,{"$f":"C1164*$K$3","v":1255.9387500000003},956.27125000000001,0,0,0,null,1477.575,1125.0250000000001,null,1255.93875,956.27125000000001]
[54,null,{"$f":"C1165*$K$3","v":1255.9387500000003},956.27125000000001,0,0,0,null,1477.575,1125.0250000000001,null,1255.93875,956.27125000000001]
[55,null,{"$f":"C1166*$K$3","v":1403.66875},1073.61375,0,0,0,null,1651.3750000000002,1263.075,null,1403.66875,1073.61375]
[56,null,{"$f":"C1167*$K$3","v":1403.66875},1073.61375,0,0,0,null,1651.3750000000002,1263.075,null,1403.66875,1073.61375]
[57,null,{"$f":"C1168*$K$3","v":1403.66875},1073.61375,0,0,0,null,1651.3750000000002,1263.075,null,1403.66875,1073.61375]
[58,null,{"$f":"C1169*$K$3","v":1403.66875},1073.61375,0,0,0,null,1651.3750000000002,1263.075,null,1403.66875,1073.61375]
[59,null,{"$f":"C1170*$K$3","v":1403.66875},1073.61375,0,0,0,null,1651.3750000000002,1263.075,null,1403.66875,1073.61375]
[60,null,{"$f":"C1171*$K$3","v":1501.6100000000001},1151.4524999999999,0,0,0,null,1766.6000000000001,1354.65,null,1501.6100000000001,1151.4525000000001]
[61,null,{"$f":"C1172*$K$3","v":1698.6612500000001},1309.7012500000001,0,0,0,null,1998.4250000000002,1540.825,null,1698.6612500000001,1309.7012500000001]
[62,null,{"$f":"C1173*$K$3","v":1886.5962500000001},1462.10625,0,0,0,null,2219.5250000000001,1720.1250000000002,null,1886.5962500000001,1462.10625]
[63,null,{"$f":"C1174*$K$3","v":2088.0887500000003},1626.19875,0,0,0,null,2456.5750000000003,1913.1750000000002,null,2088.0887500000003,1626.19875]
[64,null,{"$f":"C1175*$K$3","v":2303.84},1803.615,0,0,0,null,2710.4,2121.9,null,2303.84,1803.615]
[65,null,{"$f":"C1176*$K$3","v":2533.1487499999998},1992.9525000000001,0,0,0,null,2980.1750000000002,2344.65,null,2533.1487500000003,1992.9525000000001]
[66,null,{"$f":"C1177*$K$3","v":2776.9500000000003},2195.38,0,0,0,null,3267.0000000000005,2582.8000000000002,null,2776.9500000000003,2195.38]
[67,null,{"$f":"C1178*$K$3","v":3034.5425},2409.4949999999999,0,0,0,null,3570.05,2834.7000000000003,null,3034.5425,2409.4950000000003]
[68,null,{"$f":"C1179*$K$3","v":3305.92625},2636.9337500000001,0,0,0,null,3889.3250000000003,3102.2750000000001,null,3305.92625,2636.9337500000001]
[69,null,{"$f":"C1180*$K$3","v":3591.1012500000002},2876.06,0,0,0,null,4224.8250000000007,3383.6000000000004,null,3591.1012500000006,2876.0600000000004]
[70,null,{"$f":"C1181*$K$3","v":3889.6000000000004},3127.5750000000003,0,0,0,null,4576,3679.5000000000005,null,3889.6,3127.5750000000003]
[71,null,{"$f":"C1182*$K$3","v":4203.9937500000005},3391.9462500000004,0,0,0,null,4945.875,3990.5250000000005,null,4203.9937499999996,3391.9462500000004]
[72,null,{"$f":"C1183*$K$3","v":4531.2437500000005},3669.1737499999999,0,0,0,null,5330.875,4316.6750000000002,null,4531.2437499999996,3669.1737499999999]
[73,null,{"$f":"C1184*$K$3","v":4872.5187500000002},3958.3225000000002,0,0,0,null,5732.3750000000009,4656.8500000000004,null,4872.5187500000011,3958.3225000000002]
[74,null,{"$f":"C1185*$K$3","v":5227.3512500000006},4260.09375,0,0,0,null,6149.8250000000007,5011.875,null,5227.3512500000006,4260.09375]
[75,null,{"$f":"C1186*$K$3","v":5596.6762500000004},4574.7212499999996,0,0,0,null,6584.3250000000007,5382.0250000000005,null,5596.6762500000004,4574.7212500000005]
[76,null,{"$f":"C1187*$K$3","v":5596.6762500000004},4574.7212499999996,0,0,0,null,6584.3250000000007,5382.0250000000005,null,5596.6762500000004,4574.7212500000005]
[77,null,{"$f":"C1188*$K$3","v":5596.6762500000004},4574.7212499999996,0,0,0,null,6584.3250000000007,5382.0250000000005,null,5596.6762500000004,4574.7212500000005]
[78,null,{"$f":"C1189*$K$3","v":5596.6762500000004},4574.7212499999996,0,0,0,null,6584.3250000000007,5382.0250000000005,null,5596.6762500000004,4574.7212500000005]
[79,null,{"$f":"C1190*$K$3","v":5596.6762500000004},4574.7212499999996,0,0,0,null,6584.3250000000007,5382.0250000000005,null,5596.6762500000004,4574.7212500000005]
[80,null,{"$f":"C1191*$K$3","v":5596.6762500000004},4574.7212499999996,0,0,0,null,6584.3250000000007,5382.0250000000005,null,5596.6762500000004,4574.7212500000005]
[81,null,{"$f":"C1192*$K$3","v":5596.6762500000004},4574.7212499999996,0,0,0,null,6584.3250000000007,5382.0250000000005,null,5596.6762500000004,4574.7212500000005]
[82,null,{"$f":"C1193*$K$3","v":5596.6762500000004},4574.7212499999996,0,0,0,null,6584.3250000000007,5382.0250000000005,null,5596.6762500000004,4574.7212500000005]
[83,null,{"$f":"C1194*$K$3","v":5596.6762500000004},4574.7212499999996,0,0,0,null,{"$f":"I1194*$K$3","v":6584.3250000000007},5382.0250000000005,null,{"$f":"I1343*0.85","v":5596.6762500000004},{"$f":"J1343*0.85","v":4574.7212500000005}]
[84,"o más",{"$f":"C1195*$K$3","v":5596.6762500000004},4574.7212499999996,0,0,0,null,6584.3250000000007,5382.0250000000005,null,5596.6762500000004,4574.7212500000005]
[1,"Hijo",{"$f":"C1196*$K$3","v":265.54000000000002},208.505,0,0,0,null,312.40000000000003,245.3,null,{"$f":"I1345*0.85","v":265.54000000000002},{"$f":"J1345*0.85","v":208.505}]
[2,"Hijos",{"$f":"C1197*$K$3","v":450.67},354.13125000000002,0,0,0,null,530.20000000000005,416.62500000000006,null,{"$f":"I1346*0.85","v":450.67},{"$f":"J1346*0.85","v":354.13125000000002}]
[3,"Hijos o más",{"$f":"C1198*$K$3","v":636.50125000000003},499.29,0,0,0,null,748.82500000000005,587.40000000000009,null,636.50125000000003,499.29000000000008]
[]
["BUPA GLOBAL MM"]
["TARIFAS SEMESTRAL"]
["EDAD"]
[" "," ",10000,20000]
[18,null,{"$f":"C1129*$K$4","v":1211.845},{"$f":"D1129*$K$4","v":939.29250000000002},0,0,0,null,{"$f":"I1129*$K$4","v":1425.7},{"$f":"J1129*$K$4","v":1105.05},null,{"$f":"I1353*0.85","v":1211.845},{"$f":"J1353*0.85","v":939.2924999999999}]
[19,null,{"$f":"C1130*$K$4","v":1211.845},939.29250000000002,0,0,0,null,{"$f":"I1130*$K$4","v":1425.7},1105.05,null,{"$f":"I1354*0.85","v":1211.845},{"$f":"J1354*0.85","v":939.2924999999999}]
[20,null,{"$f":"C1131*$K$4","v":1211.845},939.29250000000002,0,0,0,null,1425.7,1105.05,null,1211.845,939.2924999999999]
[21,null,{"$f":"C1132*$K$4","v":1211.845},939.29250000000002,0,0,0,null,1425.7,1105.05,null,1211.845,939.2924999999999]
[22,null,{"$f":"C1133*$K$4","v":1211.845},939.29250000000002,0,0,0,null,1425.7,1105.05,null,1211.845,939.2924999999999]
[23,null,{"$f":"C1134*$K$4","v":1211.845},939.29250000000002,0,0,0,null,1425.7,1105.05,null,1211.845,939.2924999999999]
[24,null,{"$f":"C1135*$K$4","v":1211.845},939.29250000000002,0,0,0,null,1425.7,1105.05,null,1211.845,939.2924999999999]
[25,null,{"$f":"C1136*$K$4","v":1296.539},996.95650000000001,0,0,0,null,1525.3400000000001,1172.8900000000001,null,1296.539,996.95650000000001]
[26,null,{"$f":"C1137*$K$4","v":1296.539},996.95650000000001,0,0,0,null,1525.3400000000001,1172.8900000000001,null,1296.539,996.95650000000001]
[27,null,{"$f":"C1138*$K$4","v":1296.539},996.95650000000001,0,0,0,null,1525.3400000000001,1172.8900000000001,null,1296.539,996.95650000000001]
[28,null,{"$f":"C1139*$K$4","v":1296.539},996.95650000000001,0,0,0,null,1525.3400000000001,1172.8900000000001,null,1296.539,996.95650000000001]
[29,null,{"$f":"C1140*$K$4","v":1296.539},996.95650000000001,0,0,0,null,1525.3400000000001,1172.8900000000001,null,1296.539,996.95650000000001]
[30,null,{"$f":"C1141*$K$4","v":1444.3030000000001},1101.4725000000001,0,0,0,null,1699.18,1295.8500000000001,null,1444.3030000000001,1101.4725000000001]
[31,null,{"$f":"C1142*$K$4","v":1444.3030000000001},1101.4725000000001,0,0,0,null,1699.18,1295.8500000000001,null,1444.3030000000001,1101.4725000000001]
[32,null,{"$f":"C1143*$K$4","v":1444.3030000000001},1101.4725000000001,0,0,0,null,1699.18,1295.8500000000001,null,1444.3030000000001,1101.4725000000001]
[33,null,{"$f":"C1144*$K$4","v":1444.3030000000001},1101.4725000000001,0,0,0,null,1699.18,1295.8500000000001,null,1444.3030000000001,1101.4725000000001]
[34,null,{"$f":"C1145*$K$4","v":1444.3030000000001},1101.4725000000001,0,0,0,null,1699.18,1295.8500000000001,null,1444.3030000000001,1101.4725000000001]
[35,null,{"$f":"C1146*$K$4","v":1615.0425},1226.7114999999999,0,0,0,null,1900.0500000000002,1443.19,null,1615.0425,1226.7115000000001]
[36,null,{"$f":"C1147*$K$4","v":1615.0425},1226.7114999999999,0,0,0,null,1900.0500000000002,1443.19,null,1615.0425,1226.7115000000001]
[37,null,{"$f":"C1148*$K$4","v":1615.0425},1226.7114999999999,0,0,0,null,1900.0500000000002,1443.19,null,1615.0425,1226.7115000000001]
[38,null,{"$f":"C1149*$K$4","v":1615.0425},1226.7114999999999,0,0,0,null,1900.0500000000002,1443.19,null,1615.0425,1226.7115000000001]
[39,null,{"$f":"C1150*$K$4","v":1615.0425},1226.7114999999999,0,0,0,null,1900.0500000000002,1443.19,null,1615.0425,1226.7115000000001]
[40,null,{"$f":"C1151*$K$4","v":1869.575},1418.6245000000001,0,0,0,null,2199.5,1668.97,null,1869.575,1418.6244999999999]
[41,null,{"$f":"C1152*$K$4","v":1869.575},1418.6245000000001,0,0,0,null,2199.5,1668.97,null,1869.575,1418.6244999999999]
[42,null,{"$f":"C1153*$K$4","v":1869.575},1418.6245000000001,0,0,0,null,2199.5,1668.97,null,1869.575,1418.6244999999999]
[43,null,{"$f":"C1154*$K$4","v":1869.575},1418.6245000000001,0,0,0,null,2199.5,1668.97,null,1869.575,1418.6244999999999]
[44,null,{"$f":"C1155*$K$4","v":1869.575},1418.6245000000001,0,0,0,null,2199.5,1668.97,null,1869.575,1418.6244999999999]
[45,null,{"$f":"C1156*$K$4","v":2093.4735000000001},1591.1659999999999,0,0,0,null,2462.9100000000003,1871.96,null,2093.4735000000001,1591.1659999999999]
[46,null,{"$f":"C1157*$K$4","v":2093.4735000000001},1591.1659999999999,0,0,0,null,2462.9100000000003,1871.96,null,2093.4735000000001,1591.1659999999999]
[47,null,{"$f":"C1158*$K$4","v":2093.4735000000001},1591.1659999999999,0,0,0,null,2462.9100000000003,1871.96,null,2093.4735000000001,1591.1659999999999]
[48,null,{"$f":"C1159*$K$4","v":2093.4735000000001},1591.1659999999999,0,0,0,null,2462.9100000000003,1871.96,null,2093.4735000000001,1591.1659999999999]
[49,null,{"$f":"C1160*$K$4","v":2093.4735000000001},1591.1659999999999,0,0,0,null,2462.9100000000003,1871.96,null,2093.4735000000001,1591.1659999999999]
[50,null,{"$f":"C1161*$K$4","v":2420.5365000000002},1842.9955,0,0,0,null,2847.69,2168.23,null,2420.5365000000002,1842.9955]
[51,null,{"$f":"C1162*$K$4","v":2420.5365000000002},1842.9955,0,0,0,null,2847.69,2168.23,null,2420.5365000000002,1842.9955]
[52,null,{"$f":"C1163*$K$4","v":2420.5365000000002},1842.9955,0,0,0,null,2847.69,2168.23,null,2420.5365000000002,1842.9955]
[53,null,{"$f":"C1164*$K$4","v":2420.5365000000002},1842.9955,0,0,0,null,2847.69,2168.23,null,2420.5365000000002,1842.9955]
[54,null,{"$f":"C1165*$K$4","v":2420.5365000000002},1842.9955,0,0,0,null,2847.69,2168.23,null,2420.5365000000002,1842.9955]
[55,null,{"$f":"C1166*$K$4","v":2705.2525000000001},2069.1464999999998,0,0,0,null,3182.65,2434.29,null,2705.2525000000001,2069.1464999999998]
[56,null,{"$f":"C1167*$K$4","v":2705.2525000000001},2069.1464999999998,0,0,0,null,3182.65,2434.29,null,2705.2525000000001,2069.1464999999998]
[57,null,{"$f":"C1168*$K$4","v":2705.2525000000001},2069.1464999999998,0,0,0,null,3182.65,2434.29,null,2705.2525000000001,2069.1464999999998]
[58,null,{"$f":"C1169*$K$4","v":2705.2525000000001},2069.1464999999998,0,0,0,null,3182.65,2434.29,null,2705.2525000000001,2069.1464999999998]
[59,null,{"$f":"C1170*$K$4","v":2705.2525000000001},2069.1464999999998,0,0,0,null,3182.65,2434.29,null,2705.2525000000001,2069.1464999999998]
[60,null,{"$f":"C1171*$K$4","v":2894.0120000000002},2219.163,0,0,0,null,3404.7200000000003,2610.7800000000002,null,2894.0120000000002,2219.163]
[61,null,{"$f":"C1172*$K$4","v":3273.7835},2524.1515000000004,0,0,0,null,3851.51,2969.59,null,3273.7835,2524.1514999999999]
[62,null,{"$f":"C1173*$K$4","v":3635.9854999999998},2817.8775000000001,0,0,0,null,4277.63,3315.15,null,3635.9854999999998,2817.8775000000001]
[63,null,{"$f":"C1174*$K$4","v":4024.3165000000004},3134.1285000000003,0,0,0,null,4734.4900000000007,3687.21,null,4024.3165000000004,3134.1284999999998]
[64,null,{"$f":"C1175*$K$4","v":4440.1280000000006},3476.058,0,0,0,null,5223.68,4089.48,null,4440.1279999999997,3476.058]
[65,null,{"$f":"C1176*$K$4","v":4882.0684999999994},3840.9629999999997,0,0,0,null,5743.6100000000006,4518.7800000000007,null,4882.0685000000003,3840.9630000000006]
[66,null,{"$f":"C1177*$K$4","v":5351.9400000000005},4231.0960000000005,0,0,0,null,6296.4000000000005,4977.76,null,5351.9400000000005,4231.0960000000005]
[67,null,{"$f":"C1178*$K$4","v":5848.3909999999996},4643.7539999999999,0,0,0,null,6880.46,5463.2400000000007,null,5848.3909999999996,4643.7540000000008]
[68,null,{"$f":"C1179*$K$4","v":6371.4215000000004},5082.0905000000002,0,0,0,null,7495.79,5978.93,null,6371.4214999999995,5082.0905000000002]
[69,null,{"$f":"C1180*$K$4","v":6921.0315000000001},5542.9520000000002,0,0,0,null,8142.39,6521.12,null,6921.0315000000001,5542.9519999999993]
[70,null,{"$f":"C1181*$K$4","v":7496.3200000000006},6027.6900000000005,0,0,0,null,8819.2000000000007,7091.4000000000005,null,7496.3200000000006,6027.6900000000005]
[71,null,{"$f":"C1182*$K$4","v":8102.2425000000003},6537.2055000000009,0,0,0,null,9532.0500000000011,7690.8300000000008,null,8102.2425000000003,6537.2055000000009]
[72,null,{"$f":"C1183*$K$4","v":8732.942500000001},7071.4984999999997,0,0,0,null,10274.050000000001,8319.41,null,8732.942500000001,7071.4984999999997]
[73,null,{"$f":"C1184*$K$4","v":9390.6725000000006},7628.7669999999998,0,0,0,null,11047.85,8975.02,null,9390.6725000000006,7628.7669999999998]
[74,null,{"$f":"C1185*$K$4","v":10074.531500000001},8210.3625000000011,0,0,0,null,11852.390000000001,9659.25,null,10074.531500000001,8210.3624999999993]
[75,null,{"$f":"C1186*$K$4","v":10786.3215},8816.7354999999989,0,0,0,null,12689.79,10372.630000000001,null,10786.3215,8816.7355000000007]
[76,null,{"$f":"C1187*$K$4","v":10786.3215},8816.7354999999989,0,0,0,null,12689.79,10372.630000000001,null,10786.3215,8816.7355000000007]
[77,null,{"$f":"C1188*$K$4","v":10786.3215},8816.7354999999989,0,0,0,null,12689.79,10372.630000000001,null,10786.3215,8816.7355000000007]
[78,null,{"$f":"C1189*$K$4","v":10786.3215},8816.7354999999989,0,0,0,null,12689.79,10372.630000000001,null,10786.3215,8816.7355000000007]
[79,null,{"$f":"C1190*$K$4","v":10786.3215},8816.7354999999989,0,0,0,null,12689.79,10372.630000000001,null,10786.3215,8816.7355000000007]
[80,null,{"$f":"C1191*$K$4","v":10786.3215},8816.7354999999989,0,0,0,null,12689.79,10372.630000000001,null,10786.3215,8816.7355000000007]
[81,null,{"$f":"C1192*$K$4","v":10786.3215},8816.7354999999989,0,0,0,null,12689.79,10372.630000000001,null,10786.3215,8816.7355000000007]
[82,null,{"$f":"C1193*$K$4","v":10786.3215},8816.7354999999989,0,0,0,null,12689.79,10372.630000000001,null,10786.3215,8816.7355000000007]
[83,null,{"$f":"C1194*$K$4","v":10786.3215},8816.7354999999989,0,0,0,null,{"$f":"I1194*$K$4","v":12689.79},10372.630000000001,null,{"$f":"I1418*0.85","v":10786.3215},{"$f":"J1418*0.85","v":8816.7355000000007}]
[84,"o más",{"$f":"C1195*$K$4","v":10786.3215},8816.7354999999989,0,0,0,null,12689.79,10372.630000000001,null,10786.3215,8816.7355000000007]
[1,"Hijo",{"$f":"C1196*$K$4","v":511.76800000000003},401.846,0,0,0,null,602.08000000000004,472.76000000000005,null,{"$f":"I1420*0.85","v":511.76800000000003},{"$f":"J1420*0.85","v":401.846}]
[2,"Hijos",{"$f":"C1197*$K$4","v":868.56399999999996},682.50750000000005,0,0,0,null,1021.84,802.95,null,{"$f":"I1421*0.85","v":868.56399999999996},{"$f":"J1421*0.85","v":682.50750000000005}]
[3,"Hijos o más",{"$f":"C1198*$K$4","v":1226.7114999999999},962.26800000000003,0,0,0,null,1443.19,1132.0800000000002,null,1226.7115000000001,962.26800000000014]
[]
["BUPA GLOBAL ULTIMATE"]
["TARIFAS SEMESTRALES"]
["EDAD"]
[" "," ",0,1000,2000]
[18,null,{"$f":"C905*$K$4","v":12232.400000000001},{"$f":"D905*$K$4","v":7892.2300000000005},0,0,0]
[19,null,{"$f":"C906*$K$4","v":12232.400000000001},7892.2300000000005,0,154.14643750000002,0]
[20,null,12232.400000000001,7892.2300000000005,0,154.14643750000002,0]
[21,null,12232.400000000001,7892.2300000000005,0,154.14643750000002,0]
[22,null,12232.400000000001,7892.2300000000005,0,154.14643750000002,0]
[23,null,12232.400000000001,7892.2300000000005,0,154.14643750000002,0]
[24,null,12232.400000000001,7892.2300000000005,0,154.14643750000002,0]
[25,null,13113.79,8460.92,0,154.14643750000002,0]
[26,null,13113.79,8460.92,0,162.95296875000003,0]
[27,null,13113.79,8460.92,0,162.95296875000003,0]
[28,null,13113.79,8460.92,0,162.95296875000003,0]
[29,null,13113.79,8460.92,0,162.95296875000003,0]
[30,null,14634.36,9443.5400000000009,0,162.95296875000003,0]
[31,null,14634.36,9443.5400000000009,0,178.89471875000001,0]
[32,null,14634.36,9443.5400000000009,0,178.89471875000001,0]
[33,null,14634.36,9443.5400000000009,0,178.89471875000001,0]
[34,null,14634.36,9443.5400000000009,0,178.89471875000001,0]
[35,null,16369.58,10561.84,0,178.89471875000001,0]
[36,null,16369.58,10561.84,0,197.72912500000001,0]
[37,null,16369.58,10561.84,0,197.72912500000001,0]
[38,null,16369.58,10561.84,0,197.72912500000001,0]
[39,null,16369.58,10561.84,0,197.72912500000001,0]
[40,null,18960.22,12234.52,0,197.72912500000001,0]
[41,null,18960.22,12234.52,0,219.84187500000004,0]
[42,null,18960.22,12234.52,0,219.84187500000004,0]
[43,null,18960.22,12234.52,0,219.84187500000004,0]
[44,null,18960.22,12234.52,0,219.84187500000004,0]
[45,null,21220.14,13691.49,0,219.84187500000004,0]
[46,null,21220.14,13691.49,0,244.59015625000004,0]
[47,null,21220.14,13691.49,0,244.59015625000004,0]
[48,null,21220.14,13691.49,0,244.59015625000004,0]
[49,null,21220.14,13691.49,0,244.59015625000004,0]
[50,null,24513.030000000002,15815.2,0,244.59015625000004,0]
[51,null,24513.030000000002,15815.2,0,272.93818750000003,0]
[52,null,24513.030000000002,15815.2,0,272.93818750000003,0]
[53,null,24513.030000000002,15815.2,0,272.93818750000003,0]
[54,null,24513.030000000002,15815.2,0,272.93818750000003,0]
[55,null,27375.030000000002,17663.84,0,272.93818750000003,0]
[56,null,27375.030000000002,17663.84,0,304.30743750000011,0]
[57,null,27375.030000000002,17663.84,0,304.30743750000011,0]
[58,null,27375.030000000002,17663.84,0,304.30743750000011,0]
[59,null,27375.030000000002,17663.84,0,304.30743750000011,0]
[60,null,29275.08,18889.2,0,304.30743750000011,0]
[61,null,33082.6,21345.22,0,325.19884375000004,0]
[62,null,36696.14,23677.22,0,362.03200000000004,0]
[63,null,40574.15,26178.29,0,402.07921875000005,0]
[64,null,44714.51,28847.9,0,445.14765625000013,0]
[65,null,49117.75,31690.29,0,491.55871875000008,0]
[66,null,53783.340000000004,34698.04,0,541.18384375000005,0]
[67,null,58711.810000000005,37880.160000000003,0,593.95875000000012,0]
[68,null,63902.100000000006,41228.700000000004,0,650.07628125000008,0]
[69,null,69355.8,44746.840000000004,0,709.21503125000004,0]
[70,null,75072.91,48436.170000000006,0,771.63212500000009,0]
[71,null,81053.430000000008,52294.04,0,837.19900000000007,0]
[72,null,87295.77,56320.450000000004,0,906.10850000000016,0]
[73,null,93803.64,60518.05,0,978.10350000000017,0]
[74,null,100568.56000000001,64883.130000000005,0,1053.3125625000002,0]
[75,null,107600.07,69422.05,0,1131.7999687500003,0]
[76,null,107600.07,69422.05,0,1213.5014375000001,0]
[77,null,107600.07,69422.05,0,1213.5014375000001,0]
[78,null,107600.07,69422.05,0,1213.5014375000001,0]
[79,null,107600.07,69422.05,0,1213.5014375000001,0]
[80,null,107600.07,69422.05,0,1213.5014375000001,0]
[81,null,107600.07,69422.05,0,1213.5014375000001,0]
[82,null,107600.07,69422.05,0,1213.5014375000001,0]
[83,null,{"$f":"C970*$K$4","v":107600.07},69422.05,0,1213.5014375000001,0]
[84,"o más",107600.07,69422.05,0,1213.5014375000001,0]
[1,"Hijo",5145.2400000000007,3320.98,0,1213.5014375000001,0]
[2,"Hijos",8746.59,5643.97,0,65.952562500000013,0]
[3,"Hijos o más",12346.35,7968.02,0,112.1065,0]